BEGIN:VCALENDAR
VERSION:2.0
X-WR-CALNAME:POLI 110B (A00) - Sovereigns,Subj & Modern State
METHOD:PUBLISH
BEGIN:VEVENT
ORGANIZER:
DTSTART:20200107T220000Z
DTEND:20200107T232000Z
LOCATION:SEQUO 147
UID:220260420T043127Z
DTSTAMP:20260420T043127Z
SUMMARY:POLI 110B (A00) (LE)
DESCRIPTION:
PRIORITY:5
CLASS:PUBLIC
END:VEVENT
BEGIN:VEVENT
ORGANIZER:
DTSTART:20200109T220000Z
DTEND:20200109T232000Z
LOCATION:SEQUO 147
UID:420260420T043127Z
DTSTAMP:20260420T043127Z
SUMMARY:POLI 110B (A00) (LE)
DESCRIPTION:
PRIORITY:5
CLASS:PUBLIC
END:VEVENT
BEGIN:VEVENT
ORGANIZER:
DTSTART:20200114T220000Z
DTEND:20200114T232000Z
LOCATION:SEQUO 147
UID:920260420T043127Z
DTSTAMP:20260420T043127Z
SUMMARY:POLI 110B (A00) (LE)
DESCRIPTION:
PRIORITY:5
CLASS:PUBLIC
END:VEVENT
BEGIN:VEVENT
ORGANIZER:
DTSTART:20200116T220000Z
DTEND:20200116T232000Z
LOCATION:SEQUO 147
UID:1120260420T043127Z
DTSTAMP:20260420T043127Z
SUMMARY:POLI 110B (A00) (LE)
DESCRIPTION:
PRIORITY:5
CLASS:PUBLIC
END:VEVENT
BEGIN:VEVENT
ORGANIZER:
DTSTART:20200121T220000Z
DTEND:20200121T232000Z
LOCATION:SEQUO 147
UID:1620260420T043127Z
DTSTAMP:20260420T043127Z
SUMMARY:POLI 110B (A00) (LE)
DESCRIPTION:
PRIORITY:5
CLASS:PUBLIC
END:VEVENT
BEGIN:VEVENT
ORGANIZER:
DTSTART:20200123T220000Z
DTEND:20200123T232000Z
LOCATION:SEQUO 147
UID:1820260420T043127Z
DTSTAMP:20260420T043127Z
SUMMARY:POLI 110B (A00) (LE)
DESCRIPTION:
PRIORITY:5
CLASS:PUBLIC
END:VEVENT
BEGIN:VEVENT
ORGANIZER:
DTSTART:20200128T220000Z
DTEND:20200128T232000Z
LOCATION:SEQUO 147
UID:2320260420T043127Z
DTSTAMP:20260420T043127Z
SUMMARY:POLI 110B (A00) (LE)
DESCRIPTION:
PRIORITY:5
CLASS:PUBLIC
END:VEVENT
BEGIN:VEVENT
ORGANIZER:
DTSTART:20200130T220000Z
DTEND:20200130T232000Z
LOCATION:SEQUO 147
UID:2520260420T043127Z
DTSTAMP:20260420T043127Z
SUMMARY:POLI 110B (A00) (LE)
DESCRIPTION:
PRIORITY:5
CLASS:PUBLIC
END:VEVENT
BEGIN:VEVENT
ORGANIZER:
DTSTART:20200204T220000Z
DTEND:20200204T232000Z
LOCATION:SEQUO 147
UID:3020260420T043127Z
DTSTAMP:20260420T043127Z
SUMMARY:POLI 110B (A00) (LE)
DESCRIPTION:
PRIORITY:5
CLASS:PUBLIC
END:VEVENT
BEGIN:VEVENT
ORGANIZER:
DTSTART:20200206T220000Z
DTEND:20200206T232000Z
LOCATION:SEQUO 147
UID:3220260420T043127Z
DTSTAMP:20260420T043127Z
SUMMARY:POLI 110B (A00) (LE)
DESCRIPTION:
PRIORITY:5
CLASS:PUBLIC
END:VEVENT
BEGIN:VEVENT
ORGANIZER:
DTSTART:20200211T220000Z
DTEND:20200211T232000Z
LOCATION:SEQUO 147
UID:3720260420T043127Z
DTSTAMP:20260420T043127Z
SUMMARY:POLI 110B (A00) (LE)
DESCRIPTION:
PRIORITY:5
CLASS:PUBLIC
END:VEVENT
BEGIN:VEVENT
ORGANIZER:
DTSTART:20200213T220000Z
DTEND:20200213T232000Z
LOCATION:SEQUO 147
UID:3920260420T043127Z
DTSTAMP:20260420T043127Z
SUMMARY:POLI 110B (A00) (LE)
DESCRIPTION:
PRIORITY:5
CLASS:PUBLIC
END:VEVENT
BEGIN:VEVENT
ORGANIZER:
DTSTART:20200218T220000Z
DTEND:20200218T232000Z
LOCATION:SEQUO 147
UID:4420260420T043127Z
DTSTAMP:20260420T043127Z
SUMMARY:POLI 110B (A00) (LE)
DESCRIPTION:
PRIORITY:5
CLASS:PUBLIC
END:VEVENT
BEGIN:VEVENT
ORGANIZER:
DTSTART:20200220T220000Z
DTEND:20200220T232000Z
LOCATION:SEQUO 147
UID:4620260420T043127Z
DTSTAMP:20260420T043127Z
SUMMARY:POLI 110B (A00) (LE)
DESCRIPTION:
PRIORITY:5
CLASS:PUBLIC
END:VEVENT
BEGIN:VEVENT
ORGANIZER:
DTSTART:20200225T220000Z
DTEND:20200225T232000Z
LOCATION:SEQUO 147
UID:5120260420T043127Z
DTSTAMP:20260420T043127Z
SUMMARY:POLI 110B (A00) (LE)
DESCRIPTION:
PRIORITY:5
CLASS:PUBLIC
END:VEVENT
BEGIN:VEVENT
ORGANIZER:
DTSTART:20200227T220000Z
DTEND:20200227T232000Z
LOCATION:SEQUO 147
UID:5320260420T043127Z
DTSTAMP:20260420T043127Z
SUMMARY:POLI 110B (A00) (LE)
DESCRIPTION:
PRIORITY:5
CLASS:PUBLIC
END:VEVENT
BEGIN:VEVENT
ORGANIZER:
DTSTART:20200303T220000Z
DTEND:20200303T232000Z
LOCATION:SEQUO 147
UID:5820260420T043127Z
DTSTAMP:20260420T043127Z
SUMMARY:POLI 110B (A00) (LE)
DESCRIPTION:
PRIORITY:5
CLASS:PUBLIC
END:VEVENT
BEGIN:VEVENT
ORGANIZER:
DTSTART:20200305T220000Z
DTEND:20200305T232000Z
LOCATION:SEQUO 147
UID:6020260420T043127Z
DTSTAMP:20260420T043127Z
SUMMARY:POLI 110B (A00) (LE)
DESCRIPTION:
PRIORITY:5
CLASS:PUBLIC
END:VEVENT
BEGIN:VEVENT
ORGANIZER:
DTSTART:20200310T210000Z
DTEND:20200310T222000Z
LOCATION:SEQUO 147
UID:6520260420T043127Z
DTSTAMP:20260420T043127Z
SUMMARY:POLI 110B (A00) (LE)
DESCRIPTION:
PRIORITY:5
CLASS:PUBLIC
END:VEVENT
BEGIN:VEVENT
ORGANIZER:
DTSTART:20200312T210000Z
DTEND:20200312T222000Z
LOCATION:SEQUO 147
UID:6720260420T043127Z
DTSTAMP:20260420T043127Z
SUMMARY:POLI 110B (A00) (LE)
DESCRIPTION:
PRIORITY:5
CLASS:PUBLIC
END:VEVENT
BEGIN:VEVENT
ORGANIZER:
DTSTART:20200319T220000Z
DTEND:20200320T005900Z
LOCATION: TBA
UID:7020260420T043127Z
DTSTAMP:20260420T043127Z
SUMMARY:POLI 110B (A00) (FI)
DESCRIPTION:
PRIORITY:5
CLASS:PUBLIC
END:VEVENT
END:VCALENDAR