BEGIN:VCALENDAR
VERSION:2.0
X-WR-CALNAME:POLI 100B (A00) - The U. S. Congress
METHOD:PUBLISH
BEGIN:VEVENT
ORGANIZER:
DTSTART:20200107T173000Z
DTEND:20200107T185000Z
LOCATION:CENTR 214
UID:220260420T022838Z
DTSTAMP:20260420T022838Z
SUMMARY:POLI 100B (A00) (LE)
DESCRIPTION:
PRIORITY:5
CLASS:PUBLIC
END:VEVENT
BEGIN:VEVENT
ORGANIZER:
DTSTART:20200109T173000Z
DTEND:20200109T185000Z
LOCATION:CENTR 214
UID:420260420T022838Z
DTSTAMP:20260420T022838Z
SUMMARY:POLI 100B (A00) (LE)
DESCRIPTION:
PRIORITY:5
CLASS:PUBLIC
END:VEVENT
BEGIN:VEVENT
ORGANIZER:
DTSTART:20200114T173000Z
DTEND:20200114T185000Z
LOCATION:CENTR 214
UID:920260420T022838Z
DTSTAMP:20260420T022838Z
SUMMARY:POLI 100B (A00) (LE)
DESCRIPTION:
PRIORITY:5
CLASS:PUBLIC
END:VEVENT
BEGIN:VEVENT
ORGANIZER:
DTSTART:20200116T173000Z
DTEND:20200116T185000Z
LOCATION:CENTR 214
UID:1120260420T022838Z
DTSTAMP:20260420T022838Z
SUMMARY:POLI 100B (A00) (LE)
DESCRIPTION:
PRIORITY:5
CLASS:PUBLIC
END:VEVENT
BEGIN:VEVENT
ORGANIZER:
DTSTART:20200121T173000Z
DTEND:20200121T185000Z
LOCATION:CENTR 214
UID:1620260420T022838Z
DTSTAMP:20260420T022838Z
SUMMARY:POLI 100B (A00) (LE)
DESCRIPTION:
PRIORITY:5
CLASS:PUBLIC
END:VEVENT
BEGIN:VEVENT
ORGANIZER:
DTSTART:20200123T173000Z
DTEND:20200123T185000Z
LOCATION:CENTR 214
UID:1820260420T022838Z
DTSTAMP:20260420T022838Z
SUMMARY:POLI 100B (A00) (LE)
DESCRIPTION:
PRIORITY:5
CLASS:PUBLIC
END:VEVENT
BEGIN:VEVENT
ORGANIZER:
DTSTART:20200128T173000Z
DTEND:20200128T185000Z
LOCATION:CENTR 214
UID:2320260420T022838Z
DTSTAMP:20260420T022838Z
SUMMARY:POLI 100B (A00) (LE)
DESCRIPTION:
PRIORITY:5
CLASS:PUBLIC
END:VEVENT
BEGIN:VEVENT
ORGANIZER:
DTSTART:20200130T173000Z
DTEND:20200130T185000Z
LOCATION:CENTR 214
UID:2520260420T022838Z
DTSTAMP:20260420T022838Z
SUMMARY:POLI 100B (A00) (LE)
DESCRIPTION:
PRIORITY:5
CLASS:PUBLIC
END:VEVENT
BEGIN:VEVENT
ORGANIZER:
DTSTART:20200204T173000Z
DTEND:20200204T185000Z
LOCATION:CENTR 214
UID:3020260420T022838Z
DTSTAMP:20260420T022838Z
SUMMARY:POLI 100B (A00) (LE)
DESCRIPTION:
PRIORITY:5
CLASS:PUBLIC
END:VEVENT
BEGIN:VEVENT
ORGANIZER:
DTSTART:20200206T173000Z
DTEND:20200206T185000Z
LOCATION:CENTR 214
UID:3220260420T022838Z
DTSTAMP:20260420T022838Z
SUMMARY:POLI 100B (A00) (LE)
DESCRIPTION:
PRIORITY:5
CLASS:PUBLIC
END:VEVENT
BEGIN:VEVENT
ORGANIZER:
DTSTART:20200211T173000Z
DTEND:20200211T185000Z
LOCATION:CENTR 214
UID:3720260420T022838Z
DTSTAMP:20260420T022838Z
SUMMARY:POLI 100B (A00) (LE)
DESCRIPTION:
PRIORITY:5
CLASS:PUBLIC
END:VEVENT
BEGIN:VEVENT
ORGANIZER:
DTSTART:20200213T173000Z
DTEND:20200213T185000Z
LOCATION:CENTR 214
UID:3920260420T022838Z
DTSTAMP:20260420T022838Z
SUMMARY:POLI 100B (A00) (LE)
DESCRIPTION:
PRIORITY:5
CLASS:PUBLIC
END:VEVENT
BEGIN:VEVENT
ORGANIZER:
DTSTART:20200218T173000Z
DTEND:20200218T185000Z
LOCATION:CENTR 214
UID:4420260420T022838Z
DTSTAMP:20260420T022838Z
SUMMARY:POLI 100B (A00) (LE)
DESCRIPTION:
PRIORITY:5
CLASS:PUBLIC
END:VEVENT
BEGIN:VEVENT
ORGANIZER:
DTSTART:20200220T173000Z
DTEND:20200220T185000Z
LOCATION:CENTR 214
UID:4620260420T022838Z
DTSTAMP:20260420T022838Z
SUMMARY:POLI 100B (A00) (LE)
DESCRIPTION:
PRIORITY:5
CLASS:PUBLIC
END:VEVENT
BEGIN:VEVENT
ORGANIZER:
DTSTART:20200225T173000Z
DTEND:20200225T185000Z
LOCATION:CENTR 214
UID:5120260420T022838Z
DTSTAMP:20260420T022838Z
SUMMARY:POLI 100B (A00) (LE)
DESCRIPTION:
PRIORITY:5
CLASS:PUBLIC
END:VEVENT
BEGIN:VEVENT
ORGANIZER:
DTSTART:20200227T173000Z
DTEND:20200227T185000Z
LOCATION:CENTR 214
UID:5320260420T022838Z
DTSTAMP:20260420T022838Z
SUMMARY:POLI 100B (A00) (LE)
DESCRIPTION:
PRIORITY:5
CLASS:PUBLIC
END:VEVENT
BEGIN:VEVENT
ORGANIZER:
DTSTART:20200303T173000Z
DTEND:20200303T185000Z
LOCATION:CENTR 214
UID:5820260420T022838Z
DTSTAMP:20260420T022838Z
SUMMARY:POLI 100B (A00) (LE)
DESCRIPTION:
PRIORITY:5
CLASS:PUBLIC
END:VEVENT
BEGIN:VEVENT
ORGANIZER:
DTSTART:20200305T173000Z
DTEND:20200305T185000Z
LOCATION:CENTR 214
UID:6020260420T022838Z
DTSTAMP:20260420T022838Z
SUMMARY:POLI 100B (A00) (LE)
DESCRIPTION:
PRIORITY:5
CLASS:PUBLIC
END:VEVENT
BEGIN:VEVENT
ORGANIZER:
DTSTART:20200310T163000Z
DTEND:20200310T175000Z
LOCATION:CENTR 214
UID:6520260420T022838Z
DTSTAMP:20260420T022838Z
SUMMARY:POLI 100B (A00) (LE)
DESCRIPTION:
PRIORITY:5
CLASS:PUBLIC
END:VEVENT
BEGIN:VEVENT
ORGANIZER:
DTSTART:20200312T163000Z
DTEND:20200312T175000Z
LOCATION:CENTR 214
UID:6720260420T022838Z
DTSTAMP:20260420T022838Z
SUMMARY:POLI 100B (A00) (LE)
DESCRIPTION:
PRIORITY:5
CLASS:PUBLIC
END:VEVENT
BEGIN:VEVENT
ORGANIZER:
DTSTART:20200317T150000Z
DTEND:20200317T175900Z
LOCATION: TBA
UID:7020260420T022838Z
DTSTAMP:20260420T022838Z
SUMMARY:POLI 100B (A00) (FI)
DESCRIPTION:
PRIORITY:5
CLASS:PUBLIC
END:VEVENT
END:VCALENDAR