BEGIN:VCALENDAR
VERSION:2.0
X-WR-CALNAME:POLI 122D (A00) - Abuse of Power
METHOD:PUBLISH
BEGIN:VEVENT
ORGANIZER:
DTSTART:20190926T210000Z
DTEND:20190926T222000Z
LOCATION:PETER 102
UID:120260420T053909Z
DTSTAMP:20260420T053909Z
SUMMARY:POLI 122D (A00) (LE)
DESCRIPTION:
PRIORITY:5
CLASS:PUBLIC
END:VEVENT
BEGIN:VEVENT
ORGANIZER:
DTSTART:20191001T210000Z
DTEND:20191001T222000Z
LOCATION:PETER 102
UID:620260420T053909Z
DTSTAMP:20260420T053909Z
SUMMARY:POLI 122D (A00) (LE)
DESCRIPTION:
PRIORITY:5
CLASS:PUBLIC
END:VEVENT
BEGIN:VEVENT
ORGANIZER:
DTSTART:20191003T210000Z
DTEND:20191003T222000Z
LOCATION:PETER 102
UID:820260420T053909Z
DTSTAMP:20260420T053909Z
SUMMARY:POLI 122D (A00) (LE)
DESCRIPTION:
PRIORITY:5
CLASS:PUBLIC
END:VEVENT
BEGIN:VEVENT
ORGANIZER:
DTSTART:20191008T210000Z
DTEND:20191008T222000Z
LOCATION:PETER 102
UID:1320260420T053909Z
DTSTAMP:20260420T053909Z
SUMMARY:POLI 122D (A00) (LE)
DESCRIPTION:
PRIORITY:5
CLASS:PUBLIC
END:VEVENT
BEGIN:VEVENT
ORGANIZER:
DTSTART:20191010T210000Z
DTEND:20191010T222000Z
LOCATION:PETER 102
UID:1520260420T053909Z
DTSTAMP:20260420T053909Z
SUMMARY:POLI 122D (A00) (LE)
DESCRIPTION:
PRIORITY:5
CLASS:PUBLIC
END:VEVENT
BEGIN:VEVENT
ORGANIZER:
DTSTART:20191015T210000Z
DTEND:20191015T222000Z
LOCATION:PETER 102
UID:2020260420T053909Z
DTSTAMP:20260420T053909Z
SUMMARY:POLI 122D (A00) (LE)
DESCRIPTION:
PRIORITY:5
CLASS:PUBLIC
END:VEVENT
BEGIN:VEVENT
ORGANIZER:
DTSTART:20191017T210000Z
DTEND:20191017T222000Z
LOCATION:PETER 102
UID:2220260420T053909Z
DTSTAMP:20260420T053909Z
SUMMARY:POLI 122D (A00) (LE)
DESCRIPTION:
PRIORITY:5
CLASS:PUBLIC
END:VEVENT
BEGIN:VEVENT
ORGANIZER:
DTSTART:20191022T210000Z
DTEND:20191022T222000Z
LOCATION:PETER 102
UID:2720260420T053909Z
DTSTAMP:20260420T053909Z
SUMMARY:POLI 122D (A00) (LE)
DESCRIPTION:
PRIORITY:5
CLASS:PUBLIC
END:VEVENT
BEGIN:VEVENT
ORGANIZER:
DTSTART:20191024T210000Z
DTEND:20191024T222000Z
LOCATION:PETER 102
UID:2920260420T053909Z
DTSTAMP:20260420T053909Z
SUMMARY:POLI 122D (A00) (LE)
DESCRIPTION:
PRIORITY:5
CLASS:PUBLIC
END:VEVENT
BEGIN:VEVENT
ORGANIZER:
DTSTART:20191029T210000Z
DTEND:20191029T222000Z
LOCATION:PETER 102
UID:3420260420T053909Z
DTSTAMP:20260420T053909Z
SUMMARY:POLI 122D (A00) (LE)
DESCRIPTION:
PRIORITY:5
CLASS:PUBLIC
END:VEVENT
BEGIN:VEVENT
ORGANIZER:
DTSTART:20191031T210000Z
DTEND:20191031T222000Z
LOCATION:PETER 102
UID:3620260420T053909Z
DTSTAMP:20260420T053909Z
SUMMARY:POLI 122D (A00) (LE)
DESCRIPTION:
PRIORITY:5
CLASS:PUBLIC
END:VEVENT
BEGIN:VEVENT
ORGANIZER:
DTSTART:20191105T220000Z
DTEND:20191105T232000Z
LOCATION:PETER 102
UID:4120260420T053909Z
DTSTAMP:20260420T053909Z
SUMMARY:POLI 122D (A00) (LE)
DESCRIPTION:
PRIORITY:5
CLASS:PUBLIC
END:VEVENT
BEGIN:VEVENT
ORGANIZER:
DTSTART:20191107T220000Z
DTEND:20191107T232000Z
LOCATION:PETER 102
UID:4320260420T053909Z
DTSTAMP:20260420T053909Z
SUMMARY:POLI 122D (A00) (LE)
DESCRIPTION:
PRIORITY:5
CLASS:PUBLIC
END:VEVENT
BEGIN:VEVENT
ORGANIZER:
DTSTART:20191112T220000Z
DTEND:20191112T232000Z
LOCATION:PETER 102
UID:4820260420T053909Z
DTSTAMP:20260420T053909Z
SUMMARY:POLI 122D (A00) (LE)
DESCRIPTION:
PRIORITY:5
CLASS:PUBLIC
END:VEVENT
BEGIN:VEVENT
ORGANIZER:
DTSTART:20191114T220000Z
DTEND:20191114T232000Z
LOCATION:PETER 102
UID:5020260420T053909Z
DTSTAMP:20260420T053909Z
SUMMARY:POLI 122D (A00) (LE)
DESCRIPTION:
PRIORITY:5
CLASS:PUBLIC
END:VEVENT
BEGIN:VEVENT
ORGANIZER:
DTSTART:20191119T220000Z
DTEND:20191119T232000Z
LOCATION:PETER 102
UID:5520260420T053909Z
DTSTAMP:20260420T053909Z
SUMMARY:POLI 122D (A00) (LE)
DESCRIPTION:
PRIORITY:5
CLASS:PUBLIC
END:VEVENT
BEGIN:VEVENT
ORGANIZER:
DTSTART:20191121T220000Z
DTEND:20191121T232000Z
LOCATION:PETER 102
UID:5720260420T053909Z
DTSTAMP:20260420T053909Z
SUMMARY:POLI 122D (A00) (LE)
DESCRIPTION:
PRIORITY:5
CLASS:PUBLIC
END:VEVENT
BEGIN:VEVENT
ORGANIZER:
DTSTART:20191126T220000Z
DTEND:20191126T232000Z
LOCATION:PETER 102
UID:6220260420T053909Z
DTSTAMP:20260420T053909Z
SUMMARY:POLI 122D (A00) (LE)
DESCRIPTION:
PRIORITY:5
CLASS:PUBLIC
END:VEVENT
BEGIN:VEVENT
ORGANIZER:
DTSTART:20191128T220000Z
DTEND:20191128T232000Z
LOCATION:PETER 102
UID:6420260420T053909Z
DTSTAMP:20260420T053909Z
SUMMARY:POLI 122D (A00) (LE)
DESCRIPTION:
PRIORITY:5
CLASS:PUBLIC
END:VEVENT
BEGIN:VEVENT
ORGANIZER:
DTSTART:20191203T220000Z
DTEND:20191203T232000Z
LOCATION:PETER 102
UID:6920260420T053909Z
DTSTAMP:20260420T053909Z
SUMMARY:POLI 122D (A00) (LE)
DESCRIPTION:
PRIORITY:5
CLASS:PUBLIC
END:VEVENT
BEGIN:VEVENT
ORGANIZER:
DTSTART:20191205T220000Z
DTEND:20191205T232000Z
LOCATION:PETER 102
UID:7120260420T053909Z
DTSTAMP:20260420T053909Z
SUMMARY:POLI 122D (A00) (LE)
DESCRIPTION:
PRIORITY:5
CLASS:PUBLIC
END:VEVENT
BEGIN:VEVENT
ORGANIZER:
DTSTART:20191212T230000Z
DTEND:20191213T015900Z
LOCATION: TBA
UID:7420260420T053909Z
DTSTAMP:20260420T053909Z
SUMMARY:POLI 122D (A00) (FI)
DESCRIPTION:
PRIORITY:5
CLASS:PUBLIC
END:VEVENT
END:VCALENDAR