BEGIN:VCALENDAR
VERSION:2.0
X-WR-CALNAME:POLI 12D (A03) - Intro/Poli Sci:Int'l Relations
METHOD:PUBLISH
BEGIN:VEVENT
ORGANIZER:
DTSTART:20190930T180000Z
DTEND:20190930T185000Z
LOCATION:PETER 110
UID:520260420T060940Z
DTSTAMP:20260420T060940Z
SUMMARY:POLI 12D (A00) (LE)
DESCRIPTION:
PRIORITY:5
CLASS:PUBLIC
END:VEVENT
BEGIN:VEVENT
ORGANIZER:
DTSTART:20191002T180000Z
DTEND:20191002T185000Z
LOCATION:PETER 110
UID:720260420T060940Z
DTSTAMP:20260420T060940Z
SUMMARY:POLI 12D (A00) (LE)
DESCRIPTION:
PRIORITY:5
CLASS:PUBLIC
END:VEVENT
BEGIN:VEVENT
ORGANIZER:
DTSTART:20191007T180000Z
DTEND:20191007T185000Z
LOCATION:PETER 110
UID:1220260420T060940Z
DTSTAMP:20260420T060940Z
SUMMARY:POLI 12D (A00) (LE)
DESCRIPTION:
PRIORITY:5
CLASS:PUBLIC
END:VEVENT
BEGIN:VEVENT
ORGANIZER:
DTSTART:20191009T180000Z
DTEND:20191009T185000Z
LOCATION:PETER 110
UID:1420260420T060940Z
DTSTAMP:20260420T060940Z
SUMMARY:POLI 12D (A00) (LE)
DESCRIPTION:
PRIORITY:5
CLASS:PUBLIC
END:VEVENT
BEGIN:VEVENT
ORGANIZER:
DTSTART:20191014T180000Z
DTEND:20191014T185000Z
LOCATION:PETER 110
UID:1920260420T060940Z
DTSTAMP:20260420T060940Z
SUMMARY:POLI 12D (A00) (LE)
DESCRIPTION:
PRIORITY:5
CLASS:PUBLIC
END:VEVENT
BEGIN:VEVENT
ORGANIZER:
DTSTART:20191016T180000Z
DTEND:20191016T185000Z
LOCATION:PETER 110
UID:2120260420T060940Z
DTSTAMP:20260420T060940Z
SUMMARY:POLI 12D (A00) (LE)
DESCRIPTION:
PRIORITY:5
CLASS:PUBLIC
END:VEVENT
BEGIN:VEVENT
ORGANIZER:
DTSTART:20191021T180000Z
DTEND:20191021T185000Z
LOCATION:PETER 110
UID:2620260420T060940Z
DTSTAMP:20260420T060940Z
SUMMARY:POLI 12D (A00) (LE)
DESCRIPTION:
PRIORITY:5
CLASS:PUBLIC
END:VEVENT
BEGIN:VEVENT
ORGANIZER:
DTSTART:20191023T180000Z
DTEND:20191023T185000Z
LOCATION:PETER 110
UID:2820260420T060940Z
DTSTAMP:20260420T060940Z
SUMMARY:POLI 12D (A00) (LE)
DESCRIPTION:
PRIORITY:5
CLASS:PUBLIC
END:VEVENT
BEGIN:VEVENT
ORGANIZER:
DTSTART:20191028T180000Z
DTEND:20191028T185000Z
LOCATION:PETER 110
UID:3320260420T060940Z
DTSTAMP:20260420T060940Z
SUMMARY:POLI 12D (A00) (LE)
DESCRIPTION:
PRIORITY:5
CLASS:PUBLIC
END:VEVENT
BEGIN:VEVENT
ORGANIZER:
DTSTART:20191030T180000Z
DTEND:20191030T185000Z
LOCATION:PETER 110
UID:3520260420T060940Z
DTSTAMP:20260420T060940Z
SUMMARY:POLI 12D (A00) (LE)
DESCRIPTION:
PRIORITY:5
CLASS:PUBLIC
END:VEVENT
BEGIN:VEVENT
ORGANIZER:
DTSTART:20191104T190000Z
DTEND:20191104T195000Z
LOCATION:PETER 110
UID:4020260420T060940Z
DTSTAMP:20260420T060940Z
SUMMARY:POLI 12D (A00) (LE)
DESCRIPTION:
PRIORITY:5
CLASS:PUBLIC
END:VEVENT
BEGIN:VEVENT
ORGANIZER:
DTSTART:20191106T190000Z
DTEND:20191106T195000Z
LOCATION:PETER 110
UID:4220260420T060940Z
DTSTAMP:20260420T060940Z
SUMMARY:POLI 12D (A00) (LE)
DESCRIPTION:
PRIORITY:5
CLASS:PUBLIC
END:VEVENT
BEGIN:VEVENT
ORGANIZER:
DTSTART:20191111T190000Z
DTEND:20191111T195000Z
LOCATION:PETER 110
UID:4720260420T060940Z
DTSTAMP:20260420T060940Z
SUMMARY:POLI 12D (A00) (LE)
DESCRIPTION:
PRIORITY:5
CLASS:PUBLIC
END:VEVENT
BEGIN:VEVENT
ORGANIZER:
DTSTART:20191113T190000Z
DTEND:20191113T195000Z
LOCATION:PETER 110
UID:4920260420T060940Z
DTSTAMP:20260420T060940Z
SUMMARY:POLI 12D (A00) (LE)
DESCRIPTION:
PRIORITY:5
CLASS:PUBLIC
END:VEVENT
BEGIN:VEVENT
ORGANIZER:
DTSTART:20191118T190000Z
DTEND:20191118T195000Z
LOCATION:PETER 110
UID:5420260420T060940Z
DTSTAMP:20260420T060940Z
SUMMARY:POLI 12D (A00) (LE)
DESCRIPTION:
PRIORITY:5
CLASS:PUBLIC
END:VEVENT
BEGIN:VEVENT
ORGANIZER:
DTSTART:20191120T190000Z
DTEND:20191120T195000Z
LOCATION:PETER 110
UID:5620260420T060940Z
DTSTAMP:20260420T060940Z
SUMMARY:POLI 12D (A00) (LE)
DESCRIPTION:
PRIORITY:5
CLASS:PUBLIC
END:VEVENT
BEGIN:VEVENT
ORGANIZER:
DTSTART:20191125T190000Z
DTEND:20191125T195000Z
LOCATION:PETER 110
UID:6120260420T060940Z
DTSTAMP:20260420T060940Z
SUMMARY:POLI 12D (A00) (LE)
DESCRIPTION:
PRIORITY:5
CLASS:PUBLIC
END:VEVENT
BEGIN:VEVENT
ORGANIZER:
DTSTART:20191127T190000Z
DTEND:20191127T195000Z
LOCATION:PETER 110
UID:6320260420T060940Z
DTSTAMP:20260420T060940Z
SUMMARY:POLI 12D (A00) (LE)
DESCRIPTION:
PRIORITY:5
CLASS:PUBLIC
END:VEVENT
BEGIN:VEVENT
ORGANIZER:
DTSTART:20191202T190000Z
DTEND:20191202T195000Z
LOCATION:PETER 110
UID:6820260420T060940Z
DTSTAMP:20260420T060940Z
SUMMARY:POLI 12D (A00) (LE)
DESCRIPTION:
PRIORITY:5
CLASS:PUBLIC
END:VEVENT
BEGIN:VEVENT
ORGANIZER:
DTSTART:20191204T190000Z
DTEND:20191204T195000Z
LOCATION:PETER 110
UID:7020260420T060940Z
DTSTAMP:20260420T060940Z
SUMMARY:POLI 12D (A00) (LE)
DESCRIPTION:
PRIORITY:5
CLASS:PUBLIC
END:VEVENT
BEGIN:VEVENT
ORGANIZER:
DTSTART:20191002T230000Z
DTEND:20191002T235000Z
LOCATION:CENTR 217A
UID:8220260420T060940Z
DTSTAMP:20260420T060940Z
SUMMARY:POLI 12D (A03) (DI)
DESCRIPTION:
PRIORITY:5
CLASS:PUBLIC
END:VEVENT
BEGIN:VEVENT
ORGANIZER:
DTSTART:20191009T230000Z
DTEND:20191009T235000Z
LOCATION:CENTR 217A
UID:8920260420T060940Z
DTSTAMP:20260420T060940Z
SUMMARY:POLI 12D (A03) (DI)
DESCRIPTION:
PRIORITY:5
CLASS:PUBLIC
END:VEVENT
BEGIN:VEVENT
ORGANIZER:
DTSTART:20191016T230000Z
DTEND:20191016T235000Z
LOCATION:CENTR 217A
UID:9620260420T060940Z
DTSTAMP:20260420T060940Z
SUMMARY:POLI 12D (A03) (DI)
DESCRIPTION:
PRIORITY:5
CLASS:PUBLIC
END:VEVENT
BEGIN:VEVENT
ORGANIZER:
DTSTART:20191023T230000Z
DTEND:20191023T235000Z
LOCATION:CENTR 217A
UID:10320260420T060940Z
DTSTAMP:20260420T060940Z
SUMMARY:POLI 12D (A03) (DI)
DESCRIPTION:
PRIORITY:5
CLASS:PUBLIC
END:VEVENT
BEGIN:VEVENT
ORGANIZER:
DTSTART:20191030T230000Z
DTEND:20191030T235000Z
LOCATION:CENTR 217A
UID:11020260420T060940Z
DTSTAMP:20260420T060940Z
SUMMARY:POLI 12D (A03) (DI)
DESCRIPTION:
PRIORITY:5
CLASS:PUBLIC
END:VEVENT
BEGIN:VEVENT
ORGANIZER:
DTSTART:20191107T000000Z
DTEND:20191107T005000Z
LOCATION:CENTR 217A
UID:11720260420T060940Z
DTSTAMP:20260420T060940Z
SUMMARY:POLI 12D (A03) (DI)
DESCRIPTION:
PRIORITY:5
CLASS:PUBLIC
END:VEVENT
BEGIN:VEVENT
ORGANIZER:
DTSTART:20191114T000000Z
DTEND:20191114T005000Z
LOCATION:CENTR 217A
UID:12420260420T060940Z
DTSTAMP:20260420T060940Z
SUMMARY:POLI 12D (A03) (DI)
DESCRIPTION:
PRIORITY:5
CLASS:PUBLIC
END:VEVENT
BEGIN:VEVENT
ORGANIZER:
DTSTART:20191121T000000Z
DTEND:20191121T005000Z
LOCATION:CENTR 217A
UID:13120260420T060940Z
DTSTAMP:20260420T060940Z
SUMMARY:POLI 12D (A03) (DI)
DESCRIPTION:
PRIORITY:5
CLASS:PUBLIC
END:VEVENT
BEGIN:VEVENT
ORGANIZER:
DTSTART:20191128T000000Z
DTEND:20191128T005000Z
LOCATION:CENTR 217A
UID:13820260420T060940Z
DTSTAMP:20260420T060940Z
SUMMARY:POLI 12D (A03) (DI)
DESCRIPTION:
PRIORITY:5
CLASS:PUBLIC
END:VEVENT
BEGIN:VEVENT
ORGANIZER:
DTSTART:20191205T000000Z
DTEND:20191205T005000Z
LOCATION:CENTR 217A
UID:14520260420T060940Z
DTSTAMP:20260420T060940Z
SUMMARY:POLI 12D (A03) (DI)
DESCRIPTION:
PRIORITY:5
CLASS:PUBLIC
END:VEVENT
BEGIN:VEVENT
ORGANIZER:
DTSTART:20191210T193000Z
DTEND:20191210T222900Z
LOCATION: TBA
UID:15420260420T060940Z
DTSTAMP:20260420T060940Z
SUMMARY:POLI 12D (A00) (FI)
DESCRIPTION:
PRIORITY:5
CLASS:PUBLIC
END:VEVENT
END:VCALENDAR