BEGIN:VCALENDAR
VERSION:2.0
X-WR-CALNAME:POLI 214 (A00) - Marxist&Post-Marx Philosophy
METHOD:PUBLISH
BEGIN:VEVENT
ORGANIZER:
DTSTART:20190402T190000Z
DTEND:20190402T215000Z
LOCATION:SSB 353
UID:220260420T053908Z
DTSTAMP:20260420T053908Z
SUMMARY:POLI 214 (A00) (SE)
DESCRIPTION:
PRIORITY:5
CLASS:PUBLIC
END:VEVENT
BEGIN:VEVENT
ORGANIZER:
DTSTART:20190409T190000Z
DTEND:20190409T215000Z
LOCATION:SSB 353
UID:920260420T053908Z
DTSTAMP:20260420T053908Z
SUMMARY:POLI 214 (A00) (SE)
DESCRIPTION:
PRIORITY:5
CLASS:PUBLIC
END:VEVENT
BEGIN:VEVENT
ORGANIZER:
DTSTART:20190416T190000Z
DTEND:20190416T215000Z
LOCATION:SSB 353
UID:1620260420T053908Z
DTSTAMP:20260420T053908Z
SUMMARY:POLI 214 (A00) (SE)
DESCRIPTION:
PRIORITY:5
CLASS:PUBLIC
END:VEVENT
BEGIN:VEVENT
ORGANIZER:
DTSTART:20190423T190000Z
DTEND:20190423T215000Z
LOCATION:SSB 353
UID:2320260420T053908Z
DTSTAMP:20260420T053908Z
SUMMARY:POLI 214 (A00) (SE)
DESCRIPTION:
PRIORITY:5
CLASS:PUBLIC
END:VEVENT
BEGIN:VEVENT
ORGANIZER:
DTSTART:20190430T190000Z
DTEND:20190430T215000Z
LOCATION:SSB 353
UID:3020260420T053908Z
DTSTAMP:20260420T053908Z
SUMMARY:POLI 214 (A00) (SE)
DESCRIPTION:
PRIORITY:5
CLASS:PUBLIC
END:VEVENT
BEGIN:VEVENT
ORGANIZER:
DTSTART:20190507T190000Z
DTEND:20190507T215000Z
LOCATION:SSB 353
UID:3720260420T053908Z
DTSTAMP:20260420T053908Z
SUMMARY:POLI 214 (A00) (SE)
DESCRIPTION:
PRIORITY:5
CLASS:PUBLIC
END:VEVENT
BEGIN:VEVENT
ORGANIZER:
DTSTART:20190514T190000Z
DTEND:20190514T215000Z
LOCATION:SSB 353
UID:4420260420T053908Z
DTSTAMP:20260420T053908Z
SUMMARY:POLI 214 (A00) (SE)
DESCRIPTION:
PRIORITY:5
CLASS:PUBLIC
END:VEVENT
BEGIN:VEVENT
ORGANIZER:
DTSTART:20190521T190000Z
DTEND:20190521T215000Z
LOCATION:SSB 353
UID:5120260420T053908Z
DTSTAMP:20260420T053908Z
SUMMARY:POLI 214 (A00) (SE)
DESCRIPTION:
PRIORITY:5
CLASS:PUBLIC
END:VEVENT
BEGIN:VEVENT
ORGANIZER:
DTSTART:20190528T190000Z
DTEND:20190528T215000Z
LOCATION:SSB 353
UID:5820260420T053908Z
DTSTAMP:20260420T053908Z
SUMMARY:POLI 214 (A00) (SE)
DESCRIPTION:
PRIORITY:5
CLASS:PUBLIC
END:VEVENT
BEGIN:VEVENT
ORGANIZER:
DTSTART:20190604T190000Z
DTEND:20190604T215000Z
LOCATION:SSB 353
UID:6520260420T053908Z
DTSTAMP:20260420T053908Z
SUMMARY:POLI 214 (A00) (SE)
DESCRIPTION:
PRIORITY:5
CLASS:PUBLIC
END:VEVENT
END:VCALENDAR