BEGIN:VCALENDAR
VERSION:2.0
X-WR-CALNAME:POLI 252 (A00) - American Politics: Behavior
METHOD:PUBLISH
BEGIN:VEVENT
ORGANIZER:
DTSTART:20190108T170000Z
DTEND:20190108T195000Z
LOCATION:SSB 104
UID:220260420T053909Z
DTSTAMP:20260420T053909Z
SUMMARY:POLI 252 (A00) (SE)
DESCRIPTION:
PRIORITY:5
CLASS:PUBLIC
END:VEVENT
BEGIN:VEVENT
ORGANIZER:
DTSTART:20190115T170000Z
DTEND:20190115T195000Z
LOCATION:SSB 104
UID:920260420T053909Z
DTSTAMP:20260420T053909Z
SUMMARY:POLI 252 (A00) (SE)
DESCRIPTION:
PRIORITY:5
CLASS:PUBLIC
END:VEVENT
BEGIN:VEVENT
ORGANIZER:
DTSTART:20190122T170000Z
DTEND:20190122T195000Z
LOCATION:SSB 104
UID:1620260420T053909Z
DTSTAMP:20260420T053909Z
SUMMARY:POLI 252 (A00) (SE)
DESCRIPTION:
PRIORITY:5
CLASS:PUBLIC
END:VEVENT
BEGIN:VEVENT
ORGANIZER:
DTSTART:20190129T170000Z
DTEND:20190129T195000Z
LOCATION:SSB 104
UID:2320260420T053909Z
DTSTAMP:20260420T053909Z
SUMMARY:POLI 252 (A00) (SE)
DESCRIPTION:
PRIORITY:5
CLASS:PUBLIC
END:VEVENT
BEGIN:VEVENT
ORGANIZER:
DTSTART:20190205T170000Z
DTEND:20190205T195000Z
LOCATION:SSB 104
UID:3020260420T053909Z
DTSTAMP:20260420T053909Z
SUMMARY:POLI 252 (A00) (SE)
DESCRIPTION:
PRIORITY:5
CLASS:PUBLIC
END:VEVENT
BEGIN:VEVENT
ORGANIZER:
DTSTART:20190212T170000Z
DTEND:20190212T195000Z
LOCATION:SSB 104
UID:3720260420T053909Z
DTSTAMP:20260420T053909Z
SUMMARY:POLI 252 (A00) (SE)
DESCRIPTION:
PRIORITY:5
CLASS:PUBLIC
END:VEVENT
BEGIN:VEVENT
ORGANIZER:
DTSTART:20190219T170000Z
DTEND:20190219T195000Z
LOCATION:SSB 104
UID:4420260420T053909Z
DTSTAMP:20260420T053909Z
SUMMARY:POLI 252 (A00) (SE)
DESCRIPTION:
PRIORITY:5
CLASS:PUBLIC
END:VEVENT
BEGIN:VEVENT
ORGANIZER:
DTSTART:20190226T170000Z
DTEND:20190226T195000Z
LOCATION:SSB 104
UID:5120260420T053909Z
DTSTAMP:20260420T053909Z
SUMMARY:POLI 252 (A00) (SE)
DESCRIPTION:
PRIORITY:5
CLASS:PUBLIC
END:VEVENT
BEGIN:VEVENT
ORGANIZER:
DTSTART:20190305T170000Z
DTEND:20190305T195000Z
LOCATION:SSB 104
UID:5820260420T053909Z
DTSTAMP:20260420T053909Z
SUMMARY:POLI 252 (A00) (SE)
DESCRIPTION:
PRIORITY:5
CLASS:PUBLIC
END:VEVENT
BEGIN:VEVENT
ORGANIZER:
DTSTART:20190312T160000Z
DTEND:20190312T185000Z
LOCATION:SSB 104
UID:6520260420T053909Z
DTSTAMP:20260420T053909Z
SUMMARY:POLI 252 (A00) (SE)
DESCRIPTION:
PRIORITY:5
CLASS:PUBLIC
END:VEVENT
END:VCALENDAR