BEGIN:VCALENDAR
VERSION:2.0
X-WR-CALNAME:ANTH 23 (A00) - Debating Multiculturalism
METHOD:PUBLISH
BEGIN:VEVENT
ORGANIZER:
DTSTART:20190107T200000Z
DTEND:20190107T205000Z
LOCATION:CENTR 101
UID:120260419T132657Z
DTSTAMP:20260419T132657Z
SUMMARY:ANTH 23 (A00) (LE)
DESCRIPTION:
PRIORITY:5
CLASS:PUBLIC
END:VEVENT
BEGIN:VEVENT
ORGANIZER:
DTSTART:20190109T200000Z
DTEND:20190109T205000Z
LOCATION:CENTR 101
UID:320260419T132657Z
DTSTAMP:20260419T132657Z
SUMMARY:ANTH 23 (A00) (LE)
DESCRIPTION:
PRIORITY:5
CLASS:PUBLIC
END:VEVENT
BEGIN:VEVENT
ORGANIZER:
DTSTART:20190111T200000Z
DTEND:20190111T205000Z
LOCATION:CENTR 101
UID:520260419T132657Z
DTSTAMP:20260419T132657Z
SUMMARY:ANTH 23 (A00) (LE)
DESCRIPTION:
PRIORITY:5
CLASS:PUBLIC
END:VEVENT
BEGIN:VEVENT
ORGANIZER:
DTSTART:20190114T200000Z
DTEND:20190114T205000Z
LOCATION:CENTR 101
UID:820260419T132657Z
DTSTAMP:20260419T132657Z
SUMMARY:ANTH 23 (A00) (LE)
DESCRIPTION:
PRIORITY:5
CLASS:PUBLIC
END:VEVENT
BEGIN:VEVENT
ORGANIZER:
DTSTART:20190116T200000Z
DTEND:20190116T205000Z
LOCATION:CENTR 101
UID:1020260419T132657Z
DTSTAMP:20260419T132657Z
SUMMARY:ANTH 23 (A00) (LE)
DESCRIPTION:
PRIORITY:5
CLASS:PUBLIC
END:VEVENT
BEGIN:VEVENT
ORGANIZER:
DTSTART:20190118T200000Z
DTEND:20190118T205000Z
LOCATION:CENTR 101
UID:1220260419T132657Z
DTSTAMP:20260419T132657Z
SUMMARY:ANTH 23 (A00) (LE)
DESCRIPTION:
PRIORITY:5
CLASS:PUBLIC
END:VEVENT
BEGIN:VEVENT
ORGANIZER:
DTSTART:20190121T200000Z
DTEND:20190121T205000Z
LOCATION:CENTR 101
UID:1520260419T132657Z
DTSTAMP:20260419T132657Z
SUMMARY:ANTH 23 (A00) (LE)
DESCRIPTION:
PRIORITY:5
CLASS:PUBLIC
END:VEVENT
BEGIN:VEVENT
ORGANIZER:
DTSTART:20190123T200000Z
DTEND:20190123T205000Z
LOCATION:CENTR 101
UID:1720260419T132657Z
DTSTAMP:20260419T132657Z
SUMMARY:ANTH 23 (A00) (LE)
DESCRIPTION:
PRIORITY:5
CLASS:PUBLIC
END:VEVENT
BEGIN:VEVENT
ORGANIZER:
DTSTART:20190125T200000Z
DTEND:20190125T205000Z
LOCATION:CENTR 101
UID:1920260419T132657Z
DTSTAMP:20260419T132657Z
SUMMARY:ANTH 23 (A00) (LE)
DESCRIPTION:
PRIORITY:5
CLASS:PUBLIC
END:VEVENT
BEGIN:VEVENT
ORGANIZER:
DTSTART:20190128T200000Z
DTEND:20190128T205000Z
LOCATION:CENTR 101
UID:2220260419T132657Z
DTSTAMP:20260419T132657Z
SUMMARY:ANTH 23 (A00) (LE)
DESCRIPTION:
PRIORITY:5
CLASS:PUBLIC
END:VEVENT
BEGIN:VEVENT
ORGANIZER:
DTSTART:20190130T200000Z
DTEND:20190130T205000Z
LOCATION:CENTR 101
UID:2420260419T132657Z
DTSTAMP:20260419T132657Z
SUMMARY:ANTH 23 (A00) (LE)
DESCRIPTION:
PRIORITY:5
CLASS:PUBLIC
END:VEVENT
BEGIN:VEVENT
ORGANIZER:
DTSTART:20190201T200000Z
DTEND:20190201T205000Z
LOCATION:CENTR 101
UID:2620260419T132657Z
DTSTAMP:20260419T132657Z
SUMMARY:ANTH 23 (A00) (LE)
DESCRIPTION:
PRIORITY:5
CLASS:PUBLIC
END:VEVENT
BEGIN:VEVENT
ORGANIZER:
DTSTART:20190204T200000Z
DTEND:20190204T205000Z
LOCATION:CENTR 101
UID:2920260419T132657Z
DTSTAMP:20260419T132657Z
SUMMARY:ANTH 23 (A00) (LE)
DESCRIPTION:
PRIORITY:5
CLASS:PUBLIC
END:VEVENT
BEGIN:VEVENT
ORGANIZER:
DTSTART:20190206T200000Z
DTEND:20190206T205000Z
LOCATION:CENTR 101
UID:3120260419T132657Z
DTSTAMP:20260419T132657Z
SUMMARY:ANTH 23 (A00) (LE)
DESCRIPTION:
PRIORITY:5
CLASS:PUBLIC
END:VEVENT
BEGIN:VEVENT
ORGANIZER:
DTSTART:20190208T200000Z
DTEND:20190208T205000Z
LOCATION:CENTR 101
UID:3320260419T132657Z
DTSTAMP:20260419T132657Z
SUMMARY:ANTH 23 (A00) (LE)
DESCRIPTION:
PRIORITY:5
CLASS:PUBLIC
END:VEVENT
BEGIN:VEVENT
ORGANIZER:
DTSTART:20190211T200000Z
DTEND:20190211T205000Z
LOCATION:CENTR 101
UID:3620260419T132657Z
DTSTAMP:20260419T132657Z
SUMMARY:ANTH 23 (A00) (LE)
DESCRIPTION:
PRIORITY:5
CLASS:PUBLIC
END:VEVENT
BEGIN:VEVENT
ORGANIZER:
DTSTART:20190213T200000Z
DTEND:20190213T205000Z
LOCATION:CENTR 101
UID:3820260419T132657Z
DTSTAMP:20260419T132657Z
SUMMARY:ANTH 23 (A00) (LE)
DESCRIPTION:
PRIORITY:5
CLASS:PUBLIC
END:VEVENT
BEGIN:VEVENT
ORGANIZER:
DTSTART:20190215T200000Z
DTEND:20190215T205000Z
LOCATION:CENTR 101
UID:4020260419T132657Z
DTSTAMP:20260419T132657Z
SUMMARY:ANTH 23 (A00) (LE)
DESCRIPTION:
PRIORITY:5
CLASS:PUBLIC
END:VEVENT
BEGIN:VEVENT
ORGANIZER:
DTSTART:20190218T200000Z
DTEND:20190218T205000Z
LOCATION:CENTR 101
UID:4320260419T132657Z
DTSTAMP:20260419T132657Z
SUMMARY:ANTH 23 (A00) (LE)
DESCRIPTION:
PRIORITY:5
CLASS:PUBLIC
END:VEVENT
BEGIN:VEVENT
ORGANIZER:
DTSTART:20190220T200000Z
DTEND:20190220T205000Z
LOCATION:CENTR 101
UID:4520260419T132657Z
DTSTAMP:20260419T132657Z
SUMMARY:ANTH 23 (A00) (LE)
DESCRIPTION:
PRIORITY:5
CLASS:PUBLIC
END:VEVENT
BEGIN:VEVENT
ORGANIZER:
DTSTART:20190222T200000Z
DTEND:20190222T205000Z
LOCATION:CENTR 101
UID:4720260419T132657Z
DTSTAMP:20260419T132657Z
SUMMARY:ANTH 23 (A00) (LE)
DESCRIPTION:
PRIORITY:5
CLASS:PUBLIC
END:VEVENT
BEGIN:VEVENT
ORGANIZER:
DTSTART:20190225T200000Z
DTEND:20190225T205000Z
LOCATION:CENTR 101
UID:5020260419T132657Z
DTSTAMP:20260419T132657Z
SUMMARY:ANTH 23 (A00) (LE)
DESCRIPTION:
PRIORITY:5
CLASS:PUBLIC
END:VEVENT
BEGIN:VEVENT
ORGANIZER:
DTSTART:20190227T200000Z
DTEND:20190227T205000Z
LOCATION:CENTR 101
UID:5220260419T132657Z
DTSTAMP:20260419T132657Z
SUMMARY:ANTH 23 (A00) (LE)
DESCRIPTION:
PRIORITY:5
CLASS:PUBLIC
END:VEVENT
BEGIN:VEVENT
ORGANIZER:
DTSTART:20190301T200000Z
DTEND:20190301T205000Z
LOCATION:CENTR 101
UID:5420260419T132657Z
DTSTAMP:20260419T132657Z
SUMMARY:ANTH 23 (A00) (LE)
DESCRIPTION:
PRIORITY:5
CLASS:PUBLIC
END:VEVENT
BEGIN:VEVENT
ORGANIZER:
DTSTART:20190304T200000Z
DTEND:20190304T205000Z
LOCATION:CENTR 101
UID:5720260419T132657Z
DTSTAMP:20260419T132657Z
SUMMARY:ANTH 23 (A00) (LE)
DESCRIPTION:
PRIORITY:5
CLASS:PUBLIC
END:VEVENT
BEGIN:VEVENT
ORGANIZER:
DTSTART:20190306T200000Z
DTEND:20190306T205000Z
LOCATION:CENTR 101
UID:5920260419T132657Z
DTSTAMP:20260419T132657Z
SUMMARY:ANTH 23 (A00) (LE)
DESCRIPTION:
PRIORITY:5
CLASS:PUBLIC
END:VEVENT
BEGIN:VEVENT
ORGANIZER:
DTSTART:20190308T200000Z
DTEND:20190308T205000Z
LOCATION:CENTR 101
UID:6120260419T132657Z
DTSTAMP:20260419T132657Z
SUMMARY:ANTH 23 (A00) (LE)
DESCRIPTION:
PRIORITY:5
CLASS:PUBLIC
END:VEVENT
BEGIN:VEVENT
ORGANIZER:
DTSTART:20190311T190000Z
DTEND:20190311T195000Z
LOCATION:CENTR 101
UID:6420260419T132657Z
DTSTAMP:20260419T132657Z
SUMMARY:ANTH 23 (A00) (LE)
DESCRIPTION:
PRIORITY:5
CLASS:PUBLIC
END:VEVENT
BEGIN:VEVENT
ORGANIZER:
DTSTART:20190313T190000Z
DTEND:20190313T195000Z
LOCATION:CENTR 101
UID:6620260419T132657Z
DTSTAMP:20260419T132657Z
SUMMARY:ANTH 23 (A00) (LE)
DESCRIPTION:
PRIORITY:5
CLASS:PUBLIC
END:VEVENT
BEGIN:VEVENT
ORGANIZER:
DTSTART:20190315T190000Z
DTEND:20190315T195000Z
LOCATION:CENTR 101
UID:6820260419T132657Z
DTSTAMP:20260419T132657Z
SUMMARY:ANTH 23 (A00) (LE)
DESCRIPTION:
PRIORITY:5
CLASS:PUBLIC
END:VEVENT
BEGIN:VEVENT
ORGANIZER:
DTSTART:20190320T183000Z
DTEND:20190320T212900Z
LOCATION: TBA
UID:8020260419T132657Z
DTSTAMP:20260419T132657Z
SUMMARY:ANTH 23 (A00) (FI)
DESCRIPTION:
PRIORITY:5
CLASS:PUBLIC
END:VEVENT
END:VCALENDAR