BEGIN:VCALENDAR
VERSION:2.0
X-WR-CALNAME:POLI 13D (A01) - Power and Justice
METHOD:PUBLISH
BEGIN:VEVENT
ORGANIZER:
DTSTART:20181001T160000Z
DTEND:20181001T165000Z
LOCATION:WLH 2111
UID:520260420T062656Z
DTSTAMP:20260420T062656Z
SUMMARY:POLI 13D (A00) (LE)
DESCRIPTION:
PRIORITY:5
CLASS:PUBLIC
END:VEVENT
BEGIN:VEVENT
ORGANIZER:
DTSTART:20181003T160000Z
DTEND:20181003T165000Z
LOCATION:WLH 2111
UID:720260420T062656Z
DTSTAMP:20260420T062656Z
SUMMARY:POLI 13D (A00) (LE)
DESCRIPTION:
PRIORITY:5
CLASS:PUBLIC
END:VEVENT
BEGIN:VEVENT
ORGANIZER:
DTSTART:20181008T160000Z
DTEND:20181008T165000Z
LOCATION:WLH 2111
UID:1220260420T062656Z
DTSTAMP:20260420T062656Z
SUMMARY:POLI 13D (A00) (LE)
DESCRIPTION:
PRIORITY:5
CLASS:PUBLIC
END:VEVENT
BEGIN:VEVENT
ORGANIZER:
DTSTART:20181010T160000Z
DTEND:20181010T165000Z
LOCATION:WLH 2111
UID:1420260420T062656Z
DTSTAMP:20260420T062656Z
SUMMARY:POLI 13D (A00) (LE)
DESCRIPTION:
PRIORITY:5
CLASS:PUBLIC
END:VEVENT
BEGIN:VEVENT
ORGANIZER:
DTSTART:20181015T160000Z
DTEND:20181015T165000Z
LOCATION:WLH 2111
UID:1920260420T062656Z
DTSTAMP:20260420T062656Z
SUMMARY:POLI 13D (A00) (LE)
DESCRIPTION:
PRIORITY:5
CLASS:PUBLIC
END:VEVENT
BEGIN:VEVENT
ORGANIZER:
DTSTART:20181017T160000Z
DTEND:20181017T165000Z
LOCATION:WLH 2111
UID:2120260420T062656Z
DTSTAMP:20260420T062656Z
SUMMARY:POLI 13D (A00) (LE)
DESCRIPTION:
PRIORITY:5
CLASS:PUBLIC
END:VEVENT
BEGIN:VEVENT
ORGANIZER:
DTSTART:20181022T160000Z
DTEND:20181022T165000Z
LOCATION:WLH 2111
UID:2620260420T062656Z
DTSTAMP:20260420T062656Z
SUMMARY:POLI 13D (A00) (LE)
DESCRIPTION:
PRIORITY:5
CLASS:PUBLIC
END:VEVENT
BEGIN:VEVENT
ORGANIZER:
DTSTART:20181024T160000Z
DTEND:20181024T165000Z
LOCATION:WLH 2111
UID:2820260420T062656Z
DTSTAMP:20260420T062656Z
SUMMARY:POLI 13D (A00) (LE)
DESCRIPTION:
PRIORITY:5
CLASS:PUBLIC
END:VEVENT
BEGIN:VEVENT
ORGANIZER:
DTSTART:20181029T160000Z
DTEND:20181029T165000Z
LOCATION:WLH 2111
UID:3320260420T062656Z
DTSTAMP:20260420T062656Z
SUMMARY:POLI 13D (A00) (LE)
DESCRIPTION:
PRIORITY:5
CLASS:PUBLIC
END:VEVENT
BEGIN:VEVENT
ORGANIZER:
DTSTART:20181031T160000Z
DTEND:20181031T165000Z
LOCATION:WLH 2111
UID:3520260420T062656Z
DTSTAMP:20260420T062656Z
SUMMARY:POLI 13D (A00) (LE)
DESCRIPTION:
PRIORITY:5
CLASS:PUBLIC
END:VEVENT
BEGIN:VEVENT
ORGANIZER:
DTSTART:20181105T170000Z
DTEND:20181105T175000Z
LOCATION:WLH 2111
UID:4020260420T062656Z
DTSTAMP:20260420T062656Z
SUMMARY:POLI 13D (A00) (LE)
DESCRIPTION:
PRIORITY:5
CLASS:PUBLIC
END:VEVENT
BEGIN:VEVENT
ORGANIZER:
DTSTART:20181107T170000Z
DTEND:20181107T175000Z
LOCATION:WLH 2111
UID:4220260420T062656Z
DTSTAMP:20260420T062656Z
SUMMARY:POLI 13D (A00) (LE)
DESCRIPTION:
PRIORITY:5
CLASS:PUBLIC
END:VEVENT
BEGIN:VEVENT
ORGANIZER:
DTSTART:20181112T170000Z
DTEND:20181112T175000Z
LOCATION:WLH 2111
UID:4720260420T062656Z
DTSTAMP:20260420T062656Z
SUMMARY:POLI 13D (A00) (LE)
DESCRIPTION:
PRIORITY:5
CLASS:PUBLIC
END:VEVENT
BEGIN:VEVENT
ORGANIZER:
DTSTART:20181114T170000Z
DTEND:20181114T175000Z
LOCATION:WLH 2111
UID:4920260420T062656Z
DTSTAMP:20260420T062656Z
SUMMARY:POLI 13D (A00) (LE)
DESCRIPTION:
PRIORITY:5
CLASS:PUBLIC
END:VEVENT
BEGIN:VEVENT
ORGANIZER:
DTSTART:20181119T170000Z
DTEND:20181119T175000Z
LOCATION:WLH 2111
UID:5420260420T062656Z
DTSTAMP:20260420T062656Z
SUMMARY:POLI 13D (A00) (LE)
DESCRIPTION:
PRIORITY:5
CLASS:PUBLIC
END:VEVENT
BEGIN:VEVENT
ORGANIZER:
DTSTART:20181121T170000Z
DTEND:20181121T175000Z
LOCATION:WLH 2111
UID:5620260420T062656Z
DTSTAMP:20260420T062656Z
SUMMARY:POLI 13D (A00) (LE)
DESCRIPTION:
PRIORITY:5
CLASS:PUBLIC
END:VEVENT
BEGIN:VEVENT
ORGANIZER:
DTSTART:20181126T170000Z
DTEND:20181126T175000Z
LOCATION:WLH 2111
UID:6120260420T062656Z
DTSTAMP:20260420T062656Z
SUMMARY:POLI 13D (A00) (LE)
DESCRIPTION:
PRIORITY:5
CLASS:PUBLIC
END:VEVENT
BEGIN:VEVENT
ORGANIZER:
DTSTART:20181128T170000Z
DTEND:20181128T175000Z
LOCATION:WLH 2111
UID:6320260420T062656Z
DTSTAMP:20260420T062656Z
SUMMARY:POLI 13D (A00) (LE)
DESCRIPTION:
PRIORITY:5
CLASS:PUBLIC
END:VEVENT
BEGIN:VEVENT
ORGANIZER:
DTSTART:20181203T170000Z
DTEND:20181203T175000Z
LOCATION:WLH 2111
UID:6820260420T062656Z
DTSTAMP:20260420T062656Z
SUMMARY:POLI 13D (A00) (LE)
DESCRIPTION:
PRIORITY:5
CLASS:PUBLIC
END:VEVENT
BEGIN:VEVENT
ORGANIZER:
DTSTART:20181205T170000Z
DTEND:20181205T175000Z
LOCATION:WLH 2111
UID:7020260420T062656Z
DTSTAMP:20260420T062656Z
SUMMARY:POLI 13D (A00) (LE)
DESCRIPTION:
PRIORITY:5
CLASS:PUBLIC
END:VEVENT
BEGIN:VEVENT
ORGANIZER:
DTSTART:20181003T220000Z
DTEND:20181003T225000Z
LOCATION:YORK 4050A
UID:8020260420T062656Z
DTSTAMP:20260420T062656Z
SUMMARY:POLI 13D (A01) (DI)
DESCRIPTION:
PRIORITY:5
CLASS:PUBLIC
END:VEVENT
BEGIN:VEVENT
ORGANIZER:
DTSTART:20181010T220000Z
DTEND:20181010T225000Z
LOCATION:YORK 4050A
UID:8720260420T062656Z
DTSTAMP:20260420T062656Z
SUMMARY:POLI 13D (A01) (DI)
DESCRIPTION:
PRIORITY:5
CLASS:PUBLIC
END:VEVENT
BEGIN:VEVENT
ORGANIZER:
DTSTART:20181017T220000Z
DTEND:20181017T225000Z
LOCATION:YORK 4050A
UID:9420260420T062656Z
DTSTAMP:20260420T062656Z
SUMMARY:POLI 13D (A01) (DI)
DESCRIPTION:
PRIORITY:5
CLASS:PUBLIC
END:VEVENT
BEGIN:VEVENT
ORGANIZER:
DTSTART:20181024T220000Z
DTEND:20181024T225000Z
LOCATION:YORK 4050A
UID:10120260420T062656Z
DTSTAMP:20260420T062656Z
SUMMARY:POLI 13D (A01) (DI)
DESCRIPTION:
PRIORITY:5
CLASS:PUBLIC
END:VEVENT
BEGIN:VEVENT
ORGANIZER:
DTSTART:20181031T220000Z
DTEND:20181031T225000Z
LOCATION:YORK 4050A
UID:10820260420T062656Z
DTSTAMP:20260420T062656Z
SUMMARY:POLI 13D (A01) (DI)
DESCRIPTION:
PRIORITY:5
CLASS:PUBLIC
END:VEVENT
BEGIN:VEVENT
ORGANIZER:
DTSTART:20181107T230000Z
DTEND:20181107T235000Z
LOCATION:YORK 4050A
UID:11520260420T062656Z
DTSTAMP:20260420T062656Z
SUMMARY:POLI 13D (A01) (DI)
DESCRIPTION:
PRIORITY:5
CLASS:PUBLIC
END:VEVENT
BEGIN:VEVENT
ORGANIZER:
DTSTART:20181114T230000Z
DTEND:20181114T235000Z
LOCATION:YORK 4050A
UID:12220260420T062656Z
DTSTAMP:20260420T062656Z
SUMMARY:POLI 13D (A01) (DI)
DESCRIPTION:
PRIORITY:5
CLASS:PUBLIC
END:VEVENT
BEGIN:VEVENT
ORGANIZER:
DTSTART:20181121T230000Z
DTEND:20181121T235000Z
LOCATION:YORK 4050A
UID:12920260420T062656Z
DTSTAMP:20260420T062656Z
SUMMARY:POLI 13D (A01) (DI)
DESCRIPTION:
PRIORITY:5
CLASS:PUBLIC
END:VEVENT
BEGIN:VEVENT
ORGANIZER:
DTSTART:20181128T230000Z
DTEND:20181128T235000Z
LOCATION:YORK 4050A
UID:13620260420T062656Z
DTSTAMP:20260420T062656Z
SUMMARY:POLI 13D (A01) (DI)
DESCRIPTION:
PRIORITY:5
CLASS:PUBLIC
END:VEVENT
BEGIN:VEVENT
ORGANIZER:
DTSTART:20181205T230000Z
DTEND:20181205T235000Z
LOCATION:YORK 4050A
UID:14320260420T062656Z
DTSTAMP:20260420T062656Z
SUMMARY:POLI 13D (A01) (DI)
DESCRIPTION:
PRIORITY:5
CLASS:PUBLIC
END:VEVENT
BEGIN:VEVENT
ORGANIZER:
DTSTART:20181212T160000Z
DTEND:20181212T185900Z
LOCATION: TBA
UID:15020260420T062656Z
DTSTAMP:20260420T062656Z
SUMMARY:POLI 13D (A00) (FI)
DESCRIPTION:
PRIORITY:5
CLASS:PUBLIC
END:VEVENT
END:VCALENDAR