BEGIN:VCALENDAR
VERSION:2.0
X-WR-CALNAME:POLI 104J (A00) - Introduction/Legal Reasoning
METHOD:PUBLISH
BEGIN:VEVENT
ORGANIZER:
DTSTART:20180704T000000Z
DTEND:20180704T025000Z
LOCATION:HSS 2152
UID:220260420T053049Z
DTSTAMP:20260420T053049Z
SUMMARY:POLI 104J (A00) (LE)
DESCRIPTION:
PRIORITY:5
CLASS:PUBLIC
END:VEVENT
BEGIN:VEVENT
ORGANIZER:
DTSTART:20180706T000000Z
DTEND:20180706T025000Z
LOCATION:HSS 2152
UID:420260420T053049Z
DTSTAMP:20260420T053049Z
SUMMARY:POLI 104J (A00) (LE)
DESCRIPTION:
PRIORITY:5
CLASS:PUBLIC
END:VEVENT
BEGIN:VEVENT
ORGANIZER:
DTSTART:20180711T000000Z
DTEND:20180711T025000Z
LOCATION:HSS 2152
UID:920260420T053049Z
DTSTAMP:20260420T053049Z
SUMMARY:POLI 104J (A00) (LE)
DESCRIPTION:
PRIORITY:5
CLASS:PUBLIC
END:VEVENT
BEGIN:VEVENT
ORGANIZER:
DTSTART:20180713T000000Z
DTEND:20180713T025000Z
LOCATION:HSS 2152
UID:1120260420T053049Z
DTSTAMP:20260420T053049Z
SUMMARY:POLI 104J (A00) (LE)
DESCRIPTION:
PRIORITY:5
CLASS:PUBLIC
END:VEVENT
BEGIN:VEVENT
ORGANIZER:
DTSTART:20180718T000000Z
DTEND:20180718T025000Z
LOCATION:HSS 2152
UID:1620260420T053049Z
DTSTAMP:20260420T053049Z
SUMMARY:POLI 104J (A00) (LE)
DESCRIPTION:
PRIORITY:5
CLASS:PUBLIC
END:VEVENT
BEGIN:VEVENT
ORGANIZER:
DTSTART:20180720T000000Z
DTEND:20180720T025000Z
LOCATION:HSS 2152
UID:1820260420T053049Z
DTSTAMP:20260420T053049Z
SUMMARY:POLI 104J (A00) (LE)
DESCRIPTION:
PRIORITY:5
CLASS:PUBLIC
END:VEVENT
BEGIN:VEVENT
ORGANIZER:
DTSTART:20180725T000000Z
DTEND:20180725T025000Z
LOCATION:HSS 2152
UID:2320260420T053049Z
DTSTAMP:20260420T053049Z
SUMMARY:POLI 104J (A00) (LE)
DESCRIPTION:
PRIORITY:5
CLASS:PUBLIC
END:VEVENT
BEGIN:VEVENT
ORGANIZER:
DTSTART:20180727T000000Z
DTEND:20180727T025000Z
LOCATION:HSS 2152
UID:2520260420T053049Z
DTSTAMP:20260420T053049Z
SUMMARY:POLI 104J (A00) (LE)
DESCRIPTION:
PRIORITY:5
CLASS:PUBLIC
END:VEVENT
BEGIN:VEVENT
ORGANIZER:
DTSTART:20180801T000000Z
DTEND:20180801T025000Z
LOCATION:HSS 2152
UID:3020260420T053049Z
DTSTAMP:20260420T053049Z
SUMMARY:POLI 104J (A00) (LE)
DESCRIPTION:
PRIORITY:5
CLASS:PUBLIC
END:VEVENT
BEGIN:VEVENT
ORGANIZER:
DTSTART:20180803T000000Z
DTEND:20180803T025000Z
LOCATION:HSS 2152
UID:3220260420T053049Z
DTSTAMP:20260420T053049Z
SUMMARY:POLI 104J (A00) (LE)
DESCRIPTION:
PRIORITY:5
CLASS:PUBLIC
END:VEVENT
BEGIN:VEVENT
ORGANIZER:
DTSTART:20180805T020000Z
DTEND:20180805T045900Z
LOCATION: TBA
UID:3620260420T053049Z
DTSTAMP:20260420T053049Z
SUMMARY:POLI 104J (A00) (FI)
DESCRIPTION:
PRIORITY:5
CLASS:PUBLIC
END:VEVENT
END:VCALENDAR