BEGIN:VCALENDAR
VERSION:2.0
X-WR-CALNAME:MATH 20B (E00) - Calculus/Science & Engineering
METHOD:PUBLISH
BEGIN:VEVENT
ORGANIZER:
DTSTART:20250926T230000Z
DTEND:20250926T235000Z
LOCATION:PETER 108
UID:220260419T161422Z
DTSTAMP:20260419T161422Z
SUMMARY:MATH 20B (E00) (LE)
DESCRIPTION:
PRIORITY:5
CLASS:PUBLIC
END:VEVENT
BEGIN:VEVENT
ORGANIZER:
DTSTART:20250929T230000Z
DTEND:20250929T235000Z
LOCATION:PETER 108
UID:520260419T161422Z
DTSTAMP:20260419T161422Z
SUMMARY:MATH 20B (E00) (LE)
DESCRIPTION:
PRIORITY:5
CLASS:PUBLIC
END:VEVENT
BEGIN:VEVENT
ORGANIZER:
DTSTART:20251001T230000Z
DTEND:20251001T235000Z
LOCATION:PETER 108
UID:720260419T161422Z
DTSTAMP:20260419T161422Z
SUMMARY:MATH 20B (E00) (LE)
DESCRIPTION:
PRIORITY:5
CLASS:PUBLIC
END:VEVENT
BEGIN:VEVENT
ORGANIZER:
DTSTART:20251003T230000Z
DTEND:20251003T235000Z
LOCATION:PETER 108
UID:920260419T161422Z
DTSTAMP:20260419T161422Z
SUMMARY:MATH 20B (E00) (LE)
DESCRIPTION:
PRIORITY:5
CLASS:PUBLIC
END:VEVENT
BEGIN:VEVENT
ORGANIZER:
DTSTART:20251006T230000Z
DTEND:20251006T235000Z
LOCATION:PETER 108
UID:1220260419T161422Z
DTSTAMP:20260419T161422Z
SUMMARY:MATH 20B (E00) (LE)
DESCRIPTION:
PRIORITY:5
CLASS:PUBLIC
END:VEVENT
BEGIN:VEVENT
ORGANIZER:
DTSTART:20251008T230000Z
DTEND:20251008T235000Z
LOCATION:PETER 108
UID:1420260419T161422Z
DTSTAMP:20260419T161422Z
SUMMARY:MATH 20B (E00) (LE)
DESCRIPTION:
PRIORITY:5
CLASS:PUBLIC
END:VEVENT
BEGIN:VEVENT
ORGANIZER:
DTSTART:20251010T230000Z
DTEND:20251010T235000Z
LOCATION:PETER 108
UID:1620260419T161422Z
DTSTAMP:20260419T161422Z
SUMMARY:MATH 20B (E00) (LE)
DESCRIPTION:
PRIORITY:5
CLASS:PUBLIC
END:VEVENT
BEGIN:VEVENT
ORGANIZER:
DTSTART:20251013T230000Z
DTEND:20251013T235000Z
LOCATION:PETER 108
UID:1920260419T161422Z
DTSTAMP:20260419T161422Z
SUMMARY:MATH 20B (E00) (LE)
DESCRIPTION:
PRIORITY:5
CLASS:PUBLIC
END:VEVENT
BEGIN:VEVENT
ORGANIZER:
DTSTART:20251015T230000Z
DTEND:20251015T235000Z
LOCATION:PETER 108
UID:2120260419T161422Z
DTSTAMP:20260419T161422Z
SUMMARY:MATH 20B (E00) (LE)
DESCRIPTION:
PRIORITY:5
CLASS:PUBLIC
END:VEVENT
BEGIN:VEVENT
ORGANIZER:
DTSTART:20251017T230000Z
DTEND:20251017T235000Z
LOCATION:PETER 108
UID:2320260419T161422Z
DTSTAMP:20260419T161422Z
SUMMARY:MATH 20B (E00) (LE)
DESCRIPTION:
PRIORITY:5
CLASS:PUBLIC
END:VEVENT
BEGIN:VEVENT
ORGANIZER:
DTSTART:20251020T230000Z
DTEND:20251020T235000Z
LOCATION:PETER 108
UID:2620260419T161422Z
DTSTAMP:20260419T161422Z
SUMMARY:MATH 20B (E00) (LE)
DESCRIPTION:
PRIORITY:5
CLASS:PUBLIC
END:VEVENT
BEGIN:VEVENT
ORGANIZER:
DTSTART:20251022T230000Z
DTEND:20251022T235000Z
LOCATION:PETER 108
UID:2820260419T161422Z
DTSTAMP:20260419T161422Z
SUMMARY:MATH 20B (E00) (LE)
DESCRIPTION:
PRIORITY:5
CLASS:PUBLIC
END:VEVENT
BEGIN:VEVENT
ORGANIZER:
DTSTART:20251024T230000Z
DTEND:20251024T235000Z
LOCATION:PETER 108
UID:3020260419T161422Z
DTSTAMP:20260419T161422Z
SUMMARY:MATH 20B (E00) (LE)
DESCRIPTION:
PRIORITY:5
CLASS:PUBLIC
END:VEVENT
BEGIN:VEVENT
ORGANIZER:
DTSTART:20251027T230000Z
DTEND:20251027T235000Z
LOCATION:PETER 108
UID:3320260419T161422Z
DTSTAMP:20260419T161422Z
SUMMARY:MATH 20B (E00) (LE)
DESCRIPTION:
PRIORITY:5
CLASS:PUBLIC
END:VEVENT
BEGIN:VEVENT
ORGANIZER:
DTSTART:20251029T230000Z
DTEND:20251029T235000Z
LOCATION:PETER 108
UID:3520260419T161422Z
DTSTAMP:20260419T161422Z
SUMMARY:MATH 20B (E00) (LE)
DESCRIPTION:
PRIORITY:5
CLASS:PUBLIC
END:VEVENT
BEGIN:VEVENT
ORGANIZER:
DTSTART:20251031T230000Z
DTEND:20251031T235000Z
LOCATION:PETER 108
UID:3720260419T161422Z
DTSTAMP:20260419T161422Z
SUMMARY:MATH 20B (E00) (LE)
DESCRIPTION:
PRIORITY:5
CLASS:PUBLIC
END:VEVENT
BEGIN:VEVENT
ORGANIZER:
DTSTART:20251104T000000Z
DTEND:20251104T005000Z
LOCATION:PETER 108
UID:4020260419T161422Z
DTSTAMP:20260419T161422Z
SUMMARY:MATH 20B (E00) (LE)
DESCRIPTION:
PRIORITY:5
CLASS:PUBLIC
END:VEVENT
BEGIN:VEVENT
ORGANIZER:
DTSTART:20251106T000000Z
DTEND:20251106T005000Z
LOCATION:PETER 108
UID:4220260419T161422Z
DTSTAMP:20260419T161422Z
SUMMARY:MATH 20B (E00) (LE)
DESCRIPTION:
PRIORITY:5
CLASS:PUBLIC
END:VEVENT
BEGIN:VEVENT
ORGANIZER:
DTSTART:20251108T000000Z
DTEND:20251108T005000Z
LOCATION:PETER 108
UID:4420260419T161422Z
DTSTAMP:20260419T161422Z
SUMMARY:MATH 20B (E00) (LE)
DESCRIPTION:
PRIORITY:5
CLASS:PUBLIC
END:VEVENT
BEGIN:VEVENT
ORGANIZER:
DTSTART:20251111T000000Z
DTEND:20251111T005000Z
LOCATION:PETER 108
UID:4720260419T161422Z
DTSTAMP:20260419T161422Z
SUMMARY:MATH 20B (E00) (LE)
DESCRIPTION:
PRIORITY:5
CLASS:PUBLIC
END:VEVENT
BEGIN:VEVENT
ORGANIZER:
DTSTART:20251113T000000Z
DTEND:20251113T005000Z
LOCATION:PETER 108
UID:4920260419T161422Z
DTSTAMP:20260419T161422Z
SUMMARY:MATH 20B (E00) (LE)
DESCRIPTION:
PRIORITY:5
CLASS:PUBLIC
END:VEVENT
BEGIN:VEVENT
ORGANIZER:
DTSTART:20251115T000000Z
DTEND:20251115T005000Z
LOCATION:PETER 108
UID:5120260419T161422Z
DTSTAMP:20260419T161422Z
SUMMARY:MATH 20B (E00) (LE)
DESCRIPTION:
PRIORITY:5
CLASS:PUBLIC
END:VEVENT
BEGIN:VEVENT
ORGANIZER:
DTSTART:20251118T000000Z
DTEND:20251118T005000Z
LOCATION:PETER 108
UID:5420260419T161422Z
DTSTAMP:20260419T161422Z
SUMMARY:MATH 20B (E00) (LE)
DESCRIPTION:
PRIORITY:5
CLASS:PUBLIC
END:VEVENT
BEGIN:VEVENT
ORGANIZER:
DTSTART:20251120T000000Z
DTEND:20251120T005000Z
LOCATION:PETER 108
UID:5620260419T161422Z
DTSTAMP:20260419T161422Z
SUMMARY:MATH 20B (E00) (LE)
DESCRIPTION:
PRIORITY:5
CLASS:PUBLIC
END:VEVENT
BEGIN:VEVENT
ORGANIZER:
DTSTART:20251122T000000Z
DTEND:20251122T005000Z
LOCATION:PETER 108
UID:5820260419T161422Z
DTSTAMP:20260419T161422Z
SUMMARY:MATH 20B (E00) (LE)
DESCRIPTION:
PRIORITY:5
CLASS:PUBLIC
END:VEVENT
BEGIN:VEVENT
ORGANIZER:
DTSTART:20251125T000000Z
DTEND:20251125T005000Z
LOCATION:PETER 108
UID:6120260419T161422Z
DTSTAMP:20260419T161422Z
SUMMARY:MATH 20B (E00) (LE)
DESCRIPTION:
PRIORITY:5
CLASS:PUBLIC
END:VEVENT
BEGIN:VEVENT
ORGANIZER:
DTSTART:20251127T000000Z
DTEND:20251127T005000Z
LOCATION:PETER 108
UID:6320260419T161422Z
DTSTAMP:20260419T161422Z
SUMMARY:MATH 20B (E00) (LE)
DESCRIPTION:
PRIORITY:5
CLASS:PUBLIC
END:VEVENT
BEGIN:VEVENT
ORGANIZER:
DTSTART:20251129T000000Z
DTEND:20251129T005000Z
LOCATION:PETER 108
UID:6520260419T161422Z
DTSTAMP:20260419T161422Z
SUMMARY:MATH 20B (E00) (LE)
DESCRIPTION:
PRIORITY:5
CLASS:PUBLIC
END:VEVENT
BEGIN:VEVENT
ORGANIZER:
DTSTART:20251202T000000Z
DTEND:20251202T005000Z
LOCATION:PETER 108
UID:6820260419T161422Z
DTSTAMP:20260419T161422Z
SUMMARY:MATH 20B (E00) (LE)
DESCRIPTION:
PRIORITY:5
CLASS:PUBLIC
END:VEVENT
BEGIN:VEVENT
ORGANIZER:
DTSTART:20251204T000000Z
DTEND:20251204T005000Z
LOCATION:PETER 108
UID:7020260419T161422Z
DTSTAMP:20260419T161422Z
SUMMARY:MATH 20B (E00) (LE)
DESCRIPTION:
PRIORITY:5
CLASS:PUBLIC
END:VEVENT
BEGIN:VEVENT
ORGANIZER:
DTSTART:20251206T000000Z
DTEND:20251206T005000Z
LOCATION:PETER 108
UID:7220260419T161422Z
DTSTAMP:20260419T161422Z
SUMMARY:MATH 20B (E00) (LE)
DESCRIPTION:
PRIORITY:5
CLASS:PUBLIC
END:VEVENT
BEGIN:VEVENT
ORGANIZER:
DTSTART:20251209T230000Z
DTEND:20251210T015900Z
LOCATION: TBA
UID:8220260419T161422Z
DTSTAMP:20260419T161422Z
SUMMARY:MATH 20B (E00) (FI)
DESCRIPTION:
PRIORITY:5
CLASS:PUBLIC
END:VEVENT
END:VCALENDAR