BEGIN:VCALENDAR
VERSION:2.0
X-WR-CALNAME:CHEM 6B (A00) - General Chemistry II
METHOD:PUBLISH
BEGIN:VEVENT
ORGANIZER:
DTSTART:20170928T150000Z
DTEND:20170928T162000Z
LOCATION:YORK 2722
UID:420260419T150759Z
DTSTAMP:20260419T150759Z
SUMMARY:CHEM 6B (A00) (LE)
DESCRIPTION:
PRIORITY:5
CLASS:PUBLIC
END:VEVENT
BEGIN:VEVENT
ORGANIZER:
DTSTART:20171003T150000Z
DTEND:20171003T162000Z
LOCATION:YORK 2722
UID:920260419T150759Z
DTSTAMP:20260419T150759Z
SUMMARY:CHEM 6B (A00) (LE)
DESCRIPTION:
PRIORITY:5
CLASS:PUBLIC
END:VEVENT
BEGIN:VEVENT
ORGANIZER:
DTSTART:20171005T150000Z
DTEND:20171005T162000Z
LOCATION:YORK 2722
UID:1120260419T150759Z
DTSTAMP:20260419T150759Z
SUMMARY:CHEM 6B (A00) (LE)
DESCRIPTION:
PRIORITY:5
CLASS:PUBLIC
END:VEVENT
BEGIN:VEVENT
ORGANIZER:
DTSTART:20171010T150000Z
DTEND:20171010T162000Z
LOCATION:YORK 2722
UID:1620260419T150759Z
DTSTAMP:20260419T150759Z
SUMMARY:CHEM 6B (A00) (LE)
DESCRIPTION:
PRIORITY:5
CLASS:PUBLIC
END:VEVENT
BEGIN:VEVENT
ORGANIZER:
DTSTART:20171012T150000Z
DTEND:20171012T162000Z
LOCATION:YORK 2722
UID:1820260419T150759Z
DTSTAMP:20260419T150759Z
SUMMARY:CHEM 6B (A00) (LE)
DESCRIPTION:
PRIORITY:5
CLASS:PUBLIC
END:VEVENT
BEGIN:VEVENT
ORGANIZER:
DTSTART:20171017T150000Z
DTEND:20171017T162000Z
LOCATION:YORK 2722
UID:2320260419T150759Z
DTSTAMP:20260419T150759Z
SUMMARY:CHEM 6B (A00) (LE)
DESCRIPTION:
PRIORITY:5
CLASS:PUBLIC
END:VEVENT
BEGIN:VEVENT
ORGANIZER:
DTSTART:20171019T150000Z
DTEND:20171019T162000Z
LOCATION:YORK 2722
UID:2520260419T150759Z
DTSTAMP:20260419T150759Z
SUMMARY:CHEM 6B (A00) (LE)
DESCRIPTION:
PRIORITY:5
CLASS:PUBLIC
END:VEVENT
BEGIN:VEVENT
ORGANIZER:
DTSTART:20171024T150000Z
DTEND:20171024T162000Z
LOCATION:YORK 2722
UID:3020260419T150759Z
DTSTAMP:20260419T150759Z
SUMMARY:CHEM 6B (A00) (LE)
DESCRIPTION:
PRIORITY:5
CLASS:PUBLIC
END:VEVENT
BEGIN:VEVENT
ORGANIZER:
DTSTART:20171026T150000Z
DTEND:20171026T162000Z
LOCATION:YORK 2722
UID:3220260419T150759Z
DTSTAMP:20260419T150759Z
SUMMARY:CHEM 6B (A00) (LE)
DESCRIPTION:
PRIORITY:5
CLASS:PUBLIC
END:VEVENT
BEGIN:VEVENT
ORGANIZER:
DTSTART:20171031T150000Z
DTEND:20171031T162000Z
LOCATION:YORK 2722
UID:3720260419T150759Z
DTSTAMP:20260419T150759Z
SUMMARY:CHEM 6B (A00) (LE)
DESCRIPTION:
PRIORITY:5
CLASS:PUBLIC
END:VEVENT
BEGIN:VEVENT
ORGANIZER:
DTSTART:20171102T150000Z
DTEND:20171102T162000Z
LOCATION:YORK 2722
UID:3920260419T150759Z
DTSTAMP:20260419T150759Z
SUMMARY:CHEM 6B (A00) (LE)
DESCRIPTION:
PRIORITY:5
CLASS:PUBLIC
END:VEVENT
BEGIN:VEVENT
ORGANIZER:
DTSTART:20171107T160000Z
DTEND:20171107T172000Z
LOCATION:YORK 2722
UID:4420260419T150759Z
DTSTAMP:20260419T150759Z
SUMMARY:CHEM 6B (A00) (LE)
DESCRIPTION:
PRIORITY:5
CLASS:PUBLIC
END:VEVENT
BEGIN:VEVENT
ORGANIZER:
DTSTART:20171109T160000Z
DTEND:20171109T172000Z
LOCATION:YORK 2722
UID:4620260419T150759Z
DTSTAMP:20260419T150759Z
SUMMARY:CHEM 6B (A00) (LE)
DESCRIPTION:
PRIORITY:5
CLASS:PUBLIC
END:VEVENT
BEGIN:VEVENT
ORGANIZER:
DTSTART:20171114T160000Z
DTEND:20171114T172000Z
LOCATION:YORK 2722
UID:5120260419T150759Z
DTSTAMP:20260419T150759Z
SUMMARY:CHEM 6B (A00) (LE)
DESCRIPTION:
PRIORITY:5
CLASS:PUBLIC
END:VEVENT
BEGIN:VEVENT
ORGANIZER:
DTSTART:20171116T160000Z
DTEND:20171116T172000Z
LOCATION:YORK 2722
UID:5320260419T150759Z
DTSTAMP:20260419T150759Z
SUMMARY:CHEM 6B (A00) (LE)
DESCRIPTION:
PRIORITY:5
CLASS:PUBLIC
END:VEVENT
BEGIN:VEVENT
ORGANIZER:
DTSTART:20171121T160000Z
DTEND:20171121T172000Z
LOCATION:YORK 2722
UID:5820260419T150759Z
DTSTAMP:20260419T150759Z
SUMMARY:CHEM 6B (A00) (LE)
DESCRIPTION:
PRIORITY:5
CLASS:PUBLIC
END:VEVENT
BEGIN:VEVENT
ORGANIZER:
DTSTART:20171123T160000Z
DTEND:20171123T172000Z
LOCATION:YORK 2722
UID:6020260419T150759Z
DTSTAMP:20260419T150759Z
SUMMARY:CHEM 6B (A00) (LE)
DESCRIPTION:
PRIORITY:5
CLASS:PUBLIC
END:VEVENT
BEGIN:VEVENT
ORGANIZER:
DTSTART:20171128T160000Z
DTEND:20171128T172000Z
LOCATION:YORK 2722
UID:6520260419T150759Z
DTSTAMP:20260419T150759Z
SUMMARY:CHEM 6B (A00) (LE)
DESCRIPTION:
PRIORITY:5
CLASS:PUBLIC
END:VEVENT
BEGIN:VEVENT
ORGANIZER:
DTSTART:20171130T160000Z
DTEND:20171130T172000Z
LOCATION:YORK 2722
UID:6720260419T150759Z
DTSTAMP:20260419T150759Z
SUMMARY:CHEM 6B (A00) (LE)
DESCRIPTION:
PRIORITY:5
CLASS:PUBLIC
END:VEVENT
BEGIN:VEVENT
ORGANIZER:
DTSTART:20171205T160000Z
DTEND:20171205T172000Z
LOCATION:YORK 2722
UID:7220260419T150759Z
DTSTAMP:20260419T150759Z
SUMMARY:CHEM 6B (A00) (LE)
DESCRIPTION:
PRIORITY:5
CLASS:PUBLIC
END:VEVENT
BEGIN:VEVENT
ORGANIZER:
DTSTART:20171207T160000Z
DTEND:20171207T172000Z
LOCATION:YORK 2722
UID:7420260419T150759Z
DTSTAMP:20260419T150759Z
SUMMARY:CHEM 6B (A00) (LE)
DESCRIPTION:
PRIORITY:5
CLASS:PUBLIC
END:VEVENT
BEGIN:VEVENT
ORGANIZER:
DTSTART:20171024T020000Z
DTEND:20171024T035000Z
LOCATION:PCYNH 106
UID:8320260419T150759Z
DTSTAMP:20260419T150759Z
SUMMARY:CHEM 6B (A00) (RE)
DESCRIPTION:
PRIORITY:5
CLASS:PUBLIC
END:VEVENT
BEGIN:VEVENT
ORGANIZER:
DTSTART:20171127T020000Z
DTEND:20171127T035000Z
LOCATION:CENTR 119
UID:8420260419T150759Z
DTSTAMP:20260419T150759Z
SUMMARY:CHEM 6B (A00) (RE)
DESCRIPTION:
PRIORITY:5
CLASS:PUBLIC
END:VEVENT
BEGIN:VEVENT
ORGANIZER:
DTSTART:20171211T000000Z
DTEND:20171211T015000Z
LOCATION:CENTR 115
UID:8520260419T150759Z
DTSTAMP:20260419T150759Z
SUMMARY:CHEM 6B (A00) (RE)
DESCRIPTION:
PRIORITY:5
CLASS:PUBLIC
END:VEVENT
BEGIN:VEVENT
ORGANIZER:
DTSTART:20171212T160000Z
DTEND:20171212T185900Z
LOCATION: TBA
UID:8620260419T150759Z
DTSTAMP:20260419T150759Z
SUMMARY:CHEM 6B (A00) (FI)
DESCRIPTION:
PRIORITY:5
CLASS:PUBLIC
END:VEVENT
END:VCALENDAR