BEGIN:VCALENDAR
VERSION:2.0
X-WR-CALNAME:POLI 104A (A00) - Supreme Court & Constitution
METHOD:PUBLISH
BEGIN:VEVENT
ORGANIZER:
DTSTART:20170703T180000Z
DTEND:20170703T205000Z
LOCATION:HSS 2321
UID:120260419T150759Z
DTSTAMP:20260419T150759Z
SUMMARY:POLI 104A (A00) (LE)
DESCRIPTION:
PRIORITY:5
CLASS:PUBLIC
END:VEVENT
BEGIN:VEVENT
ORGANIZER:
DTSTART:20170705T180000Z
DTEND:20170705T205000Z
LOCATION:HSS 2321
UID:320260419T150759Z
DTSTAMP:20260419T150759Z
SUMMARY:POLI 104A (A00) (LE)
DESCRIPTION:
PRIORITY:5
CLASS:PUBLIC
END:VEVENT
BEGIN:VEVENT
ORGANIZER:
DTSTART:20170710T180000Z
DTEND:20170710T205000Z
LOCATION:HSS 2321
UID:820260419T150759Z
DTSTAMP:20260419T150759Z
SUMMARY:POLI 104A (A00) (LE)
DESCRIPTION:
PRIORITY:5
CLASS:PUBLIC
END:VEVENT
BEGIN:VEVENT
ORGANIZER:
DTSTART:20170712T180000Z
DTEND:20170712T205000Z
LOCATION:HSS 2321
UID:1020260419T150759Z
DTSTAMP:20260419T150759Z
SUMMARY:POLI 104A (A00) (LE)
DESCRIPTION:
PRIORITY:5
CLASS:PUBLIC
END:VEVENT
BEGIN:VEVENT
ORGANIZER:
DTSTART:20170717T180000Z
DTEND:20170717T205000Z
LOCATION:HSS 2321
UID:1520260419T150759Z
DTSTAMP:20260419T150759Z
SUMMARY:POLI 104A (A00) (LE)
DESCRIPTION:
PRIORITY:5
CLASS:PUBLIC
END:VEVENT
BEGIN:VEVENT
ORGANIZER:
DTSTART:20170719T180000Z
DTEND:20170719T205000Z
LOCATION:HSS 2321
UID:1720260419T150759Z
DTSTAMP:20260419T150759Z
SUMMARY:POLI 104A (A00) (LE)
DESCRIPTION:
PRIORITY:5
CLASS:PUBLIC
END:VEVENT
BEGIN:VEVENT
ORGANIZER:
DTSTART:20170724T180000Z
DTEND:20170724T205000Z
LOCATION:HSS 2321
UID:2220260419T150759Z
DTSTAMP:20260419T150759Z
SUMMARY:POLI 104A (A00) (LE)
DESCRIPTION:
PRIORITY:5
CLASS:PUBLIC
END:VEVENT
BEGIN:VEVENT
ORGANIZER:
DTSTART:20170726T180000Z
DTEND:20170726T205000Z
LOCATION:HSS 2321
UID:2420260419T150759Z
DTSTAMP:20260419T150759Z
SUMMARY:POLI 104A (A00) (LE)
DESCRIPTION:
PRIORITY:5
CLASS:PUBLIC
END:VEVENT
BEGIN:VEVENT
ORGANIZER:
DTSTART:20170731T180000Z
DTEND:20170731T205000Z
LOCATION:HSS 2321
UID:2920260419T150759Z
DTSTAMP:20260419T150759Z
SUMMARY:POLI 104A (A00) (LE)
DESCRIPTION:
PRIORITY:5
CLASS:PUBLIC
END:VEVENT
BEGIN:VEVENT
ORGANIZER:
DTSTART:20170802T180000Z
DTEND:20170802T205000Z
LOCATION:HSS 2321
UID:3120260419T150759Z
DTSTAMP:20260419T150759Z
SUMMARY:POLI 104A (A00) (LE)
DESCRIPTION:
PRIORITY:5
CLASS:PUBLIC
END:VEVENT
BEGIN:VEVENT
ORGANIZER:
DTSTART:20170804T183000Z
DTEND:20170804T212900Z
LOCATION: TBA
UID:3620260419T150759Z
DTSTAMP:20260419T150759Z
SUMMARY:POLI 104A (A00) (FI)
DESCRIPTION:
PRIORITY:5
CLASS:PUBLIC
END:VEVENT
END:VCALENDAR