BEGIN:VCALENDAR
VERSION:2.0
X-WR-CALNAME:POLI 122D (A00) - Abuse of Power
METHOD:PUBLISH
BEGIN:VEVENT
ORGANIZER:
DTSTART:20160922T223000Z
DTEND:20160922T235000Z
LOCATION:HSS 1330
UID:120260419T132657Z
DTSTAMP:20260419T132657Z
SUMMARY:POLI 122D (A00) (LE)
DESCRIPTION:
PRIORITY:5
CLASS:PUBLIC
END:VEVENT
BEGIN:VEVENT
ORGANIZER:
DTSTART:20160927T223000Z
DTEND:20160927T235000Z
LOCATION:HSS 1330
UID:620260419T132657Z
DTSTAMP:20260419T132657Z
SUMMARY:POLI 122D (A00) (LE)
DESCRIPTION:
PRIORITY:5
CLASS:PUBLIC
END:VEVENT
BEGIN:VEVENT
ORGANIZER:
DTSTART:20160929T223000Z
DTEND:20160929T235000Z
LOCATION:HSS 1330
UID:820260419T132657Z
DTSTAMP:20260419T132657Z
SUMMARY:POLI 122D (A00) (LE)
DESCRIPTION:
PRIORITY:5
CLASS:PUBLIC
END:VEVENT
BEGIN:VEVENT
ORGANIZER:
DTSTART:20161004T223000Z
DTEND:20161004T235000Z
LOCATION:HSS 1330
UID:1320260419T132657Z
DTSTAMP:20260419T132657Z
SUMMARY:POLI 122D (A00) (LE)
DESCRIPTION:
PRIORITY:5
CLASS:PUBLIC
END:VEVENT
BEGIN:VEVENT
ORGANIZER:
DTSTART:20161006T223000Z
DTEND:20161006T235000Z
LOCATION:HSS 1330
UID:1520260419T132657Z
DTSTAMP:20260419T132657Z
SUMMARY:POLI 122D (A00) (LE)
DESCRIPTION:
PRIORITY:5
CLASS:PUBLIC
END:VEVENT
BEGIN:VEVENT
ORGANIZER:
DTSTART:20161011T223000Z
DTEND:20161011T235000Z
LOCATION:HSS 1330
UID:2020260419T132657Z
DTSTAMP:20260419T132657Z
SUMMARY:POLI 122D (A00) (LE)
DESCRIPTION:
PRIORITY:5
CLASS:PUBLIC
END:VEVENT
BEGIN:VEVENT
ORGANIZER:
DTSTART:20161013T223000Z
DTEND:20161013T235000Z
LOCATION:HSS 1330
UID:2220260419T132657Z
DTSTAMP:20260419T132657Z
SUMMARY:POLI 122D (A00) (LE)
DESCRIPTION:
PRIORITY:5
CLASS:PUBLIC
END:VEVENT
BEGIN:VEVENT
ORGANIZER:
DTSTART:20161018T223000Z
DTEND:20161018T235000Z
LOCATION:HSS 1330
UID:2720260419T132657Z
DTSTAMP:20260419T132657Z
SUMMARY:POLI 122D (A00) (LE)
DESCRIPTION:
PRIORITY:5
CLASS:PUBLIC
END:VEVENT
BEGIN:VEVENT
ORGANIZER:
DTSTART:20161020T223000Z
DTEND:20161020T235000Z
LOCATION:HSS 1330
UID:2920260419T132657Z
DTSTAMP:20260419T132657Z
SUMMARY:POLI 122D (A00) (LE)
DESCRIPTION:
PRIORITY:5
CLASS:PUBLIC
END:VEVENT
BEGIN:VEVENT
ORGANIZER:
DTSTART:20161025T223000Z
DTEND:20161025T235000Z
LOCATION:HSS 1330
UID:3420260419T132657Z
DTSTAMP:20260419T132657Z
SUMMARY:POLI 122D (A00) (LE)
DESCRIPTION:
PRIORITY:5
CLASS:PUBLIC
END:VEVENT
BEGIN:VEVENT
ORGANIZER:
DTSTART:20161027T223000Z
DTEND:20161027T235000Z
LOCATION:HSS 1330
UID:3620260419T132657Z
DTSTAMP:20260419T132657Z
SUMMARY:POLI 122D (A00) (LE)
DESCRIPTION:
PRIORITY:5
CLASS:PUBLIC
END:VEVENT
BEGIN:VEVENT
ORGANIZER:
DTSTART:20161101T223000Z
DTEND:20161101T235000Z
LOCATION:HSS 1330
UID:4120260419T132657Z
DTSTAMP:20260419T132657Z
SUMMARY:POLI 122D (A00) (LE)
DESCRIPTION:
PRIORITY:5
CLASS:PUBLIC
END:VEVENT
BEGIN:VEVENT
ORGANIZER:
DTSTART:20161103T223000Z
DTEND:20161103T235000Z
LOCATION:HSS 1330
UID:4320260419T132657Z
DTSTAMP:20260419T132657Z
SUMMARY:POLI 122D (A00) (LE)
DESCRIPTION:
PRIORITY:5
CLASS:PUBLIC
END:VEVENT
BEGIN:VEVENT
ORGANIZER:
DTSTART:20161108T233000Z
DTEND:20161109T005000Z
LOCATION:HSS 1330
UID:4820260419T132657Z
DTSTAMP:20260419T132657Z
SUMMARY:POLI 122D (A00) (LE)
DESCRIPTION:
PRIORITY:5
CLASS:PUBLIC
END:VEVENT
BEGIN:VEVENT
ORGANIZER:
DTSTART:20161110T233000Z
DTEND:20161111T005000Z
LOCATION:HSS 1330
UID:5020260419T132657Z
DTSTAMP:20260419T132657Z
SUMMARY:POLI 122D (A00) (LE)
DESCRIPTION:
PRIORITY:5
CLASS:PUBLIC
END:VEVENT
BEGIN:VEVENT
ORGANIZER:
DTSTART:20161115T233000Z
DTEND:20161116T005000Z
LOCATION:HSS 1330
UID:5520260419T132657Z
DTSTAMP:20260419T132657Z
SUMMARY:POLI 122D (A00) (LE)
DESCRIPTION:
PRIORITY:5
CLASS:PUBLIC
END:VEVENT
BEGIN:VEVENT
ORGANIZER:
DTSTART:20161117T233000Z
DTEND:20161118T005000Z
LOCATION:HSS 1330
UID:5720260419T132657Z
DTSTAMP:20260419T132657Z
SUMMARY:POLI 122D (A00) (LE)
DESCRIPTION:
PRIORITY:5
CLASS:PUBLIC
END:VEVENT
BEGIN:VEVENT
ORGANIZER:
DTSTART:20161122T233000Z
DTEND:20161123T005000Z
LOCATION:HSS 1330
UID:6220260419T132657Z
DTSTAMP:20260419T132657Z
SUMMARY:POLI 122D (A00) (LE)
DESCRIPTION:
PRIORITY:5
CLASS:PUBLIC
END:VEVENT
BEGIN:VEVENT
ORGANIZER:
DTSTART:20161124T233000Z
DTEND:20161125T005000Z
LOCATION:HSS 1330
UID:6420260419T132657Z
DTSTAMP:20260419T132657Z
SUMMARY:POLI 122D (A00) (LE)
DESCRIPTION:
PRIORITY:5
CLASS:PUBLIC
END:VEVENT
BEGIN:VEVENT
ORGANIZER:
DTSTART:20161129T233000Z
DTEND:20161130T005000Z
LOCATION:HSS 1330
UID:6920260419T132657Z
DTSTAMP:20260419T132657Z
SUMMARY:POLI 122D (A00) (LE)
DESCRIPTION:
PRIORITY:5
CLASS:PUBLIC
END:VEVENT
BEGIN:VEVENT
ORGANIZER:
DTSTART:20161201T233000Z
DTEND:20161202T005000Z
LOCATION:HSS 1330
UID:7120260419T132657Z
DTSTAMP:20260419T132657Z
SUMMARY:POLI 122D (A00) (LE)
DESCRIPTION:
PRIORITY:5
CLASS:PUBLIC
END:VEVENT
BEGIN:VEVENT
ORGANIZER:
DTSTART:20161205T230000Z
DTEND:20161206T015900Z
LOCATION: TBA
UID:7420260419T132657Z
DTSTAMP:20260419T132657Z
SUMMARY:POLI 122D (A00) (FI)
DESCRIPTION:
PRIORITY:5
CLASS:PUBLIC
END:VEVENT
END:VCALENDAR