BEGIN:VCALENDAR
VERSION:2.0
X-WR-CALNAME:POLI 104J (A00) - Introduction/Legal Reasoning
METHOD:PUBLISH
BEGIN:VEVENT
ORGANIZER:
DTSTART:20250107T203000Z
DTEND:20250107T215000Z
LOCATION:MOS 0114
UID:220260420T062656Z
DTSTAMP:20260420T062656Z
SUMMARY:POLI 104J (A00) (LE)
DESCRIPTION:
PRIORITY:5
CLASS:PUBLIC
END:VEVENT
BEGIN:VEVENT
ORGANIZER:
DTSTART:20250109T203000Z
DTEND:20250109T215000Z
LOCATION:MOS 0114
UID:420260420T062656Z
DTSTAMP:20260420T062656Z
SUMMARY:POLI 104J (A00) (LE)
DESCRIPTION:
PRIORITY:5
CLASS:PUBLIC
END:VEVENT
BEGIN:VEVENT
ORGANIZER:
DTSTART:20250114T203000Z
DTEND:20250114T215000Z
LOCATION:MOS 0114
UID:920260420T062656Z
DTSTAMP:20260420T062656Z
SUMMARY:POLI 104J (A00) (LE)
DESCRIPTION:
PRIORITY:5
CLASS:PUBLIC
END:VEVENT
BEGIN:VEVENT
ORGANIZER:
DTSTART:20250116T203000Z
DTEND:20250116T215000Z
LOCATION:MOS 0114
UID:1120260420T062656Z
DTSTAMP:20260420T062656Z
SUMMARY:POLI 104J (A00) (LE)
DESCRIPTION:
PRIORITY:5
CLASS:PUBLIC
END:VEVENT
BEGIN:VEVENT
ORGANIZER:
DTSTART:20250121T203000Z
DTEND:20250121T215000Z
LOCATION:MOS 0114
UID:1620260420T062656Z
DTSTAMP:20260420T062656Z
SUMMARY:POLI 104J (A00) (LE)
DESCRIPTION:
PRIORITY:5
CLASS:PUBLIC
END:VEVENT
BEGIN:VEVENT
ORGANIZER:
DTSTART:20250123T203000Z
DTEND:20250123T215000Z
LOCATION:MOS 0114
UID:1820260420T062656Z
DTSTAMP:20260420T062656Z
SUMMARY:POLI 104J (A00) (LE)
DESCRIPTION:
PRIORITY:5
CLASS:PUBLIC
END:VEVENT
BEGIN:VEVENT
ORGANIZER:
DTSTART:20250128T203000Z
DTEND:20250128T215000Z
LOCATION:MOS 0114
UID:2320260420T062656Z
DTSTAMP:20260420T062656Z
SUMMARY:POLI 104J (A00) (LE)
DESCRIPTION:
PRIORITY:5
CLASS:PUBLIC
END:VEVENT
BEGIN:VEVENT
ORGANIZER:
DTSTART:20250130T203000Z
DTEND:20250130T215000Z
LOCATION:MOS 0114
UID:2520260420T062656Z
DTSTAMP:20260420T062656Z
SUMMARY:POLI 104J (A00) (LE)
DESCRIPTION:
PRIORITY:5
CLASS:PUBLIC
END:VEVENT
BEGIN:VEVENT
ORGANIZER:
DTSTART:20250204T203000Z
DTEND:20250204T215000Z
LOCATION:MOS 0114
UID:3020260420T062656Z
DTSTAMP:20260420T062656Z
SUMMARY:POLI 104J (A00) (LE)
DESCRIPTION:
PRIORITY:5
CLASS:PUBLIC
END:VEVENT
BEGIN:VEVENT
ORGANIZER:
DTSTART:20250206T203000Z
DTEND:20250206T215000Z
LOCATION:MOS 0114
UID:3220260420T062656Z
DTSTAMP:20260420T062656Z
SUMMARY:POLI 104J (A00) (LE)
DESCRIPTION:
PRIORITY:5
CLASS:PUBLIC
END:VEVENT
BEGIN:VEVENT
ORGANIZER:
DTSTART:20250211T203000Z
DTEND:20250211T215000Z
LOCATION:MOS 0114
UID:3720260420T062656Z
DTSTAMP:20260420T062656Z
SUMMARY:POLI 104J (A00) (LE)
DESCRIPTION:
PRIORITY:5
CLASS:PUBLIC
END:VEVENT
BEGIN:VEVENT
ORGANIZER:
DTSTART:20250213T203000Z
DTEND:20250213T215000Z
LOCATION:MOS 0114
UID:3920260420T062656Z
DTSTAMP:20260420T062656Z
SUMMARY:POLI 104J (A00) (LE)
DESCRIPTION:
PRIORITY:5
CLASS:PUBLIC
END:VEVENT
BEGIN:VEVENT
ORGANIZER:
DTSTART:20250218T203000Z
DTEND:20250218T215000Z
LOCATION:MOS 0114
UID:4420260420T062656Z
DTSTAMP:20260420T062656Z
SUMMARY:POLI 104J (A00) (LE)
DESCRIPTION:
PRIORITY:5
CLASS:PUBLIC
END:VEVENT
BEGIN:VEVENT
ORGANIZER:
DTSTART:20250220T203000Z
DTEND:20250220T215000Z
LOCATION:MOS 0114
UID:4620260420T062656Z
DTSTAMP:20260420T062656Z
SUMMARY:POLI 104J (A00) (LE)
DESCRIPTION:
PRIORITY:5
CLASS:PUBLIC
END:VEVENT
BEGIN:VEVENT
ORGANIZER:
DTSTART:20250225T203000Z
DTEND:20250225T215000Z
LOCATION:MOS 0114
UID:5120260420T062656Z
DTSTAMP:20260420T062656Z
SUMMARY:POLI 104J (A00) (LE)
DESCRIPTION:
PRIORITY:5
CLASS:PUBLIC
END:VEVENT
BEGIN:VEVENT
ORGANIZER:
DTSTART:20250227T203000Z
DTEND:20250227T215000Z
LOCATION:MOS 0114
UID:5320260420T062656Z
DTSTAMP:20260420T062656Z
SUMMARY:POLI 104J (A00) (LE)
DESCRIPTION:
PRIORITY:5
CLASS:PUBLIC
END:VEVENT
BEGIN:VEVENT
ORGANIZER:
DTSTART:20250304T203000Z
DTEND:20250304T215000Z
LOCATION:MOS 0114
UID:5820260420T062656Z
DTSTAMP:20260420T062656Z
SUMMARY:POLI 104J (A00) (LE)
DESCRIPTION:
PRIORITY:5
CLASS:PUBLIC
END:VEVENT
BEGIN:VEVENT
ORGANIZER:
DTSTART:20250306T203000Z
DTEND:20250306T215000Z
LOCATION:MOS 0114
UID:6020260420T062656Z
DTSTAMP:20260420T062656Z
SUMMARY:POLI 104J (A00) (LE)
DESCRIPTION:
PRIORITY:5
CLASS:PUBLIC
END:VEVENT
BEGIN:VEVENT
ORGANIZER:
DTSTART:20250311T193000Z
DTEND:20250311T205000Z
LOCATION:MOS 0114
UID:6520260420T062656Z
DTSTAMP:20260420T062656Z
SUMMARY:POLI 104J (A00) (LE)
DESCRIPTION:
PRIORITY:5
CLASS:PUBLIC
END:VEVENT
BEGIN:VEVENT
ORGANIZER:
DTSTART:20250313T193000Z
DTEND:20250313T205000Z
LOCATION:MOS 0114
UID:6720260420T062656Z
DTSTAMP:20260420T062656Z
SUMMARY:POLI 104J (A00) (LE)
DESCRIPTION:
PRIORITY:5
CLASS:PUBLIC
END:VEVENT
BEGIN:VEVENT
ORGANIZER:
DTSTART:20250318T183000Z
DTEND:20250318T212900Z
LOCATION: TBA
UID:7020260420T062656Z
DTSTAMP:20260420T062656Z
SUMMARY:POLI 104J (A00) (FI)
DESCRIPTION:
PRIORITY:5
CLASS:PUBLIC
END:VEVENT
END:VCALENDAR