BEGIN:VCALENDAR
VERSION:2.0
X-WR-CALNAME:PHYS 4E (A02) - Physics Majors-Quantum Physics
METHOD:PUBLISH
BEGIN:VEVENT
ORGANIZER:
DTSTART:20240405T230000Z
DTEND:20240405T235000Z
LOCATION:WLH 2204
UID:520260420T053909Z
DTSTAMP:20260420T053909Z
SUMMARY:PHYS 4E (A00) (LE)
DESCRIPTION:
PRIORITY:5
CLASS:PUBLIC
END:VEVENT
BEGIN:VEVENT
ORGANIZER:
DTSTART:20240412T230000Z
DTEND:20240412T235000Z
LOCATION:WLH 2204
UID:1220260420T053909Z
DTSTAMP:20260420T053909Z
SUMMARY:PHYS 4E (A00) (LE)
DESCRIPTION:
PRIORITY:5
CLASS:PUBLIC
END:VEVENT
BEGIN:VEVENT
ORGANIZER:
DTSTART:20240419T230000Z
DTEND:20240419T235000Z
LOCATION:WLH 2204
UID:1920260420T053909Z
DTSTAMP:20260420T053909Z
SUMMARY:PHYS 4E (A00) (LE)
DESCRIPTION:
PRIORITY:5
CLASS:PUBLIC
END:VEVENT
BEGIN:VEVENT
ORGANIZER:
DTSTART:20240426T230000Z
DTEND:20240426T235000Z
LOCATION:WLH 2204
UID:2620260420T053909Z
DTSTAMP:20260420T053909Z
SUMMARY:PHYS 4E (A00) (LE)
DESCRIPTION:
PRIORITY:5
CLASS:PUBLIC
END:VEVENT
BEGIN:VEVENT
ORGANIZER:
DTSTART:20240503T230000Z
DTEND:20240503T235000Z
LOCATION:WLH 2204
UID:3320260420T053909Z
DTSTAMP:20260420T053909Z
SUMMARY:PHYS 4E (A00) (LE)
DESCRIPTION:
PRIORITY:5
CLASS:PUBLIC
END:VEVENT
BEGIN:VEVENT
ORGANIZER:
DTSTART:20240510T230000Z
DTEND:20240510T235000Z
LOCATION:WLH 2204
UID:4020260420T053909Z
DTSTAMP:20260420T053909Z
SUMMARY:PHYS 4E (A00) (LE)
DESCRIPTION:
PRIORITY:5
CLASS:PUBLIC
END:VEVENT
BEGIN:VEVENT
ORGANIZER:
DTSTART:20240517T230000Z
DTEND:20240517T235000Z
LOCATION:WLH 2204
UID:4720260420T053909Z
DTSTAMP:20260420T053909Z
SUMMARY:PHYS 4E (A00) (LE)
DESCRIPTION:
PRIORITY:5
CLASS:PUBLIC
END:VEVENT
BEGIN:VEVENT
ORGANIZER:
DTSTART:20240524T230000Z
DTEND:20240524T235000Z
LOCATION:WLH 2204
UID:5420260420T053909Z
DTSTAMP:20260420T053909Z
SUMMARY:PHYS 4E (A00) (LE)
DESCRIPTION:
PRIORITY:5
CLASS:PUBLIC
END:VEVENT
BEGIN:VEVENT
ORGANIZER:
DTSTART:20240531T230000Z
DTEND:20240531T235000Z
LOCATION:WLH 2204
UID:6120260420T053909Z
DTSTAMP:20260420T053909Z
SUMMARY:PHYS 4E (A00) (LE)
DESCRIPTION:
PRIORITY:5
CLASS:PUBLIC
END:VEVENT
BEGIN:VEVENT
ORGANIZER:
DTSTART:20240607T230000Z
DTEND:20240607T235000Z
LOCATION:WLH 2204
UID:6820260420T053909Z
DTSTAMP:20260420T053909Z
SUMMARY:PHYS 4E (A00) (LE)
DESCRIPTION:
PRIORITY:5
CLASS:PUBLIC
END:VEVENT
BEGIN:VEVENT
ORGANIZER:
DTSTART:20240401T190000Z
DTEND:20240401T195000Z
LOCATION:PETER 102
UID:7020260420T053909Z
DTSTAMP:20260420T053909Z
SUMMARY:PHYS 4E (A00) (LE)
DESCRIPTION:
PRIORITY:5
CLASS:PUBLIC
END:VEVENT
BEGIN:VEVENT
ORGANIZER:
DTSTART:20240403T190000Z
DTEND:20240403T195000Z
LOCATION:PETER 102
UID:7220260420T053909Z
DTSTAMP:20260420T053909Z
SUMMARY:PHYS 4E (A00) (LE)
DESCRIPTION:
PRIORITY:5
CLASS:PUBLIC
END:VEVENT
BEGIN:VEVENT
ORGANIZER:
DTSTART:20240405T190000Z
DTEND:20240405T195000Z
LOCATION:PETER 102
UID:7420260420T053909Z
DTSTAMP:20260420T053909Z
SUMMARY:PHYS 4E (A00) (LE)
DESCRIPTION:
PRIORITY:5
CLASS:PUBLIC
END:VEVENT
BEGIN:VEVENT
ORGANIZER:
DTSTART:20240408T190000Z
DTEND:20240408T195000Z
LOCATION:PETER 102
UID:7720260420T053909Z
DTSTAMP:20260420T053909Z
SUMMARY:PHYS 4E (A00) (LE)
DESCRIPTION:
PRIORITY:5
CLASS:PUBLIC
END:VEVENT
BEGIN:VEVENT
ORGANIZER:
DTSTART:20240410T190000Z
DTEND:20240410T195000Z
LOCATION:PETER 102
UID:7920260420T053909Z
DTSTAMP:20260420T053909Z
SUMMARY:PHYS 4E (A00) (LE)
DESCRIPTION:
PRIORITY:5
CLASS:PUBLIC
END:VEVENT
BEGIN:VEVENT
ORGANIZER:
DTSTART:20240412T190000Z
DTEND:20240412T195000Z
LOCATION:PETER 102
UID:8120260420T053909Z
DTSTAMP:20260420T053909Z
SUMMARY:PHYS 4E (A00) (LE)
DESCRIPTION:
PRIORITY:5
CLASS:PUBLIC
END:VEVENT
BEGIN:VEVENT
ORGANIZER:
DTSTART:20240415T190000Z
DTEND:20240415T195000Z
LOCATION:PETER 102
UID:8420260420T053909Z
DTSTAMP:20260420T053909Z
SUMMARY:PHYS 4E (A00) (LE)
DESCRIPTION:
PRIORITY:5
CLASS:PUBLIC
END:VEVENT
BEGIN:VEVENT
ORGANIZER:
DTSTART:20240417T190000Z
DTEND:20240417T195000Z
LOCATION:PETER 102
UID:8620260420T053909Z
DTSTAMP:20260420T053909Z
SUMMARY:PHYS 4E (A00) (LE)
DESCRIPTION:
PRIORITY:5
CLASS:PUBLIC
END:VEVENT
BEGIN:VEVENT
ORGANIZER:
DTSTART:20240419T190000Z
DTEND:20240419T195000Z
LOCATION:PETER 102
UID:8820260420T053909Z
DTSTAMP:20260420T053909Z
SUMMARY:PHYS 4E (A00) (LE)
DESCRIPTION:
PRIORITY:5
CLASS:PUBLIC
END:VEVENT
BEGIN:VEVENT
ORGANIZER:
DTSTART:20240422T190000Z
DTEND:20240422T195000Z
LOCATION:PETER 102
UID:9120260420T053909Z
DTSTAMP:20260420T053909Z
SUMMARY:PHYS 4E (A00) (LE)
DESCRIPTION:
PRIORITY:5
CLASS:PUBLIC
END:VEVENT
BEGIN:VEVENT
ORGANIZER:
DTSTART:20240424T190000Z
DTEND:20240424T195000Z
LOCATION:PETER 102
UID:9320260420T053909Z
DTSTAMP:20260420T053909Z
SUMMARY:PHYS 4E (A00) (LE)
DESCRIPTION:
PRIORITY:5
CLASS:PUBLIC
END:VEVENT
BEGIN:VEVENT
ORGANIZER:
DTSTART:20240426T190000Z
DTEND:20240426T195000Z
LOCATION:PETER 102
UID:9520260420T053909Z
DTSTAMP:20260420T053909Z
SUMMARY:PHYS 4E (A00) (LE)
DESCRIPTION:
PRIORITY:5
CLASS:PUBLIC
END:VEVENT
BEGIN:VEVENT
ORGANIZER:
DTSTART:20240429T190000Z
DTEND:20240429T195000Z
LOCATION:PETER 102
UID:9820260420T053909Z
DTSTAMP:20260420T053909Z
SUMMARY:PHYS 4E (A00) (LE)
DESCRIPTION:
PRIORITY:5
CLASS:PUBLIC
END:VEVENT
BEGIN:VEVENT
ORGANIZER:
DTSTART:20240501T190000Z
DTEND:20240501T195000Z
LOCATION:PETER 102
UID:10020260420T053909Z
DTSTAMP:20260420T053909Z
SUMMARY:PHYS 4E (A00) (LE)
DESCRIPTION:
PRIORITY:5
CLASS:PUBLIC
END:VEVENT
BEGIN:VEVENT
ORGANIZER:
DTSTART:20240503T190000Z
DTEND:20240503T195000Z
LOCATION:PETER 102
UID:10220260420T053909Z
DTSTAMP:20260420T053909Z
SUMMARY:PHYS 4E (A00) (LE)
DESCRIPTION:
PRIORITY:5
CLASS:PUBLIC
END:VEVENT
BEGIN:VEVENT
ORGANIZER:
DTSTART:20240506T190000Z
DTEND:20240506T195000Z
LOCATION:PETER 102
UID:10520260420T053909Z
DTSTAMP:20260420T053909Z
SUMMARY:PHYS 4E (A00) (LE)
DESCRIPTION:
PRIORITY:5
CLASS:PUBLIC
END:VEVENT
BEGIN:VEVENT
ORGANIZER:
DTSTART:20240508T190000Z
DTEND:20240508T195000Z
LOCATION:PETER 102
UID:10720260420T053909Z
DTSTAMP:20260420T053909Z
SUMMARY:PHYS 4E (A00) (LE)
DESCRIPTION:
PRIORITY:5
CLASS:PUBLIC
END:VEVENT
BEGIN:VEVENT
ORGANIZER:
DTSTART:20240510T190000Z
DTEND:20240510T195000Z
LOCATION:PETER 102
UID:10920260420T053909Z
DTSTAMP:20260420T053909Z
SUMMARY:PHYS 4E (A00) (LE)
DESCRIPTION:
PRIORITY:5
CLASS:PUBLIC
END:VEVENT
BEGIN:VEVENT
ORGANIZER:
DTSTART:20240513T190000Z
DTEND:20240513T195000Z
LOCATION:PETER 102
UID:11220260420T053909Z
DTSTAMP:20260420T053909Z
SUMMARY:PHYS 4E (A00) (LE)
DESCRIPTION:
PRIORITY:5
CLASS:PUBLIC
END:VEVENT
BEGIN:VEVENT
ORGANIZER:
DTSTART:20240515T190000Z
DTEND:20240515T195000Z
LOCATION:PETER 102
UID:11420260420T053909Z
DTSTAMP:20260420T053909Z
SUMMARY:PHYS 4E (A00) (LE)
DESCRIPTION:
PRIORITY:5
CLASS:PUBLIC
END:VEVENT
BEGIN:VEVENT
ORGANIZER:
DTSTART:20240517T190000Z
DTEND:20240517T195000Z
LOCATION:PETER 102
UID:11620260420T053909Z
DTSTAMP:20260420T053909Z
SUMMARY:PHYS 4E (A00) (LE)
DESCRIPTION:
PRIORITY:5
CLASS:PUBLIC
END:VEVENT
BEGIN:VEVENT
ORGANIZER:
DTSTART:20240520T190000Z
DTEND:20240520T195000Z
LOCATION:PETER 102
UID:11920260420T053909Z
DTSTAMP:20260420T053909Z
SUMMARY:PHYS 4E (A00) (LE)
DESCRIPTION:
PRIORITY:5
CLASS:PUBLIC
END:VEVENT
BEGIN:VEVENT
ORGANIZER:
DTSTART:20240522T190000Z
DTEND:20240522T195000Z
LOCATION:PETER 102
UID:12120260420T053909Z
DTSTAMP:20260420T053909Z
SUMMARY:PHYS 4E (A00) (LE)
DESCRIPTION:
PRIORITY:5
CLASS:PUBLIC
END:VEVENT
BEGIN:VEVENT
ORGANIZER:
DTSTART:20240524T190000Z
DTEND:20240524T195000Z
LOCATION:PETER 102
UID:12320260420T053909Z
DTSTAMP:20260420T053909Z
SUMMARY:PHYS 4E (A00) (LE)
DESCRIPTION:
PRIORITY:5
CLASS:PUBLIC
END:VEVENT
BEGIN:VEVENT
ORGANIZER:
DTSTART:20240527T190000Z
DTEND:20240527T195000Z
LOCATION:PETER 102
UID:12620260420T053909Z
DTSTAMP:20260420T053909Z
SUMMARY:PHYS 4E (A00) (LE)
DESCRIPTION:
PRIORITY:5
CLASS:PUBLIC
END:VEVENT
BEGIN:VEVENT
ORGANIZER:
DTSTART:20240529T190000Z
DTEND:20240529T195000Z
LOCATION:PETER 102
UID:12820260420T053909Z
DTSTAMP:20260420T053909Z
SUMMARY:PHYS 4E (A00) (LE)
DESCRIPTION:
PRIORITY:5
CLASS:PUBLIC
END:VEVENT
BEGIN:VEVENT
ORGANIZER:
DTSTART:20240531T190000Z
DTEND:20240531T195000Z
LOCATION:PETER 102
UID:13020260420T053909Z
DTSTAMP:20260420T053909Z
SUMMARY:PHYS 4E (A00) (LE)
DESCRIPTION:
PRIORITY:5
CLASS:PUBLIC
END:VEVENT
BEGIN:VEVENT
ORGANIZER:
DTSTART:20240603T190000Z
DTEND:20240603T195000Z
LOCATION:PETER 102
UID:13320260420T053909Z
DTSTAMP:20260420T053909Z
SUMMARY:PHYS 4E (A00) (LE)
DESCRIPTION:
PRIORITY:5
CLASS:PUBLIC
END:VEVENT
BEGIN:VEVENT
ORGANIZER:
DTSTART:20240605T190000Z
DTEND:20240605T195000Z
LOCATION:PETER 102
UID:13520260420T053909Z
DTSTAMP:20260420T053909Z
SUMMARY:PHYS 4E (A00) (LE)
DESCRIPTION:
PRIORITY:5
CLASS:PUBLIC
END:VEVENT
BEGIN:VEVENT
ORGANIZER:
DTSTART:20240607T190000Z
DTEND:20240607T195000Z
LOCATION:PETER 102
UID:13720260420T053909Z
DTSTAMP:20260420T053909Z
SUMMARY:PHYS 4E (A00) (LE)
DESCRIPTION:
PRIORITY:5
CLASS:PUBLIC
END:VEVENT
BEGIN:VEVENT
ORGANIZER:
DTSTART:20240402T170000Z
DTEND:20240402T175000Z
LOCATION:MYR-A 2702
UID:14120260420T053909Z
DTSTAMP:20260420T053909Z
SUMMARY:PHYS 4E (A02) (DI)
DESCRIPTION:
PRIORITY:5
CLASS:PUBLIC
END:VEVENT
BEGIN:VEVENT
ORGANIZER:
DTSTART:20240409T170000Z
DTEND:20240409T175000Z
LOCATION:MYR-A 2702
UID:14820260420T053909Z
DTSTAMP:20260420T053909Z
SUMMARY:PHYS 4E (A02) (DI)
DESCRIPTION:
PRIORITY:5
CLASS:PUBLIC
END:VEVENT
BEGIN:VEVENT
ORGANIZER:
DTSTART:20240416T170000Z
DTEND:20240416T175000Z
LOCATION:MYR-A 2702
UID:15520260420T053909Z
DTSTAMP:20260420T053909Z
SUMMARY:PHYS 4E (A02) (DI)
DESCRIPTION:
PRIORITY:5
CLASS:PUBLIC
END:VEVENT
BEGIN:VEVENT
ORGANIZER:
DTSTART:20240423T170000Z
DTEND:20240423T175000Z
LOCATION:MYR-A 2702
UID:16220260420T053909Z
DTSTAMP:20260420T053909Z
SUMMARY:PHYS 4E (A02) (DI)
DESCRIPTION:
PRIORITY:5
CLASS:PUBLIC
END:VEVENT
BEGIN:VEVENT
ORGANIZER:
DTSTART:20240430T170000Z
DTEND:20240430T175000Z
LOCATION:MYR-A 2702
UID:16920260420T053909Z
DTSTAMP:20260420T053909Z
SUMMARY:PHYS 4E (A02) (DI)
DESCRIPTION:
PRIORITY:5
CLASS:PUBLIC
END:VEVENT
BEGIN:VEVENT
ORGANIZER:
DTSTART:20240507T170000Z
DTEND:20240507T175000Z
LOCATION:MYR-A 2702
UID:17620260420T053909Z
DTSTAMP:20260420T053909Z
SUMMARY:PHYS 4E (A02) (DI)
DESCRIPTION:
PRIORITY:5
CLASS:PUBLIC
END:VEVENT
BEGIN:VEVENT
ORGANIZER:
DTSTART:20240514T170000Z
DTEND:20240514T175000Z
LOCATION:MYR-A 2702
UID:18320260420T053909Z
DTSTAMP:20260420T053909Z
SUMMARY:PHYS 4E (A02) (DI)
DESCRIPTION:
PRIORITY:5
CLASS:PUBLIC
END:VEVENT
BEGIN:VEVENT
ORGANIZER:
DTSTART:20240521T170000Z
DTEND:20240521T175000Z
LOCATION:MYR-A 2702
UID:19020260420T053909Z
DTSTAMP:20260420T053909Z
SUMMARY:PHYS 4E (A02) (DI)
DESCRIPTION:
PRIORITY:5
CLASS:PUBLIC
END:VEVENT
BEGIN:VEVENT
ORGANIZER:
DTSTART:20240528T170000Z
DTEND:20240528T175000Z
LOCATION:MYR-A 2702
UID:19720260420T053909Z
DTSTAMP:20260420T053909Z
SUMMARY:PHYS 4E (A02) (DI)
DESCRIPTION:
PRIORITY:5
CLASS:PUBLIC
END:VEVENT
BEGIN:VEVENT
ORGANIZER:
DTSTART:20240604T170000Z
DTEND:20240604T175000Z
LOCATION:MYR-A 2702
UID:20420260420T053909Z
DTSTAMP:20260420T053909Z
SUMMARY:PHYS 4E (A02) (DI)
DESCRIPTION:
PRIORITY:5
CLASS:PUBLIC
END:VEVENT
BEGIN:VEVENT
ORGANIZER:
DTSTART:20240612T183000Z
DTEND:20240612T212900Z
LOCATION: TBA
UID:20920260420T053909Z
DTSTAMP:20260420T053909Z
SUMMARY:PHYS 4E (A00) (FI)
DESCRIPTION:
PRIORITY:5
CLASS:PUBLIC
END:VEVENT
END:VCALENDAR