BEGIN:VCALENDAR
VERSION:2.0
X-WR-CALNAME:ECE 25 (A00) - Introduction to Digital Design
METHOD:PUBLISH
BEGIN:VEVENT
ORGANIZER:
DTSTART:20260106T173000Z
DTEND:20260106T185000Z
LOCATION:YORK 2622
UID:220260419T161422Z
DTSTAMP:20260419T161422Z
SUMMARY:ECE 25 (A00) (LE)
DESCRIPTION:
PRIORITY:5
CLASS:PUBLIC
END:VEVENT
BEGIN:VEVENT
ORGANIZER:
DTSTART:20260108T173000Z
DTEND:20260108T185000Z
LOCATION:YORK 2622
UID:420260419T161422Z
DTSTAMP:20260419T161422Z
SUMMARY:ECE 25 (A00) (LE)
DESCRIPTION:
PRIORITY:5
CLASS:PUBLIC
END:VEVENT
BEGIN:VEVENT
ORGANIZER:
DTSTART:20260113T173000Z
DTEND:20260113T185000Z
LOCATION:YORK 2622
UID:920260419T161422Z
DTSTAMP:20260419T161422Z
SUMMARY:ECE 25 (A00) (LE)
DESCRIPTION:
PRIORITY:5
CLASS:PUBLIC
END:VEVENT
BEGIN:VEVENT
ORGANIZER:
DTSTART:20260115T173000Z
DTEND:20260115T185000Z
LOCATION:YORK 2622
UID:1120260419T161422Z
DTSTAMP:20260419T161422Z
SUMMARY:ECE 25 (A00) (LE)
DESCRIPTION:
PRIORITY:5
CLASS:PUBLIC
END:VEVENT
BEGIN:VEVENT
ORGANIZER:
DTSTART:20260120T173000Z
DTEND:20260120T185000Z
LOCATION:YORK 2622
UID:1620260419T161422Z
DTSTAMP:20260419T161422Z
SUMMARY:ECE 25 (A00) (LE)
DESCRIPTION:
PRIORITY:5
CLASS:PUBLIC
END:VEVENT
BEGIN:VEVENT
ORGANIZER:
DTSTART:20260122T173000Z
DTEND:20260122T185000Z
LOCATION:YORK 2622
UID:1820260419T161422Z
DTSTAMP:20260419T161422Z
SUMMARY:ECE 25 (A00) (LE)
DESCRIPTION:
PRIORITY:5
CLASS:PUBLIC
END:VEVENT
BEGIN:VEVENT
ORGANIZER:
DTSTART:20260127T173000Z
DTEND:20260127T185000Z
LOCATION:YORK 2622
UID:2320260419T161422Z
DTSTAMP:20260419T161422Z
SUMMARY:ECE 25 (A00) (LE)
DESCRIPTION:
PRIORITY:5
CLASS:PUBLIC
END:VEVENT
BEGIN:VEVENT
ORGANIZER:
DTSTART:20260129T173000Z
DTEND:20260129T185000Z
LOCATION:YORK 2622
UID:2520260419T161422Z
DTSTAMP:20260419T161422Z
SUMMARY:ECE 25 (A00) (LE)
DESCRIPTION:
PRIORITY:5
CLASS:PUBLIC
END:VEVENT
BEGIN:VEVENT
ORGANIZER:
DTSTART:20260203T173000Z
DTEND:20260203T185000Z
LOCATION:YORK 2622
UID:3020260419T161422Z
DTSTAMP:20260419T161422Z
SUMMARY:ECE 25 (A00) (LE)
DESCRIPTION:
PRIORITY:5
CLASS:PUBLIC
END:VEVENT
BEGIN:VEVENT
ORGANIZER:
DTSTART:20260205T173000Z
DTEND:20260205T185000Z
LOCATION:YORK 2622
UID:3220260419T161422Z
DTSTAMP:20260419T161422Z
SUMMARY:ECE 25 (A00) (LE)
DESCRIPTION:
PRIORITY:5
CLASS:PUBLIC
END:VEVENT
BEGIN:VEVENT
ORGANIZER:
DTSTART:20260210T173000Z
DTEND:20260210T185000Z
LOCATION:YORK 2622
UID:3720260419T161422Z
DTSTAMP:20260419T161422Z
SUMMARY:ECE 25 (A00) (LE)
DESCRIPTION:
PRIORITY:5
CLASS:PUBLIC
END:VEVENT
BEGIN:VEVENT
ORGANIZER:
DTSTART:20260212T173000Z
DTEND:20260212T185000Z
LOCATION:YORK 2622
UID:3920260419T161422Z
DTSTAMP:20260419T161422Z
SUMMARY:ECE 25 (A00) (LE)
DESCRIPTION:
PRIORITY:5
CLASS:PUBLIC
END:VEVENT
BEGIN:VEVENT
ORGANIZER:
DTSTART:20260217T173000Z
DTEND:20260217T185000Z
LOCATION:YORK 2622
UID:4420260419T161422Z
DTSTAMP:20260419T161422Z
SUMMARY:ECE 25 (A00) (LE)
DESCRIPTION:
PRIORITY:5
CLASS:PUBLIC
END:VEVENT
BEGIN:VEVENT
ORGANIZER:
DTSTART:20260219T173000Z
DTEND:20260219T185000Z
LOCATION:YORK 2622
UID:4620260419T161422Z
DTSTAMP:20260419T161422Z
SUMMARY:ECE 25 (A00) (LE)
DESCRIPTION:
PRIORITY:5
CLASS:PUBLIC
END:VEVENT
BEGIN:VEVENT
ORGANIZER:
DTSTART:20260224T173000Z
DTEND:20260224T185000Z
LOCATION:YORK 2622
UID:5120260419T161422Z
DTSTAMP:20260419T161422Z
SUMMARY:ECE 25 (A00) (LE)
DESCRIPTION:
PRIORITY:5
CLASS:PUBLIC
END:VEVENT
BEGIN:VEVENT
ORGANIZER:
DTSTART:20260226T173000Z
DTEND:20260226T185000Z
LOCATION:YORK 2622
UID:5320260419T161422Z
DTSTAMP:20260419T161422Z
SUMMARY:ECE 25 (A00) (LE)
DESCRIPTION:
PRIORITY:5
CLASS:PUBLIC
END:VEVENT
BEGIN:VEVENT
ORGANIZER:
DTSTART:20260303T173000Z
DTEND:20260303T185000Z
LOCATION:YORK 2622
UID:5820260419T161422Z
DTSTAMP:20260419T161422Z
SUMMARY:ECE 25 (A00) (LE)
DESCRIPTION:
PRIORITY:5
CLASS:PUBLIC
END:VEVENT
BEGIN:VEVENT
ORGANIZER:
DTSTART:20260305T173000Z
DTEND:20260305T185000Z
LOCATION:YORK 2622
UID:6020260419T161422Z
DTSTAMP:20260419T161422Z
SUMMARY:ECE 25 (A00) (LE)
DESCRIPTION:
PRIORITY:5
CLASS:PUBLIC
END:VEVENT
BEGIN:VEVENT
ORGANIZER:
DTSTART:20260310T163000Z
DTEND:20260310T175000Z
LOCATION:YORK 2622
UID:6520260419T161422Z
DTSTAMP:20260419T161422Z
SUMMARY:ECE 25 (A00) (LE)
DESCRIPTION:
PRIORITY:5
CLASS:PUBLIC
END:VEVENT
BEGIN:VEVENT
ORGANIZER:
DTSTART:20260312T163000Z
DTEND:20260312T175000Z
LOCATION:YORK 2622
UID:6720260419T161422Z
DTSTAMP:20260419T161422Z
SUMMARY:ECE 25 (A00) (LE)
DESCRIPTION:
PRIORITY:5
CLASS:PUBLIC
END:VEVENT
BEGIN:VEVENT
ORGANIZER:
DTSTART:20260317T150000Z
DTEND:20260317T175900Z
LOCATION: TBA
UID:7820260419T161422Z
DTSTAMP:20260419T161422Z
SUMMARY:ECE 25 (A00) (FI)
DESCRIPTION:
PRIORITY:5
CLASS:PUBLIC
END:VEVENT
END:VCALENDAR