BEGIN:VCALENDAR
VERSION:2.0
X-WR-CALNAME:POLI 114BR (A00) - Marxist Political Thought
METHOD:PUBLISH
BEGIN:VEVENT
ORGANIZER:
DTSTART:20240110T010000Z
DTEND:20240110T035000Z
LOCATION:RCLAS R200
UID:220260420T062655Z
DTSTAMP:20260420T062655Z
SUMMARY:POLI 114BR (A00) (LE)
DESCRIPTION:
PRIORITY:5
CLASS:PUBLIC
END:VEVENT
BEGIN:VEVENT
ORGANIZER:
DTSTART:20240117T010000Z
DTEND:20240117T035000Z
LOCATION:RCLAS R200
UID:920260420T062655Z
DTSTAMP:20260420T062655Z
SUMMARY:POLI 114BR (A00) (LE)
DESCRIPTION:
PRIORITY:5
CLASS:PUBLIC
END:VEVENT
BEGIN:VEVENT
ORGANIZER:
DTSTART:20240124T010000Z
DTEND:20240124T035000Z
LOCATION:RCLAS R200
UID:1620260420T062655Z
DTSTAMP:20260420T062655Z
SUMMARY:POLI 114BR (A00) (LE)
DESCRIPTION:
PRIORITY:5
CLASS:PUBLIC
END:VEVENT
BEGIN:VEVENT
ORGANIZER:
DTSTART:20240131T010000Z
DTEND:20240131T035000Z
LOCATION:RCLAS R200
UID:2320260420T062655Z
DTSTAMP:20260420T062655Z
SUMMARY:POLI 114BR (A00) (LE)
DESCRIPTION:
PRIORITY:5
CLASS:PUBLIC
END:VEVENT
BEGIN:VEVENT
ORGANIZER:
DTSTART:20240207T010000Z
DTEND:20240207T035000Z
LOCATION:RCLAS R200
UID:3020260420T062655Z
DTSTAMP:20260420T062655Z
SUMMARY:POLI 114BR (A00) (LE)
DESCRIPTION:
PRIORITY:5
CLASS:PUBLIC
END:VEVENT
BEGIN:VEVENT
ORGANIZER:
DTSTART:20240214T010000Z
DTEND:20240214T035000Z
LOCATION:RCLAS R200
UID:3720260420T062655Z
DTSTAMP:20260420T062655Z
SUMMARY:POLI 114BR (A00) (LE)
DESCRIPTION:
PRIORITY:5
CLASS:PUBLIC
END:VEVENT
BEGIN:VEVENT
ORGANIZER:
DTSTART:20240221T010000Z
DTEND:20240221T035000Z
LOCATION:RCLAS R200
UID:4420260420T062655Z
DTSTAMP:20260420T062655Z
SUMMARY:POLI 114BR (A00) (LE)
DESCRIPTION:
PRIORITY:5
CLASS:PUBLIC
END:VEVENT
BEGIN:VEVENT
ORGANIZER:
DTSTART:20240228T010000Z
DTEND:20240228T035000Z
LOCATION:RCLAS R200
UID:5120260420T062655Z
DTSTAMP:20260420T062655Z
SUMMARY:POLI 114BR (A00) (LE)
DESCRIPTION:
PRIORITY:5
CLASS:PUBLIC
END:VEVENT
BEGIN:VEVENT
ORGANIZER:
DTSTART:20240306T010000Z
DTEND:20240306T035000Z
LOCATION:RCLAS R200
UID:5820260420T062655Z
DTSTAMP:20260420T062655Z
SUMMARY:POLI 114BR (A00) (LE)
DESCRIPTION:
PRIORITY:5
CLASS:PUBLIC
END:VEVENT
BEGIN:VEVENT
ORGANIZER:
DTSTART:20240313T000000Z
DTEND:20240313T025000Z
LOCATION:RCLAS R200
UID:6520260420T062655Z
DTSTAMP:20260420T062655Z
SUMMARY:POLI 114BR (A00) (LE)
DESCRIPTION:
PRIORITY:5
CLASS:PUBLIC
END:VEVENT
END:VCALENDAR