BEGIN:VCALENDAR
VERSION:2.0
X-WR-CALNAME:POLI 11D (A03) - Intro/Poli Sci:Compar Politics
METHOD:PUBLISH
BEGIN:VEVENT
ORGANIZER:
DTSTART:20240108T190000Z
DTEND:20240108T195000Z
LOCATION:MOS 0114
UID:120260420T062655Z
DTSTAMP:20260420T062655Z
SUMMARY:POLI 11D (A00) (LE)
DESCRIPTION:
PRIORITY:5
CLASS:PUBLIC
END:VEVENT
BEGIN:VEVENT
ORGANIZER:
DTSTART:20240110T190000Z
DTEND:20240110T195000Z
LOCATION:MOS 0114
UID:320260420T062655Z
DTSTAMP:20260420T062655Z
SUMMARY:POLI 11D (A00) (LE)
DESCRIPTION:
PRIORITY:5
CLASS:PUBLIC
END:VEVENT
BEGIN:VEVENT
ORGANIZER:
DTSTART:20240115T190000Z
DTEND:20240115T195000Z
LOCATION:MOS 0114
UID:820260420T062655Z
DTSTAMP:20260420T062655Z
SUMMARY:POLI 11D (A00) (LE)
DESCRIPTION:
PRIORITY:5
CLASS:PUBLIC
END:VEVENT
BEGIN:VEVENT
ORGANIZER:
DTSTART:20240117T190000Z
DTEND:20240117T195000Z
LOCATION:MOS 0114
UID:1020260420T062655Z
DTSTAMP:20260420T062655Z
SUMMARY:POLI 11D (A00) (LE)
DESCRIPTION:
PRIORITY:5
CLASS:PUBLIC
END:VEVENT
BEGIN:VEVENT
ORGANIZER:
DTSTART:20240122T190000Z
DTEND:20240122T195000Z
LOCATION:MOS 0114
UID:1520260420T062655Z
DTSTAMP:20260420T062655Z
SUMMARY:POLI 11D (A00) (LE)
DESCRIPTION:
PRIORITY:5
CLASS:PUBLIC
END:VEVENT
BEGIN:VEVENT
ORGANIZER:
DTSTART:20240124T190000Z
DTEND:20240124T195000Z
LOCATION:MOS 0114
UID:1720260420T062655Z
DTSTAMP:20260420T062655Z
SUMMARY:POLI 11D (A00) (LE)
DESCRIPTION:
PRIORITY:5
CLASS:PUBLIC
END:VEVENT
BEGIN:VEVENT
ORGANIZER:
DTSTART:20240129T190000Z
DTEND:20240129T195000Z
LOCATION:MOS 0114
UID:2220260420T062655Z
DTSTAMP:20260420T062655Z
SUMMARY:POLI 11D (A00) (LE)
DESCRIPTION:
PRIORITY:5
CLASS:PUBLIC
END:VEVENT
BEGIN:VEVENT
ORGANIZER:
DTSTART:20240131T190000Z
DTEND:20240131T195000Z
LOCATION:MOS 0114
UID:2420260420T062655Z
DTSTAMP:20260420T062655Z
SUMMARY:POLI 11D (A00) (LE)
DESCRIPTION:
PRIORITY:5
CLASS:PUBLIC
END:VEVENT
BEGIN:VEVENT
ORGANIZER:
DTSTART:20240205T190000Z
DTEND:20240205T195000Z
LOCATION:MOS 0114
UID:2920260420T062655Z
DTSTAMP:20260420T062655Z
SUMMARY:POLI 11D (A00) (LE)
DESCRIPTION:
PRIORITY:5
CLASS:PUBLIC
END:VEVENT
BEGIN:VEVENT
ORGANIZER:
DTSTART:20240207T190000Z
DTEND:20240207T195000Z
LOCATION:MOS 0114
UID:3120260420T062655Z
DTSTAMP:20260420T062655Z
SUMMARY:POLI 11D (A00) (LE)
DESCRIPTION:
PRIORITY:5
CLASS:PUBLIC
END:VEVENT
BEGIN:VEVENT
ORGANIZER:
DTSTART:20240212T190000Z
DTEND:20240212T195000Z
LOCATION:MOS 0114
UID:3620260420T062655Z
DTSTAMP:20260420T062655Z
SUMMARY:POLI 11D (A00) (LE)
DESCRIPTION:
PRIORITY:5
CLASS:PUBLIC
END:VEVENT
BEGIN:VEVENT
ORGANIZER:
DTSTART:20240214T190000Z
DTEND:20240214T195000Z
LOCATION:MOS 0114
UID:3820260420T062655Z
DTSTAMP:20260420T062655Z
SUMMARY:POLI 11D (A00) (LE)
DESCRIPTION:
PRIORITY:5
CLASS:PUBLIC
END:VEVENT
BEGIN:VEVENT
ORGANIZER:
DTSTART:20240219T190000Z
DTEND:20240219T195000Z
LOCATION:MOS 0114
UID:4320260420T062655Z
DTSTAMP:20260420T062655Z
SUMMARY:POLI 11D (A00) (LE)
DESCRIPTION:
PRIORITY:5
CLASS:PUBLIC
END:VEVENT
BEGIN:VEVENT
ORGANIZER:
DTSTART:20240221T190000Z
DTEND:20240221T195000Z
LOCATION:MOS 0114
UID:4520260420T062655Z
DTSTAMP:20260420T062655Z
SUMMARY:POLI 11D (A00) (LE)
DESCRIPTION:
PRIORITY:5
CLASS:PUBLIC
END:VEVENT
BEGIN:VEVENT
ORGANIZER:
DTSTART:20240226T190000Z
DTEND:20240226T195000Z
LOCATION:MOS 0114
UID:5020260420T062655Z
DTSTAMP:20260420T062655Z
SUMMARY:POLI 11D (A00) (LE)
DESCRIPTION:
PRIORITY:5
CLASS:PUBLIC
END:VEVENT
BEGIN:VEVENT
ORGANIZER:
DTSTART:20240228T190000Z
DTEND:20240228T195000Z
LOCATION:MOS 0114
UID:5220260420T062655Z
DTSTAMP:20260420T062655Z
SUMMARY:POLI 11D (A00) (LE)
DESCRIPTION:
PRIORITY:5
CLASS:PUBLIC
END:VEVENT
BEGIN:VEVENT
ORGANIZER:
DTSTART:20240304T190000Z
DTEND:20240304T195000Z
LOCATION:MOS 0114
UID:5720260420T062655Z
DTSTAMP:20260420T062655Z
SUMMARY:POLI 11D (A00) (LE)
DESCRIPTION:
PRIORITY:5
CLASS:PUBLIC
END:VEVENT
BEGIN:VEVENT
ORGANIZER:
DTSTART:20240306T190000Z
DTEND:20240306T195000Z
LOCATION:MOS 0114
UID:5920260420T062655Z
DTSTAMP:20260420T062655Z
SUMMARY:POLI 11D (A00) (LE)
DESCRIPTION:
PRIORITY:5
CLASS:PUBLIC
END:VEVENT
BEGIN:VEVENT
ORGANIZER:
DTSTART:20240311T180000Z
DTEND:20240311T185000Z
LOCATION:MOS 0114
UID:6420260420T062655Z
DTSTAMP:20260420T062655Z
SUMMARY:POLI 11D (A00) (LE)
DESCRIPTION:
PRIORITY:5
CLASS:PUBLIC
END:VEVENT
BEGIN:VEVENT
ORGANIZER:
DTSTART:20240313T180000Z
DTEND:20240313T185000Z
LOCATION:MOS 0114
UID:6620260420T062655Z
DTSTAMP:20260420T062655Z
SUMMARY:POLI 11D (A00) (LE)
DESCRIPTION:
PRIORITY:5
CLASS:PUBLIC
END:VEVENT
BEGIN:VEVENT
ORGANIZER:
DTSTART:20240110T200000Z
DTEND:20240110T205000Z
LOCATION:RWAC 0115
UID:7420260420T062655Z
DTSTAMP:20260420T062655Z
SUMMARY:POLI 11D (A03) (DI)
DESCRIPTION:
PRIORITY:5
CLASS:PUBLIC
END:VEVENT
BEGIN:VEVENT
ORGANIZER:
DTSTART:20240117T200000Z
DTEND:20240117T205000Z
LOCATION:RWAC 0115
UID:8120260420T062655Z
DTSTAMP:20260420T062655Z
SUMMARY:POLI 11D (A03) (DI)
DESCRIPTION:
PRIORITY:5
CLASS:PUBLIC
END:VEVENT
BEGIN:VEVENT
ORGANIZER:
DTSTART:20240124T200000Z
DTEND:20240124T205000Z
LOCATION:RWAC 0115
UID:8820260420T062655Z
DTSTAMP:20260420T062655Z
SUMMARY:POLI 11D (A03) (DI)
DESCRIPTION:
PRIORITY:5
CLASS:PUBLIC
END:VEVENT
BEGIN:VEVENT
ORGANIZER:
DTSTART:20240131T200000Z
DTEND:20240131T205000Z
LOCATION:RWAC 0115
UID:9520260420T062655Z
DTSTAMP:20260420T062655Z
SUMMARY:POLI 11D (A03) (DI)
DESCRIPTION:
PRIORITY:5
CLASS:PUBLIC
END:VEVENT
BEGIN:VEVENT
ORGANIZER:
DTSTART:20240207T200000Z
DTEND:20240207T205000Z
LOCATION:RWAC 0115
UID:10220260420T062655Z
DTSTAMP:20260420T062655Z
SUMMARY:POLI 11D (A03) (DI)
DESCRIPTION:
PRIORITY:5
CLASS:PUBLIC
END:VEVENT
BEGIN:VEVENT
ORGANIZER:
DTSTART:20240214T200000Z
DTEND:20240214T205000Z
LOCATION:RWAC 0115
UID:10920260420T062655Z
DTSTAMP:20260420T062655Z
SUMMARY:POLI 11D (A03) (DI)
DESCRIPTION:
PRIORITY:5
CLASS:PUBLIC
END:VEVENT
BEGIN:VEVENT
ORGANIZER:
DTSTART:20240221T200000Z
DTEND:20240221T205000Z
LOCATION:RWAC 0115
UID:11620260420T062655Z
DTSTAMP:20260420T062655Z
SUMMARY:POLI 11D (A03) (DI)
DESCRIPTION:
PRIORITY:5
CLASS:PUBLIC
END:VEVENT
BEGIN:VEVENT
ORGANIZER:
DTSTART:20240228T200000Z
DTEND:20240228T205000Z
LOCATION:RWAC 0115
UID:12320260420T062655Z
DTSTAMP:20260420T062655Z
SUMMARY:POLI 11D (A03) (DI)
DESCRIPTION:
PRIORITY:5
CLASS:PUBLIC
END:VEVENT
BEGIN:VEVENT
ORGANIZER:
DTSTART:20240306T200000Z
DTEND:20240306T205000Z
LOCATION:RWAC 0115
UID:13020260420T062655Z
DTSTAMP:20260420T062655Z
SUMMARY:POLI 11D (A03) (DI)
DESCRIPTION:
PRIORITY:5
CLASS:PUBLIC
END:VEVENT
BEGIN:VEVENT
ORGANIZER:
DTSTART:20240313T190000Z
DTEND:20240313T195000Z
LOCATION:RWAC 0115
UID:13720260420T062655Z
DTSTAMP:20260420T062655Z
SUMMARY:POLI 11D (A03) (DI)
DESCRIPTION:
PRIORITY:5
CLASS:PUBLIC
END:VEVENT
BEGIN:VEVENT
ORGANIZER:
DTSTART:20240318T183000Z
DTEND:20240318T212900Z
LOCATION: TBA
UID:14420260420T062655Z
DTSTAMP:20260420T062655Z
SUMMARY:POLI 11D (A00) (FI)
DESCRIPTION:
PRIORITY:5
CLASS:PUBLIC
END:VEVENT
END:VCALENDAR