BEGIN:VCALENDAR
VERSION:2.0
X-WR-CALNAME:CSE 284 (A00) - Personal Genomics/Bioinformats
METHOD:PUBLISH
BEGIN:VEVENT
ORGANIZER:
DTSTART:20240109T233000Z
DTEND:20240110T005000Z
LOCATION:FAH 1101
UID:220260419T153915Z
DTSTAMP:20260419T153915Z
SUMMARY:CSE 284 (A00) (LE)
DESCRIPTION:
PRIORITY:5
CLASS:PUBLIC
END:VEVENT
BEGIN:VEVENT
ORGANIZER:
DTSTART:20240111T233000Z
DTEND:20240112T005000Z
LOCATION:FAH 1101
UID:420260419T153915Z
DTSTAMP:20260419T153915Z
SUMMARY:CSE 284 (A00) (LE)
DESCRIPTION:
PRIORITY:5
CLASS:PUBLIC
END:VEVENT
BEGIN:VEVENT
ORGANIZER:
DTSTART:20240116T233000Z
DTEND:20240117T005000Z
LOCATION:FAH 1101
UID:920260419T153915Z
DTSTAMP:20260419T153915Z
SUMMARY:CSE 284 (A00) (LE)
DESCRIPTION:
PRIORITY:5
CLASS:PUBLIC
END:VEVENT
BEGIN:VEVENT
ORGANIZER:
DTSTART:20240118T233000Z
DTEND:20240119T005000Z
LOCATION:FAH 1101
UID:1120260419T153915Z
DTSTAMP:20260419T153915Z
SUMMARY:CSE 284 (A00) (LE)
DESCRIPTION:
PRIORITY:5
CLASS:PUBLIC
END:VEVENT
BEGIN:VEVENT
ORGANIZER:
DTSTART:20240123T233000Z
DTEND:20240124T005000Z
LOCATION:FAH 1101
UID:1620260419T153915Z
DTSTAMP:20260419T153915Z
SUMMARY:CSE 284 (A00) (LE)
DESCRIPTION:
PRIORITY:5
CLASS:PUBLIC
END:VEVENT
BEGIN:VEVENT
ORGANIZER:
DTSTART:20240125T233000Z
DTEND:20240126T005000Z
LOCATION:FAH 1101
UID:1820260419T153915Z
DTSTAMP:20260419T153915Z
SUMMARY:CSE 284 (A00) (LE)
DESCRIPTION:
PRIORITY:5
CLASS:PUBLIC
END:VEVENT
BEGIN:VEVENT
ORGANIZER:
DTSTART:20240130T233000Z
DTEND:20240131T005000Z
LOCATION:FAH 1101
UID:2320260419T153915Z
DTSTAMP:20260419T153915Z
SUMMARY:CSE 284 (A00) (LE)
DESCRIPTION:
PRIORITY:5
CLASS:PUBLIC
END:VEVENT
BEGIN:VEVENT
ORGANIZER:
DTSTART:20240201T233000Z
DTEND:20240202T005000Z
LOCATION:FAH 1101
UID:2520260419T153915Z
DTSTAMP:20260419T153915Z
SUMMARY:CSE 284 (A00) (LE)
DESCRIPTION:
PRIORITY:5
CLASS:PUBLIC
END:VEVENT
BEGIN:VEVENT
ORGANIZER:
DTSTART:20240206T233000Z
DTEND:20240207T005000Z
LOCATION:FAH 1101
UID:3020260419T153915Z
DTSTAMP:20260419T153915Z
SUMMARY:CSE 284 (A00) (LE)
DESCRIPTION:
PRIORITY:5
CLASS:PUBLIC
END:VEVENT
BEGIN:VEVENT
ORGANIZER:
DTSTART:20240208T233000Z
DTEND:20240209T005000Z
LOCATION:FAH 1101
UID:3220260419T153915Z
DTSTAMP:20260419T153915Z
SUMMARY:CSE 284 (A00) (LE)
DESCRIPTION:
PRIORITY:5
CLASS:PUBLIC
END:VEVENT
BEGIN:VEVENT
ORGANIZER:
DTSTART:20240213T233000Z
DTEND:20240214T005000Z
LOCATION:FAH 1101
UID:3720260419T153915Z
DTSTAMP:20260419T153915Z
SUMMARY:CSE 284 (A00) (LE)
DESCRIPTION:
PRIORITY:5
CLASS:PUBLIC
END:VEVENT
BEGIN:VEVENT
ORGANIZER:
DTSTART:20240215T233000Z
DTEND:20240216T005000Z
LOCATION:FAH 1101
UID:3920260419T153915Z
DTSTAMP:20260419T153915Z
SUMMARY:CSE 284 (A00) (LE)
DESCRIPTION:
PRIORITY:5
CLASS:PUBLIC
END:VEVENT
BEGIN:VEVENT
ORGANIZER:
DTSTART:20240220T233000Z
DTEND:20240221T005000Z
LOCATION:FAH 1101
UID:4420260419T153915Z
DTSTAMP:20260419T153915Z
SUMMARY:CSE 284 (A00) (LE)
DESCRIPTION:
PRIORITY:5
CLASS:PUBLIC
END:VEVENT
BEGIN:VEVENT
ORGANIZER:
DTSTART:20240222T233000Z
DTEND:20240223T005000Z
LOCATION:FAH 1101
UID:4620260419T153915Z
DTSTAMP:20260419T153915Z
SUMMARY:CSE 284 (A00) (LE)
DESCRIPTION:
PRIORITY:5
CLASS:PUBLIC
END:VEVENT
BEGIN:VEVENT
ORGANIZER:
DTSTART:20240227T233000Z
DTEND:20240228T005000Z
LOCATION:FAH 1101
UID:5120260419T153915Z
DTSTAMP:20260419T153915Z
SUMMARY:CSE 284 (A00) (LE)
DESCRIPTION:
PRIORITY:5
CLASS:PUBLIC
END:VEVENT
BEGIN:VEVENT
ORGANIZER:
DTSTART:20240229T233000Z
DTEND:20240301T005000Z
LOCATION:FAH 1101
UID:5320260419T153915Z
DTSTAMP:20260419T153915Z
SUMMARY:CSE 284 (A00) (LE)
DESCRIPTION:
PRIORITY:5
CLASS:PUBLIC
END:VEVENT
BEGIN:VEVENT
ORGANIZER:
DTSTART:20240305T233000Z
DTEND:20240306T005000Z
LOCATION:FAH 1101
UID:5820260419T153915Z
DTSTAMP:20260419T153915Z
SUMMARY:CSE 284 (A00) (LE)
DESCRIPTION:
PRIORITY:5
CLASS:PUBLIC
END:VEVENT
BEGIN:VEVENT
ORGANIZER:
DTSTART:20240307T233000Z
DTEND:20240308T005000Z
LOCATION:FAH 1101
UID:6020260419T153915Z
DTSTAMP:20260419T153915Z
SUMMARY:CSE 284 (A00) (LE)
DESCRIPTION:
PRIORITY:5
CLASS:PUBLIC
END:VEVENT
BEGIN:VEVENT
ORGANIZER:
DTSTART:20240312T223000Z
DTEND:20240312T235000Z
LOCATION:FAH 1101
UID:6520260419T153915Z
DTSTAMP:20260419T153915Z
SUMMARY:CSE 284 (A00) (LE)
DESCRIPTION:
PRIORITY:5
CLASS:PUBLIC
END:VEVENT
BEGIN:VEVENT
ORGANIZER:
DTSTART:20240314T223000Z
DTEND:20240314T235000Z
LOCATION:FAH 1101
UID:6720260419T153915Z
DTSTAMP:20260419T153915Z
SUMMARY:CSE 284 (A00) (LE)
DESCRIPTION:
PRIORITY:5
CLASS:PUBLIC
END:VEVENT
BEGIN:VEVENT
ORGANIZER:
DTSTART:20240319T220000Z
DTEND:20240320T005900Z
LOCATION: TBA
UID:7020260419T153915Z
DTSTAMP:20260419T153915Z
SUMMARY:CSE 284 (A00) (FI)
DESCRIPTION:
PRIORITY:5
CLASS:PUBLIC
END:VEVENT
END:VCALENDAR