BEGIN:VCALENDAR
VERSION:2.0
X-WR-CALNAME:ECE 269 (A01) - Linear Algebra and Application
METHOD:PUBLISH
BEGIN:VEVENT
ORGANIZER:
DTSTART:20240109T233000Z
DTEND:20240110T005000Z
LOCATION:CENTR 101
UID:220260423T081449Z
DTSTAMP:20260423T081449Z
SUMMARY:ECE 269 (A00) (LE)
DESCRIPTION:
PRIORITY:5
CLASS:PUBLIC
END:VEVENT
BEGIN:VEVENT
ORGANIZER:
DTSTART:20240111T233000Z
DTEND:20240112T005000Z
LOCATION:CENTR 101
UID:420260423T081449Z
DTSTAMP:20260423T081449Z
SUMMARY:ECE 269 (A00) (LE)
DESCRIPTION:
PRIORITY:5
CLASS:PUBLIC
END:VEVENT
BEGIN:VEVENT
ORGANIZER:
DTSTART:20240116T233000Z
DTEND:20240117T005000Z
LOCATION:CENTR 101
UID:920260423T081449Z
DTSTAMP:20260423T081449Z
SUMMARY:ECE 269 (A00) (LE)
DESCRIPTION:
PRIORITY:5
CLASS:PUBLIC
END:VEVENT
BEGIN:VEVENT
ORGANIZER:
DTSTART:20240118T233000Z
DTEND:20240119T005000Z
LOCATION:CENTR 101
UID:1120260423T081449Z
DTSTAMP:20260423T081449Z
SUMMARY:ECE 269 (A00) (LE)
DESCRIPTION:
PRIORITY:5
CLASS:PUBLIC
END:VEVENT
BEGIN:VEVENT
ORGANIZER:
DTSTART:20240123T233000Z
DTEND:20240124T005000Z
LOCATION:CENTR 101
UID:1620260423T081449Z
DTSTAMP:20260423T081449Z
SUMMARY:ECE 269 (A00) (LE)
DESCRIPTION:
PRIORITY:5
CLASS:PUBLIC
END:VEVENT
BEGIN:VEVENT
ORGANIZER:
DTSTART:20240125T233000Z
DTEND:20240126T005000Z
LOCATION:CENTR 101
UID:1820260423T081449Z
DTSTAMP:20260423T081449Z
SUMMARY:ECE 269 (A00) (LE)
DESCRIPTION:
PRIORITY:5
CLASS:PUBLIC
END:VEVENT
BEGIN:VEVENT
ORGANIZER:
DTSTART:20240130T233000Z
DTEND:20240131T005000Z
LOCATION:CENTR 101
UID:2320260423T081449Z
DTSTAMP:20260423T081449Z
SUMMARY:ECE 269 (A00) (LE)
DESCRIPTION:
PRIORITY:5
CLASS:PUBLIC
END:VEVENT
BEGIN:VEVENT
ORGANIZER:
DTSTART:20240201T233000Z
DTEND:20240202T005000Z
LOCATION:CENTR 101
UID:2520260423T081449Z
DTSTAMP:20260423T081449Z
SUMMARY:ECE 269 (A00) (LE)
DESCRIPTION:
PRIORITY:5
CLASS:PUBLIC
END:VEVENT
BEGIN:VEVENT
ORGANIZER:
DTSTART:20240206T233000Z
DTEND:20240207T005000Z
LOCATION:CENTR 101
UID:3020260423T081449Z
DTSTAMP:20260423T081449Z
SUMMARY:ECE 269 (A00) (LE)
DESCRIPTION:
PRIORITY:5
CLASS:PUBLIC
END:VEVENT
BEGIN:VEVENT
ORGANIZER:
DTSTART:20240208T233000Z
DTEND:20240209T005000Z
LOCATION:CENTR 101
UID:3220260423T081449Z
DTSTAMP:20260423T081449Z
SUMMARY:ECE 269 (A00) (LE)
DESCRIPTION:
PRIORITY:5
CLASS:PUBLIC
END:VEVENT
BEGIN:VEVENT
ORGANIZER:
DTSTART:20240213T233000Z
DTEND:20240214T005000Z
LOCATION:CENTR 101
UID:3720260423T081449Z
DTSTAMP:20260423T081449Z
SUMMARY:ECE 269 (A00) (LE)
DESCRIPTION:
PRIORITY:5
CLASS:PUBLIC
END:VEVENT
BEGIN:VEVENT
ORGANIZER:
DTSTART:20240215T233000Z
DTEND:20240216T005000Z
LOCATION:CENTR 101
UID:3920260423T081449Z
DTSTAMP:20260423T081449Z
SUMMARY:ECE 269 (A00) (LE)
DESCRIPTION:
PRIORITY:5
CLASS:PUBLIC
END:VEVENT
BEGIN:VEVENT
ORGANIZER:
DTSTART:20240220T233000Z
DTEND:20240221T005000Z
LOCATION:CENTR 101
UID:4420260423T081449Z
DTSTAMP:20260423T081449Z
SUMMARY:ECE 269 (A00) (LE)
DESCRIPTION:
PRIORITY:5
CLASS:PUBLIC
END:VEVENT
BEGIN:VEVENT
ORGANIZER:
DTSTART:20240222T233000Z
DTEND:20240223T005000Z
LOCATION:CENTR 101
UID:4620260423T081449Z
DTSTAMP:20260423T081449Z
SUMMARY:ECE 269 (A00) (LE)
DESCRIPTION:
PRIORITY:5
CLASS:PUBLIC
END:VEVENT
BEGIN:VEVENT
ORGANIZER:
DTSTART:20240227T233000Z
DTEND:20240228T005000Z
LOCATION:CENTR 101
UID:5120260423T081449Z
DTSTAMP:20260423T081449Z
SUMMARY:ECE 269 (A00) (LE)
DESCRIPTION:
PRIORITY:5
CLASS:PUBLIC
END:VEVENT
BEGIN:VEVENT
ORGANIZER:
DTSTART:20240229T233000Z
DTEND:20240301T005000Z
LOCATION:CENTR 101
UID:5320260423T081449Z
DTSTAMP:20260423T081449Z
SUMMARY:ECE 269 (A00) (LE)
DESCRIPTION:
PRIORITY:5
CLASS:PUBLIC
END:VEVENT
BEGIN:VEVENT
ORGANIZER:
DTSTART:20240305T233000Z
DTEND:20240306T005000Z
LOCATION:CENTR 101
UID:5820260423T081449Z
DTSTAMP:20260423T081449Z
SUMMARY:ECE 269 (A00) (LE)
DESCRIPTION:
PRIORITY:5
CLASS:PUBLIC
END:VEVENT
BEGIN:VEVENT
ORGANIZER:
DTSTART:20240307T233000Z
DTEND:20240308T005000Z
LOCATION:CENTR 101
UID:6020260423T081449Z
DTSTAMP:20260423T081449Z
SUMMARY:ECE 269 (A00) (LE)
DESCRIPTION:
PRIORITY:5
CLASS:PUBLIC
END:VEVENT
BEGIN:VEVENT
ORGANIZER:
DTSTART:20240312T223000Z
DTEND:20240312T235000Z
LOCATION:CENTR 101
UID:6520260423T081449Z
DTSTAMP:20260423T081449Z
SUMMARY:ECE 269 (A00) (LE)
DESCRIPTION:
PRIORITY:5
CLASS:PUBLIC
END:VEVENT
BEGIN:VEVENT
ORGANIZER:
DTSTART:20240314T223000Z
DTEND:20240314T235000Z
LOCATION:CENTR 101
UID:6720260423T081449Z
DTSTAMP:20260423T081449Z
SUMMARY:ECE 269 (A00) (LE)
DESCRIPTION:
PRIORITY:5
CLASS:PUBLIC
END:VEVENT
BEGIN:VEVENT
ORGANIZER:
DTSTART:20240109T020000Z
DTEND:20240109T025000Z
LOCATION:MOS 0113
UID:7020260423T081449Z
DTSTAMP:20260423T081449Z
SUMMARY:ECE 269 (A01) (DI)
DESCRIPTION:
PRIORITY:5
CLASS:PUBLIC
END:VEVENT
BEGIN:VEVENT
ORGANIZER:
DTSTART:20240116T020000Z
DTEND:20240116T025000Z
LOCATION:MOS 0113
UID:7720260423T081449Z
DTSTAMP:20260423T081449Z
SUMMARY:ECE 269 (A01) (DI)
DESCRIPTION:
PRIORITY:5
CLASS:PUBLIC
END:VEVENT
BEGIN:VEVENT
ORGANIZER:
DTSTART:20240123T020000Z
DTEND:20240123T025000Z
LOCATION:MOS 0113
UID:8420260423T081449Z
DTSTAMP:20260423T081449Z
SUMMARY:ECE 269 (A01) (DI)
DESCRIPTION:
PRIORITY:5
CLASS:PUBLIC
END:VEVENT
BEGIN:VEVENT
ORGANIZER:
DTSTART:20240130T020000Z
DTEND:20240130T025000Z
LOCATION:MOS 0113
UID:9120260423T081449Z
DTSTAMP:20260423T081449Z
SUMMARY:ECE 269 (A01) (DI)
DESCRIPTION:
PRIORITY:5
CLASS:PUBLIC
END:VEVENT
BEGIN:VEVENT
ORGANIZER:
DTSTART:20240206T020000Z
DTEND:20240206T025000Z
LOCATION:MOS 0113
UID:9820260423T081449Z
DTSTAMP:20260423T081449Z
SUMMARY:ECE 269 (A01) (DI)
DESCRIPTION:
PRIORITY:5
CLASS:PUBLIC
END:VEVENT
BEGIN:VEVENT
ORGANIZER:
DTSTART:20240213T020000Z
DTEND:20240213T025000Z
LOCATION:MOS 0113
UID:10520260423T081449Z
DTSTAMP:20260423T081449Z
SUMMARY:ECE 269 (A01) (DI)
DESCRIPTION:
PRIORITY:5
CLASS:PUBLIC
END:VEVENT
BEGIN:VEVENT
ORGANIZER:
DTSTART:20240220T020000Z
DTEND:20240220T025000Z
LOCATION:MOS 0113
UID:11220260423T081449Z
DTSTAMP:20260423T081449Z
SUMMARY:ECE 269 (A01) (DI)
DESCRIPTION:
PRIORITY:5
CLASS:PUBLIC
END:VEVENT
BEGIN:VEVENT
ORGANIZER:
DTSTART:20240227T020000Z
DTEND:20240227T025000Z
LOCATION:MOS 0113
UID:11920260423T081449Z
DTSTAMP:20260423T081449Z
SUMMARY:ECE 269 (A01) (DI)
DESCRIPTION:
PRIORITY:5
CLASS:PUBLIC
END:VEVENT
BEGIN:VEVENT
ORGANIZER:
DTSTART:20240305T020000Z
DTEND:20240305T025000Z
LOCATION:MOS 0113
UID:12620260423T081449Z
DTSTAMP:20260423T081449Z
SUMMARY:ECE 269 (A01) (DI)
DESCRIPTION:
PRIORITY:5
CLASS:PUBLIC
END:VEVENT
BEGIN:VEVENT
ORGANIZER:
DTSTART:20240312T010000Z
DTEND:20240312T015000Z
LOCATION:MOS 0113
UID:13320260423T081449Z
DTSTAMP:20260423T081449Z
SUMMARY:ECE 269 (A01) (DI)
DESCRIPTION:
PRIORITY:5
CLASS:PUBLIC
END:VEVENT
BEGIN:VEVENT
ORGANIZER:
DTSTART:20240319T220000Z
DTEND:20240320T005900Z
LOCATION: TBA
UID:13920260423T081449Z
DTSTAMP:20260423T081449Z
SUMMARY:ECE 269 (A00) (FI)
DESCRIPTION:
PRIORITY:5
CLASS:PUBLIC
END:VEVENT
END:VCALENDAR