BEGIN:VCALENDAR
VERSION:2.0
X-WR-CALNAME:EDS 126 (A02) - Social Organization/Education
METHOD:PUBLISH
BEGIN:VEVENT
ORGANIZER:
DTSTART:20240108T170000Z
DTEND:20240108T175000Z
LOCATION:CSB 001
UID:120260419T154950Z
DTSTAMP:20260419T154950Z
SUMMARY:EDS 126 (A00) (LE)
DESCRIPTION:
PRIORITY:5
CLASS:PUBLIC
END:VEVENT
BEGIN:VEVENT
ORGANIZER:
DTSTART:20240110T170000Z
DTEND:20240110T175000Z
LOCATION:CSB 001
UID:320260419T154950Z
DTSTAMP:20260419T154950Z
SUMMARY:EDS 126 (A00) (LE)
DESCRIPTION:
PRIORITY:5
CLASS:PUBLIC
END:VEVENT
BEGIN:VEVENT
ORGANIZER:
DTSTART:20240112T170000Z
DTEND:20240112T175000Z
LOCATION:CSB 001
UID:520260419T154950Z
DTSTAMP:20260419T154950Z
SUMMARY:EDS 126 (A00) (LE)
DESCRIPTION:
PRIORITY:5
CLASS:PUBLIC
END:VEVENT
BEGIN:VEVENT
ORGANIZER:
DTSTART:20240115T170000Z
DTEND:20240115T175000Z
LOCATION:CSB 001
UID:820260419T154950Z
DTSTAMP:20260419T154950Z
SUMMARY:EDS 126 (A00) (LE)
DESCRIPTION:
PRIORITY:5
CLASS:PUBLIC
END:VEVENT
BEGIN:VEVENT
ORGANIZER:
DTSTART:20240117T170000Z
DTEND:20240117T175000Z
LOCATION:CSB 001
UID:1020260419T154950Z
DTSTAMP:20260419T154950Z
SUMMARY:EDS 126 (A00) (LE)
DESCRIPTION:
PRIORITY:5
CLASS:PUBLIC
END:VEVENT
BEGIN:VEVENT
ORGANIZER:
DTSTART:20240119T170000Z
DTEND:20240119T175000Z
LOCATION:CSB 001
UID:1220260419T154950Z
DTSTAMP:20260419T154950Z
SUMMARY:EDS 126 (A00) (LE)
DESCRIPTION:
PRIORITY:5
CLASS:PUBLIC
END:VEVENT
BEGIN:VEVENT
ORGANIZER:
DTSTART:20240122T170000Z
DTEND:20240122T175000Z
LOCATION:CSB 001
UID:1520260419T154950Z
DTSTAMP:20260419T154950Z
SUMMARY:EDS 126 (A00) (LE)
DESCRIPTION:
PRIORITY:5
CLASS:PUBLIC
END:VEVENT
BEGIN:VEVENT
ORGANIZER:
DTSTART:20240124T170000Z
DTEND:20240124T175000Z
LOCATION:CSB 001
UID:1720260419T154950Z
DTSTAMP:20260419T154950Z
SUMMARY:EDS 126 (A00) (LE)
DESCRIPTION:
PRIORITY:5
CLASS:PUBLIC
END:VEVENT
BEGIN:VEVENT
ORGANIZER:
DTSTART:20240126T170000Z
DTEND:20240126T175000Z
LOCATION:CSB 001
UID:1920260419T154950Z
DTSTAMP:20260419T154950Z
SUMMARY:EDS 126 (A00) (LE)
DESCRIPTION:
PRIORITY:5
CLASS:PUBLIC
END:VEVENT
BEGIN:VEVENT
ORGANIZER:
DTSTART:20240129T170000Z
DTEND:20240129T175000Z
LOCATION:CSB 001
UID:2220260419T154950Z
DTSTAMP:20260419T154950Z
SUMMARY:EDS 126 (A00) (LE)
DESCRIPTION:
PRIORITY:5
CLASS:PUBLIC
END:VEVENT
BEGIN:VEVENT
ORGANIZER:
DTSTART:20240131T170000Z
DTEND:20240131T175000Z
LOCATION:CSB 001
UID:2420260419T154950Z
DTSTAMP:20260419T154950Z
SUMMARY:EDS 126 (A00) (LE)
DESCRIPTION:
PRIORITY:5
CLASS:PUBLIC
END:VEVENT
BEGIN:VEVENT
ORGANIZER:
DTSTART:20240202T170000Z
DTEND:20240202T175000Z
LOCATION:CSB 001
UID:2620260419T154950Z
DTSTAMP:20260419T154950Z
SUMMARY:EDS 126 (A00) (LE)
DESCRIPTION:
PRIORITY:5
CLASS:PUBLIC
END:VEVENT
BEGIN:VEVENT
ORGANIZER:
DTSTART:20240205T170000Z
DTEND:20240205T175000Z
LOCATION:CSB 001
UID:2920260419T154950Z
DTSTAMP:20260419T154950Z
SUMMARY:EDS 126 (A00) (LE)
DESCRIPTION:
PRIORITY:5
CLASS:PUBLIC
END:VEVENT
BEGIN:VEVENT
ORGANIZER:
DTSTART:20240207T170000Z
DTEND:20240207T175000Z
LOCATION:CSB 001
UID:3120260419T154950Z
DTSTAMP:20260419T154950Z
SUMMARY:EDS 126 (A00) (LE)
DESCRIPTION:
PRIORITY:5
CLASS:PUBLIC
END:VEVENT
BEGIN:VEVENT
ORGANIZER:
DTSTART:20240209T170000Z
DTEND:20240209T175000Z
LOCATION:CSB 001
UID:3320260419T154950Z
DTSTAMP:20260419T154950Z
SUMMARY:EDS 126 (A00) (LE)
DESCRIPTION:
PRIORITY:5
CLASS:PUBLIC
END:VEVENT
BEGIN:VEVENT
ORGANIZER:
DTSTART:20240212T170000Z
DTEND:20240212T175000Z
LOCATION:CSB 001
UID:3620260419T154950Z
DTSTAMP:20260419T154950Z
SUMMARY:EDS 126 (A00) (LE)
DESCRIPTION:
PRIORITY:5
CLASS:PUBLIC
END:VEVENT
BEGIN:VEVENT
ORGANIZER:
DTSTART:20240214T170000Z
DTEND:20240214T175000Z
LOCATION:CSB 001
UID:3820260419T154950Z
DTSTAMP:20260419T154950Z
SUMMARY:EDS 126 (A00) (LE)
DESCRIPTION:
PRIORITY:5
CLASS:PUBLIC
END:VEVENT
BEGIN:VEVENT
ORGANIZER:
DTSTART:20240216T170000Z
DTEND:20240216T175000Z
LOCATION:CSB 001
UID:4020260419T154950Z
DTSTAMP:20260419T154950Z
SUMMARY:EDS 126 (A00) (LE)
DESCRIPTION:
PRIORITY:5
CLASS:PUBLIC
END:VEVENT
BEGIN:VEVENT
ORGANIZER:
DTSTART:20240219T170000Z
DTEND:20240219T175000Z
LOCATION:CSB 001
UID:4320260419T154950Z
DTSTAMP:20260419T154950Z
SUMMARY:EDS 126 (A00) (LE)
DESCRIPTION:
PRIORITY:5
CLASS:PUBLIC
END:VEVENT
BEGIN:VEVENT
ORGANIZER:
DTSTART:20240221T170000Z
DTEND:20240221T175000Z
LOCATION:CSB 001
UID:4520260419T154950Z
DTSTAMP:20260419T154950Z
SUMMARY:EDS 126 (A00) (LE)
DESCRIPTION:
PRIORITY:5
CLASS:PUBLIC
END:VEVENT
BEGIN:VEVENT
ORGANIZER:
DTSTART:20240223T170000Z
DTEND:20240223T175000Z
LOCATION:CSB 001
UID:4720260419T154950Z
DTSTAMP:20260419T154950Z
SUMMARY:EDS 126 (A00) (LE)
DESCRIPTION:
PRIORITY:5
CLASS:PUBLIC
END:VEVENT
BEGIN:VEVENT
ORGANIZER:
DTSTART:20240226T170000Z
DTEND:20240226T175000Z
LOCATION:CSB 001
UID:5020260419T154950Z
DTSTAMP:20260419T154950Z
SUMMARY:EDS 126 (A00) (LE)
DESCRIPTION:
PRIORITY:5
CLASS:PUBLIC
END:VEVENT
BEGIN:VEVENT
ORGANIZER:
DTSTART:20240228T170000Z
DTEND:20240228T175000Z
LOCATION:CSB 001
UID:5220260419T154950Z
DTSTAMP:20260419T154950Z
SUMMARY:EDS 126 (A00) (LE)
DESCRIPTION:
PRIORITY:5
CLASS:PUBLIC
END:VEVENT
BEGIN:VEVENT
ORGANIZER:
DTSTART:20240301T170000Z
DTEND:20240301T175000Z
LOCATION:CSB 001
UID:5420260419T154950Z
DTSTAMP:20260419T154950Z
SUMMARY:EDS 126 (A00) (LE)
DESCRIPTION:
PRIORITY:5
CLASS:PUBLIC
END:VEVENT
BEGIN:VEVENT
ORGANIZER:
DTSTART:20240304T170000Z
DTEND:20240304T175000Z
LOCATION:CSB 001
UID:5720260419T154950Z
DTSTAMP:20260419T154950Z
SUMMARY:EDS 126 (A00) (LE)
DESCRIPTION:
PRIORITY:5
CLASS:PUBLIC
END:VEVENT
BEGIN:VEVENT
ORGANIZER:
DTSTART:20240306T170000Z
DTEND:20240306T175000Z
LOCATION:CSB 001
UID:5920260419T154950Z
DTSTAMP:20260419T154950Z
SUMMARY:EDS 126 (A00) (LE)
DESCRIPTION:
PRIORITY:5
CLASS:PUBLIC
END:VEVENT
BEGIN:VEVENT
ORGANIZER:
DTSTART:20240308T170000Z
DTEND:20240308T175000Z
LOCATION:CSB 001
UID:6120260419T154950Z
DTSTAMP:20260419T154950Z
SUMMARY:EDS 126 (A00) (LE)
DESCRIPTION:
PRIORITY:5
CLASS:PUBLIC
END:VEVENT
BEGIN:VEVENT
ORGANIZER:
DTSTART:20240311T160000Z
DTEND:20240311T165000Z
LOCATION:CSB 001
UID:6420260419T154950Z
DTSTAMP:20260419T154950Z
SUMMARY:EDS 126 (A00) (LE)
DESCRIPTION:
PRIORITY:5
CLASS:PUBLIC
END:VEVENT
BEGIN:VEVENT
ORGANIZER:
DTSTART:20240313T160000Z
DTEND:20240313T165000Z
LOCATION:CSB 001
UID:6620260419T154950Z
DTSTAMP:20260419T154950Z
SUMMARY:EDS 126 (A00) (LE)
DESCRIPTION:
PRIORITY:5
CLASS:PUBLIC
END:VEVENT
BEGIN:VEVENT
ORGANIZER:
DTSTART:20240315T160000Z
DTEND:20240315T165000Z
LOCATION:CSB 001
UID:6820260419T154950Z
DTSTAMP:20260419T154950Z
SUMMARY:EDS 126 (A00) (LE)
DESCRIPTION:
PRIORITY:5
CLASS:PUBLIC
END:VEVENT
BEGIN:VEVENT
ORGANIZER:
DTSTART:20240109T030000Z
DTEND:20240109T035000Z
LOCATION:PCYNH 120
UID:7120260419T154950Z
DTSTAMP:20260419T154950Z
SUMMARY:EDS 126 (A02) (DI)
DESCRIPTION:
PRIORITY:5
CLASS:PUBLIC
END:VEVENT
BEGIN:VEVENT
ORGANIZER:
DTSTART:20240116T030000Z
DTEND:20240116T035000Z
LOCATION:PCYNH 120
UID:7820260419T154950Z
DTSTAMP:20260419T154950Z
SUMMARY:EDS 126 (A02) (DI)
DESCRIPTION:
PRIORITY:5
CLASS:PUBLIC
END:VEVENT
BEGIN:VEVENT
ORGANIZER:
DTSTART:20240123T030000Z
DTEND:20240123T035000Z
LOCATION:PCYNH 120
UID:8520260419T154950Z
DTSTAMP:20260419T154950Z
SUMMARY:EDS 126 (A02) (DI)
DESCRIPTION:
PRIORITY:5
CLASS:PUBLIC
END:VEVENT
BEGIN:VEVENT
ORGANIZER:
DTSTART:20240130T030000Z
DTEND:20240130T035000Z
LOCATION:PCYNH 120
UID:9220260419T154950Z
DTSTAMP:20260419T154950Z
SUMMARY:EDS 126 (A02) (DI)
DESCRIPTION:
PRIORITY:5
CLASS:PUBLIC
END:VEVENT
BEGIN:VEVENT
ORGANIZER:
DTSTART:20240206T030000Z
DTEND:20240206T035000Z
LOCATION:PCYNH 120
UID:9920260419T154950Z
DTSTAMP:20260419T154950Z
SUMMARY:EDS 126 (A02) (DI)
DESCRIPTION:
PRIORITY:5
CLASS:PUBLIC
END:VEVENT
BEGIN:VEVENT
ORGANIZER:
DTSTART:20240213T030000Z
DTEND:20240213T035000Z
LOCATION:PCYNH 120
UID:10620260419T154950Z
DTSTAMP:20260419T154950Z
SUMMARY:EDS 126 (A02) (DI)
DESCRIPTION:
PRIORITY:5
CLASS:PUBLIC
END:VEVENT
BEGIN:VEVENT
ORGANIZER:
DTSTART:20240220T030000Z
DTEND:20240220T035000Z
LOCATION:PCYNH 120
UID:11320260419T154950Z
DTSTAMP:20260419T154950Z
SUMMARY:EDS 126 (A02) (DI)
DESCRIPTION:
PRIORITY:5
CLASS:PUBLIC
END:VEVENT
BEGIN:VEVENT
ORGANIZER:
DTSTART:20240227T030000Z
DTEND:20240227T035000Z
LOCATION:PCYNH 120
UID:12020260419T154950Z
DTSTAMP:20260419T154950Z
SUMMARY:EDS 126 (A02) (DI)
DESCRIPTION:
PRIORITY:5
CLASS:PUBLIC
END:VEVENT
BEGIN:VEVENT
ORGANIZER:
DTSTART:20240305T030000Z
DTEND:20240305T035000Z
LOCATION:PCYNH 120
UID:12720260419T154950Z
DTSTAMP:20260419T154950Z
SUMMARY:EDS 126 (A02) (DI)
DESCRIPTION:
PRIORITY:5
CLASS:PUBLIC
END:VEVENT
BEGIN:VEVENT
ORGANIZER:
DTSTART:20240312T020000Z
DTEND:20240312T025000Z
LOCATION:PCYNH 120
UID:13420260419T154950Z
DTSTAMP:20260419T154950Z
SUMMARY:EDS 126 (A02) (DI)
DESCRIPTION:
PRIORITY:5
CLASS:PUBLIC
END:VEVENT
BEGIN:VEVENT
ORGANIZER:
DTSTART:20240320T150000Z
DTEND:20240320T175900Z
LOCATION: TBA
UID:14020260419T154950Z
DTSTAMP:20260419T154950Z
SUMMARY:EDS 126 (A00) (FI)
DESCRIPTION:
PRIORITY:5
CLASS:PUBLIC
END:VEVENT
END:VCALENDAR