BEGIN:VCALENDAR
VERSION:2.0
X-WR-CALNAME:DSC 148 (A00) - Introduction to Data Mining
METHOD:PUBLISH
BEGIN:VEVENT
ORGANIZER:
DTSTART:20240109T190000Z
DTEND:20240109T202000Z
LOCATION:CENTR 212
UID:220260420T060940Z
DTSTAMP:20260420T060940Z
SUMMARY:DSC 148 (A00) (LE)
DESCRIPTION:
PRIORITY:5
CLASS:PUBLIC
END:VEVENT
BEGIN:VEVENT
ORGANIZER:
DTSTART:20240111T190000Z
DTEND:20240111T202000Z
LOCATION:CENTR 212
UID:420260420T060940Z
DTSTAMP:20260420T060940Z
SUMMARY:DSC 148 (A00) (LE)
DESCRIPTION:
PRIORITY:5
CLASS:PUBLIC
END:VEVENT
BEGIN:VEVENT
ORGANIZER:
DTSTART:20240116T190000Z
DTEND:20240116T202000Z
LOCATION:CENTR 212
UID:920260420T060940Z
DTSTAMP:20260420T060940Z
SUMMARY:DSC 148 (A00) (LE)
DESCRIPTION:
PRIORITY:5
CLASS:PUBLIC
END:VEVENT
BEGIN:VEVENT
ORGANIZER:
DTSTART:20240118T190000Z
DTEND:20240118T202000Z
LOCATION:CENTR 212
UID:1120260420T060940Z
DTSTAMP:20260420T060940Z
SUMMARY:DSC 148 (A00) (LE)
DESCRIPTION:
PRIORITY:5
CLASS:PUBLIC
END:VEVENT
BEGIN:VEVENT
ORGANIZER:
DTSTART:20240123T190000Z
DTEND:20240123T202000Z
LOCATION:CENTR 212
UID:1620260420T060940Z
DTSTAMP:20260420T060940Z
SUMMARY:DSC 148 (A00) (LE)
DESCRIPTION:
PRIORITY:5
CLASS:PUBLIC
END:VEVENT
BEGIN:VEVENT
ORGANIZER:
DTSTART:20240125T190000Z
DTEND:20240125T202000Z
LOCATION:CENTR 212
UID:1820260420T060940Z
DTSTAMP:20260420T060940Z
SUMMARY:DSC 148 (A00) (LE)
DESCRIPTION:
PRIORITY:5
CLASS:PUBLIC
END:VEVENT
BEGIN:VEVENT
ORGANIZER:
DTSTART:20240130T190000Z
DTEND:20240130T202000Z
LOCATION:CENTR 212
UID:2320260420T060940Z
DTSTAMP:20260420T060940Z
SUMMARY:DSC 148 (A00) (LE)
DESCRIPTION:
PRIORITY:5
CLASS:PUBLIC
END:VEVENT
BEGIN:VEVENT
ORGANIZER:
DTSTART:20240201T190000Z
DTEND:20240201T202000Z
LOCATION:CENTR 212
UID:2520260420T060940Z
DTSTAMP:20260420T060940Z
SUMMARY:DSC 148 (A00) (LE)
DESCRIPTION:
PRIORITY:5
CLASS:PUBLIC
END:VEVENT
BEGIN:VEVENT
ORGANIZER:
DTSTART:20240206T190000Z
DTEND:20240206T202000Z
LOCATION:CENTR 212
UID:3020260420T060940Z
DTSTAMP:20260420T060940Z
SUMMARY:DSC 148 (A00) (LE)
DESCRIPTION:
PRIORITY:5
CLASS:PUBLIC
END:VEVENT
BEGIN:VEVENT
ORGANIZER:
DTSTART:20240208T190000Z
DTEND:20240208T202000Z
LOCATION:CENTR 212
UID:3220260420T060940Z
DTSTAMP:20260420T060940Z
SUMMARY:DSC 148 (A00) (LE)
DESCRIPTION:
PRIORITY:5
CLASS:PUBLIC
END:VEVENT
BEGIN:VEVENT
ORGANIZER:
DTSTART:20240213T190000Z
DTEND:20240213T202000Z
LOCATION:CENTR 212
UID:3720260420T060940Z
DTSTAMP:20260420T060940Z
SUMMARY:DSC 148 (A00) (LE)
DESCRIPTION:
PRIORITY:5
CLASS:PUBLIC
END:VEVENT
BEGIN:VEVENT
ORGANIZER:
DTSTART:20240215T190000Z
DTEND:20240215T202000Z
LOCATION:CENTR 212
UID:3920260420T060940Z
DTSTAMP:20260420T060940Z
SUMMARY:DSC 148 (A00) (LE)
DESCRIPTION:
PRIORITY:5
CLASS:PUBLIC
END:VEVENT
BEGIN:VEVENT
ORGANIZER:
DTSTART:20240220T190000Z
DTEND:20240220T202000Z
LOCATION:CENTR 212
UID:4420260420T060940Z
DTSTAMP:20260420T060940Z
SUMMARY:DSC 148 (A00) (LE)
DESCRIPTION:
PRIORITY:5
CLASS:PUBLIC
END:VEVENT
BEGIN:VEVENT
ORGANIZER:
DTSTART:20240222T190000Z
DTEND:20240222T202000Z
LOCATION:CENTR 212
UID:4620260420T060940Z
DTSTAMP:20260420T060940Z
SUMMARY:DSC 148 (A00) (LE)
DESCRIPTION:
PRIORITY:5
CLASS:PUBLIC
END:VEVENT
BEGIN:VEVENT
ORGANIZER:
DTSTART:20240227T190000Z
DTEND:20240227T202000Z
LOCATION:CENTR 212
UID:5120260420T060940Z
DTSTAMP:20260420T060940Z
SUMMARY:DSC 148 (A00) (LE)
DESCRIPTION:
PRIORITY:5
CLASS:PUBLIC
END:VEVENT
BEGIN:VEVENT
ORGANIZER:
DTSTART:20240229T190000Z
DTEND:20240229T202000Z
LOCATION:CENTR 212
UID:5320260420T060940Z
DTSTAMP:20260420T060940Z
SUMMARY:DSC 148 (A00) (LE)
DESCRIPTION:
PRIORITY:5
CLASS:PUBLIC
END:VEVENT
BEGIN:VEVENT
ORGANIZER:
DTSTART:20240305T190000Z
DTEND:20240305T202000Z
LOCATION:CENTR 212
UID:5820260420T060940Z
DTSTAMP:20260420T060940Z
SUMMARY:DSC 148 (A00) (LE)
DESCRIPTION:
PRIORITY:5
CLASS:PUBLIC
END:VEVENT
BEGIN:VEVENT
ORGANIZER:
DTSTART:20240307T190000Z
DTEND:20240307T202000Z
LOCATION:CENTR 212
UID:6020260420T060940Z
DTSTAMP:20260420T060940Z
SUMMARY:DSC 148 (A00) (LE)
DESCRIPTION:
PRIORITY:5
CLASS:PUBLIC
END:VEVENT
BEGIN:VEVENT
ORGANIZER:
DTSTART:20240312T180000Z
DTEND:20240312T192000Z
LOCATION:CENTR 212
UID:6520260420T060940Z
DTSTAMP:20260420T060940Z
SUMMARY:DSC 148 (A00) (LE)
DESCRIPTION:
PRIORITY:5
CLASS:PUBLIC
END:VEVENT
BEGIN:VEVENT
ORGANIZER:
DTSTART:20240314T180000Z
DTEND:20240314T192000Z
LOCATION:CENTR 212
UID:6720260420T060940Z
DTSTAMP:20260420T060940Z
SUMMARY:DSC 148 (A00) (LE)
DESCRIPTION:
PRIORITY:5
CLASS:PUBLIC
END:VEVENT
END:VCALENDAR