BEGIN:VCALENDAR
VERSION:2.0
X-WR-CALNAME:MATH 20B (E01) - Calculus/Science & Engineering
METHOD:PUBLISH
BEGIN:VEVENT
ORGANIZER:
DTSTART:20230929T220000Z
DTEND:20230929T225000Z
LOCATION:CENTR 119
UID:220260420T053909Z
DTSTAMP:20260420T053909Z
SUMMARY:MATH 20B (E00) (LE)
DESCRIPTION:
PRIORITY:5
CLASS:PUBLIC
END:VEVENT
BEGIN:VEVENT
ORGANIZER:
DTSTART:20231002T220000Z
DTEND:20231002T225000Z
LOCATION:CENTR 119
UID:520260420T053909Z
DTSTAMP:20260420T053909Z
SUMMARY:MATH 20B (E00) (LE)
DESCRIPTION:
PRIORITY:5
CLASS:PUBLIC
END:VEVENT
BEGIN:VEVENT
ORGANIZER:
DTSTART:20231004T220000Z
DTEND:20231004T225000Z
LOCATION:CENTR 119
UID:720260420T053909Z
DTSTAMP:20260420T053909Z
SUMMARY:MATH 20B (E00) (LE)
DESCRIPTION:
PRIORITY:5
CLASS:PUBLIC
END:VEVENT
BEGIN:VEVENT
ORGANIZER:
DTSTART:20231006T220000Z
DTEND:20231006T225000Z
LOCATION:CENTR 119
UID:920260420T053909Z
DTSTAMP:20260420T053909Z
SUMMARY:MATH 20B (E00) (LE)
DESCRIPTION:
PRIORITY:5
CLASS:PUBLIC
END:VEVENT
BEGIN:VEVENT
ORGANIZER:
DTSTART:20231009T220000Z
DTEND:20231009T225000Z
LOCATION:CENTR 119
UID:1220260420T053909Z
DTSTAMP:20260420T053909Z
SUMMARY:MATH 20B (E00) (LE)
DESCRIPTION:
PRIORITY:5
CLASS:PUBLIC
END:VEVENT
BEGIN:VEVENT
ORGANIZER:
DTSTART:20231011T220000Z
DTEND:20231011T225000Z
LOCATION:CENTR 119
UID:1420260420T053909Z
DTSTAMP:20260420T053909Z
SUMMARY:MATH 20B (E00) (LE)
DESCRIPTION:
PRIORITY:5
CLASS:PUBLIC
END:VEVENT
BEGIN:VEVENT
ORGANIZER:
DTSTART:20231013T220000Z
DTEND:20231013T225000Z
LOCATION:CENTR 119
UID:1620260420T053909Z
DTSTAMP:20260420T053909Z
SUMMARY:MATH 20B (E00) (LE)
DESCRIPTION:
PRIORITY:5
CLASS:PUBLIC
END:VEVENT
BEGIN:VEVENT
ORGANIZER:
DTSTART:20231016T220000Z
DTEND:20231016T225000Z
LOCATION:CENTR 119
UID:1920260420T053909Z
DTSTAMP:20260420T053909Z
SUMMARY:MATH 20B (E00) (LE)
DESCRIPTION:
PRIORITY:5
CLASS:PUBLIC
END:VEVENT
BEGIN:VEVENT
ORGANIZER:
DTSTART:20231018T220000Z
DTEND:20231018T225000Z
LOCATION:CENTR 119
UID:2120260420T053909Z
DTSTAMP:20260420T053909Z
SUMMARY:MATH 20B (E00) (LE)
DESCRIPTION:
PRIORITY:5
CLASS:PUBLIC
END:VEVENT
BEGIN:VEVENT
ORGANIZER:
DTSTART:20231020T220000Z
DTEND:20231020T225000Z
LOCATION:CENTR 119
UID:2320260420T053909Z
DTSTAMP:20260420T053909Z
SUMMARY:MATH 20B (E00) (LE)
DESCRIPTION:
PRIORITY:5
CLASS:PUBLIC
END:VEVENT
BEGIN:VEVENT
ORGANIZER:
DTSTART:20231023T220000Z
DTEND:20231023T225000Z
LOCATION:CENTR 119
UID:2620260420T053909Z
DTSTAMP:20260420T053909Z
SUMMARY:MATH 20B (E00) (LE)
DESCRIPTION:
PRIORITY:5
CLASS:PUBLIC
END:VEVENT
BEGIN:VEVENT
ORGANIZER:
DTSTART:20231025T220000Z
DTEND:20231025T225000Z
LOCATION:CENTR 119
UID:2820260420T053909Z
DTSTAMP:20260420T053909Z
SUMMARY:MATH 20B (E00) (LE)
DESCRIPTION:
PRIORITY:5
CLASS:PUBLIC
END:VEVENT
BEGIN:VEVENT
ORGANIZER:
DTSTART:20231027T220000Z
DTEND:20231027T225000Z
LOCATION:CENTR 119
UID:3020260420T053909Z
DTSTAMP:20260420T053909Z
SUMMARY:MATH 20B (E00) (LE)
DESCRIPTION:
PRIORITY:5
CLASS:PUBLIC
END:VEVENT
BEGIN:VEVENT
ORGANIZER:
DTSTART:20231030T220000Z
DTEND:20231030T225000Z
LOCATION:CENTR 119
UID:3320260420T053909Z
DTSTAMP:20260420T053909Z
SUMMARY:MATH 20B (E00) (LE)
DESCRIPTION:
PRIORITY:5
CLASS:PUBLIC
END:VEVENT
BEGIN:VEVENT
ORGANIZER:
DTSTART:20231101T220000Z
DTEND:20231101T225000Z
LOCATION:CENTR 119
UID:3520260420T053909Z
DTSTAMP:20260420T053909Z
SUMMARY:MATH 20B (E00) (LE)
DESCRIPTION:
PRIORITY:5
CLASS:PUBLIC
END:VEVENT
BEGIN:VEVENT
ORGANIZER:
DTSTART:20231103T220000Z
DTEND:20231103T225000Z
LOCATION:CENTR 119
UID:3720260420T053909Z
DTSTAMP:20260420T053909Z
SUMMARY:MATH 20B (E00) (LE)
DESCRIPTION:
PRIORITY:5
CLASS:PUBLIC
END:VEVENT
BEGIN:VEVENT
ORGANIZER:
DTSTART:20231106T230000Z
DTEND:20231106T235000Z
LOCATION:CENTR 119
UID:4020260420T053909Z
DTSTAMP:20260420T053909Z
SUMMARY:MATH 20B (E00) (LE)
DESCRIPTION:
PRIORITY:5
CLASS:PUBLIC
END:VEVENT
BEGIN:VEVENT
ORGANIZER:
DTSTART:20231108T230000Z
DTEND:20231108T235000Z
LOCATION:CENTR 119
UID:4220260420T053909Z
DTSTAMP:20260420T053909Z
SUMMARY:MATH 20B (E00) (LE)
DESCRIPTION:
PRIORITY:5
CLASS:PUBLIC
END:VEVENT
BEGIN:VEVENT
ORGANIZER:
DTSTART:20231110T230000Z
DTEND:20231110T235000Z
LOCATION:CENTR 119
UID:4420260420T053909Z
DTSTAMP:20260420T053909Z
SUMMARY:MATH 20B (E00) (LE)
DESCRIPTION:
PRIORITY:5
CLASS:PUBLIC
END:VEVENT
BEGIN:VEVENT
ORGANIZER:
DTSTART:20231113T230000Z
DTEND:20231113T235000Z
LOCATION:CENTR 119
UID:4720260420T053909Z
DTSTAMP:20260420T053909Z
SUMMARY:MATH 20B (E00) (LE)
DESCRIPTION:
PRIORITY:5
CLASS:PUBLIC
END:VEVENT
BEGIN:VEVENT
ORGANIZER:
DTSTART:20231115T230000Z
DTEND:20231115T235000Z
LOCATION:CENTR 119
UID:4920260420T053909Z
DTSTAMP:20260420T053909Z
SUMMARY:MATH 20B (E00) (LE)
DESCRIPTION:
PRIORITY:5
CLASS:PUBLIC
END:VEVENT
BEGIN:VEVENT
ORGANIZER:
DTSTART:20231117T230000Z
DTEND:20231117T235000Z
LOCATION:CENTR 119
UID:5120260420T053909Z
DTSTAMP:20260420T053909Z
SUMMARY:MATH 20B (E00) (LE)
DESCRIPTION:
PRIORITY:5
CLASS:PUBLIC
END:VEVENT
BEGIN:VEVENT
ORGANIZER:
DTSTART:20231120T230000Z
DTEND:20231120T235000Z
LOCATION:CENTR 119
UID:5420260420T053909Z
DTSTAMP:20260420T053909Z
SUMMARY:MATH 20B (E00) (LE)
DESCRIPTION:
PRIORITY:5
CLASS:PUBLIC
END:VEVENT
BEGIN:VEVENT
ORGANIZER:
DTSTART:20231122T230000Z
DTEND:20231122T235000Z
LOCATION:CENTR 119
UID:5620260420T053909Z
DTSTAMP:20260420T053909Z
SUMMARY:MATH 20B (E00) (LE)
DESCRIPTION:
PRIORITY:5
CLASS:PUBLIC
END:VEVENT
BEGIN:VEVENT
ORGANIZER:
DTSTART:20231124T230000Z
DTEND:20231124T235000Z
LOCATION:CENTR 119
UID:5820260420T053909Z
DTSTAMP:20260420T053909Z
SUMMARY:MATH 20B (E00) (LE)
DESCRIPTION:
PRIORITY:5
CLASS:PUBLIC
END:VEVENT
BEGIN:VEVENT
ORGANIZER:
DTSTART:20231127T230000Z
DTEND:20231127T235000Z
LOCATION:CENTR 119
UID:6120260420T053909Z
DTSTAMP:20260420T053909Z
SUMMARY:MATH 20B (E00) (LE)
DESCRIPTION:
PRIORITY:5
CLASS:PUBLIC
END:VEVENT
BEGIN:VEVENT
ORGANIZER:
DTSTART:20231129T230000Z
DTEND:20231129T235000Z
LOCATION:CENTR 119
UID:6320260420T053909Z
DTSTAMP:20260420T053909Z
SUMMARY:MATH 20B (E00) (LE)
DESCRIPTION:
PRIORITY:5
CLASS:PUBLIC
END:VEVENT
BEGIN:VEVENT
ORGANIZER:
DTSTART:20231201T230000Z
DTEND:20231201T235000Z
LOCATION:CENTR 119
UID:6520260420T053909Z
DTSTAMP:20260420T053909Z
SUMMARY:MATH 20B (E00) (LE)
DESCRIPTION:
PRIORITY:5
CLASS:PUBLIC
END:VEVENT
BEGIN:VEVENT
ORGANIZER:
DTSTART:20231204T230000Z
DTEND:20231204T235000Z
LOCATION:CENTR 119
UID:6820260420T053909Z
DTSTAMP:20260420T053909Z
SUMMARY:MATH 20B (E00) (LE)
DESCRIPTION:
PRIORITY:5
CLASS:PUBLIC
END:VEVENT
BEGIN:VEVENT
ORGANIZER:
DTSTART:20231206T230000Z
DTEND:20231206T235000Z
LOCATION:CENTR 119
UID:7020260420T053909Z
DTSTAMP:20260420T053909Z
SUMMARY:MATH 20B (E00) (LE)
DESCRIPTION:
PRIORITY:5
CLASS:PUBLIC
END:VEVENT
BEGIN:VEVENT
ORGANIZER:
DTSTART:20231208T230000Z
DTEND:20231208T235000Z
LOCATION:CENTR 119
UID:7220260420T053909Z
DTSTAMP:20260420T053909Z
SUMMARY:MATH 20B (E00) (LE)
DESCRIPTION:
PRIORITY:5
CLASS:PUBLIC
END:VEVENT
BEGIN:VEVENT
ORGANIZER:
DTSTART:20231003T020000Z
DTEND:20231003T025000Z
LOCATION:PODEM 1A19
UID:7820260420T053909Z
DTSTAMP:20260420T053909Z
SUMMARY:MATH 20B (E01) (DI)
DESCRIPTION:
PRIORITY:5
CLASS:PUBLIC
END:VEVENT
BEGIN:VEVENT
ORGANIZER:
DTSTART:20231010T020000Z
DTEND:20231010T025000Z
LOCATION:PODEM 1A19
UID:8520260420T053909Z
DTSTAMP:20260420T053909Z
SUMMARY:MATH 20B (E01) (DI)
DESCRIPTION:
PRIORITY:5
CLASS:PUBLIC
END:VEVENT
BEGIN:VEVENT
ORGANIZER:
DTSTART:20231017T020000Z
DTEND:20231017T025000Z
LOCATION:PODEM 1A19
UID:9220260420T053909Z
DTSTAMP:20260420T053909Z
SUMMARY:MATH 20B (E01) (DI)
DESCRIPTION:
PRIORITY:5
CLASS:PUBLIC
END:VEVENT
BEGIN:VEVENT
ORGANIZER:
DTSTART:20231024T020000Z
DTEND:20231024T025000Z
LOCATION:PODEM 1A19
UID:9920260420T053909Z
DTSTAMP:20260420T053909Z
SUMMARY:MATH 20B (E01) (DI)
DESCRIPTION:
PRIORITY:5
CLASS:PUBLIC
END:VEVENT
BEGIN:VEVENT
ORGANIZER:
DTSTART:20231031T020000Z
DTEND:20231031T025000Z
LOCATION:PODEM 1A19
UID:10620260420T053909Z
DTSTAMP:20260420T053909Z
SUMMARY:MATH 20B (E01) (DI)
DESCRIPTION:
PRIORITY:5
CLASS:PUBLIC
END:VEVENT
BEGIN:VEVENT
ORGANIZER:
DTSTART:20231107T030000Z
DTEND:20231107T035000Z
LOCATION:PODEM 1A19
UID:11320260420T053909Z
DTSTAMP:20260420T053909Z
SUMMARY:MATH 20B (E01) (DI)
DESCRIPTION:
PRIORITY:5
CLASS:PUBLIC
END:VEVENT
BEGIN:VEVENT
ORGANIZER:
DTSTART:20231114T030000Z
DTEND:20231114T035000Z
LOCATION:PODEM 1A19
UID:12020260420T053909Z
DTSTAMP:20260420T053909Z
SUMMARY:MATH 20B (E01) (DI)
DESCRIPTION:
PRIORITY:5
CLASS:PUBLIC
END:VEVENT
BEGIN:VEVENT
ORGANIZER:
DTSTART:20231121T030000Z
DTEND:20231121T035000Z
LOCATION:PODEM 1A19
UID:12720260420T053909Z
DTSTAMP:20260420T053909Z
SUMMARY:MATH 20B (E01) (DI)
DESCRIPTION:
PRIORITY:5
CLASS:PUBLIC
END:VEVENT
BEGIN:VEVENT
ORGANIZER:
DTSTART:20231128T030000Z
DTEND:20231128T035000Z
LOCATION:PODEM 1A19
UID:13420260420T053909Z
DTSTAMP:20260420T053909Z
SUMMARY:MATH 20B (E01) (DI)
DESCRIPTION:
PRIORITY:5
CLASS:PUBLIC
END:VEVENT
BEGIN:VEVENT
ORGANIZER:
DTSTART:20231205T030000Z
DTEND:20231205T035000Z
LOCATION:PODEM 1A19
UID:14120260420T053909Z
DTSTAMP:20260420T053909Z
SUMMARY:MATH 20B (E01) (DI)
DESCRIPTION:
PRIORITY:5
CLASS:PUBLIC
END:VEVENT
BEGIN:VEVENT
ORGANIZER:
DTSTART:20231108T040000Z
DTEND:20231108T055000Z
LOCATION:PCYNH 109
UID:14920260420T053909Z
DTSTAMP:20260420T053909Z
SUMMARY:MATH 20B (E00) (MI)
DESCRIPTION:
PRIORITY:5
CLASS:PUBLIC
END:VEVENT
BEGIN:VEVENT
ORGANIZER:
DTSTART:20231209T160000Z
DTEND:20231209T185900Z
LOCATION: TBA
UID:15020260420T053909Z
DTSTAMP:20260420T053909Z
SUMMARY:MATH 20B (E00) (FI)
DESCRIPTION:
PRIORITY:5
CLASS:PUBLIC
END:VEVENT
END:VCALENDAR