BEGIN:VCALENDAR
VERSION:2.0
X-WR-CALNAME:SYN 100 (E00) - Engaging/Changing Planet
METHOD:PUBLISH
BEGIN:VEVENT
ORGANIZER:
DTSTART:20231002T223000Z
DTEND:20231002T235000Z
LOCATION:HSS 7077
UID:520260422T025623Z
DTSTAMP:20260422T025623Z
SUMMARY:SYN 100 (E00) (LE)
DESCRIPTION:
PRIORITY:5
CLASS:PUBLIC
END:VEVENT
BEGIN:VEVENT
ORGANIZER:
DTSTART:20231004T223000Z
DTEND:20231004T235000Z
LOCATION:HSS 7077
UID:720260422T025623Z
DTSTAMP:20260422T025623Z
SUMMARY:SYN 100 (E00) (LE)
DESCRIPTION:
PRIORITY:5
CLASS:PUBLIC
END:VEVENT
BEGIN:VEVENT
ORGANIZER:
DTSTART:20231009T223000Z
DTEND:20231009T235000Z
LOCATION:HSS 7077
UID:1220260422T025623Z
DTSTAMP:20260422T025623Z
SUMMARY:SYN 100 (E00) (LE)
DESCRIPTION:
PRIORITY:5
CLASS:PUBLIC
END:VEVENT
BEGIN:VEVENT
ORGANIZER:
DTSTART:20231011T223000Z
DTEND:20231011T235000Z
LOCATION:HSS 7077
UID:1420260422T025623Z
DTSTAMP:20260422T025623Z
SUMMARY:SYN 100 (E00) (LE)
DESCRIPTION:
PRIORITY:5
CLASS:PUBLIC
END:VEVENT
BEGIN:VEVENT
ORGANIZER:
DTSTART:20231016T223000Z
DTEND:20231016T235000Z
LOCATION:HSS 7077
UID:1920260422T025623Z
DTSTAMP:20260422T025623Z
SUMMARY:SYN 100 (E00) (LE)
DESCRIPTION:
PRIORITY:5
CLASS:PUBLIC
END:VEVENT
BEGIN:VEVENT
ORGANIZER:
DTSTART:20231018T223000Z
DTEND:20231018T235000Z
LOCATION:HSS 7077
UID:2120260422T025623Z
DTSTAMP:20260422T025623Z
SUMMARY:SYN 100 (E00) (LE)
DESCRIPTION:
PRIORITY:5
CLASS:PUBLIC
END:VEVENT
BEGIN:VEVENT
ORGANIZER:
DTSTART:20231023T223000Z
DTEND:20231023T235000Z
LOCATION:HSS 7077
UID:2620260422T025623Z
DTSTAMP:20260422T025623Z
SUMMARY:SYN 100 (E00) (LE)
DESCRIPTION:
PRIORITY:5
CLASS:PUBLIC
END:VEVENT
BEGIN:VEVENT
ORGANIZER:
DTSTART:20231025T223000Z
DTEND:20231025T235000Z
LOCATION:HSS 7077
UID:2820260422T025623Z
DTSTAMP:20260422T025623Z
SUMMARY:SYN 100 (E00) (LE)
DESCRIPTION:
PRIORITY:5
CLASS:PUBLIC
END:VEVENT
BEGIN:VEVENT
ORGANIZER:
DTSTART:20231030T223000Z
DTEND:20231030T235000Z
LOCATION:HSS 7077
UID:3320260422T025623Z
DTSTAMP:20260422T025623Z
SUMMARY:SYN 100 (E00) (LE)
DESCRIPTION:
PRIORITY:5
CLASS:PUBLIC
END:VEVENT
BEGIN:VEVENT
ORGANIZER:
DTSTART:20231101T223000Z
DTEND:20231101T235000Z
LOCATION:HSS 7077
UID:3520260422T025623Z
DTSTAMP:20260422T025623Z
SUMMARY:SYN 100 (E00) (LE)
DESCRIPTION:
PRIORITY:5
CLASS:PUBLIC
END:VEVENT
BEGIN:VEVENT
ORGANIZER:
DTSTART:20231106T233000Z
DTEND:20231107T005000Z
LOCATION:HSS 7077
UID:4020260422T025623Z
DTSTAMP:20260422T025623Z
SUMMARY:SYN 100 (E00) (LE)
DESCRIPTION:
PRIORITY:5
CLASS:PUBLIC
END:VEVENT
BEGIN:VEVENT
ORGANIZER:
DTSTART:20231108T233000Z
DTEND:20231109T005000Z
LOCATION:HSS 7077
UID:4220260422T025623Z
DTSTAMP:20260422T025623Z
SUMMARY:SYN 100 (E00) (LE)
DESCRIPTION:
PRIORITY:5
CLASS:PUBLIC
END:VEVENT
BEGIN:VEVENT
ORGANIZER:
DTSTART:20231113T233000Z
DTEND:20231114T005000Z
LOCATION:HSS 7077
UID:4720260422T025623Z
DTSTAMP:20260422T025623Z
SUMMARY:SYN 100 (E00) (LE)
DESCRIPTION:
PRIORITY:5
CLASS:PUBLIC
END:VEVENT
BEGIN:VEVENT
ORGANIZER:
DTSTART:20231115T233000Z
DTEND:20231116T005000Z
LOCATION:HSS 7077
UID:4920260422T025623Z
DTSTAMP:20260422T025623Z
SUMMARY:SYN 100 (E00) (LE)
DESCRIPTION:
PRIORITY:5
CLASS:PUBLIC
END:VEVENT
BEGIN:VEVENT
ORGANIZER:
DTSTART:20231120T233000Z
DTEND:20231121T005000Z
LOCATION:HSS 7077
UID:5420260422T025623Z
DTSTAMP:20260422T025623Z
SUMMARY:SYN 100 (E00) (LE)
DESCRIPTION:
PRIORITY:5
CLASS:PUBLIC
END:VEVENT
BEGIN:VEVENT
ORGANIZER:
DTSTART:20231122T233000Z
DTEND:20231123T005000Z
LOCATION:HSS 7077
UID:5620260422T025623Z
DTSTAMP:20260422T025623Z
SUMMARY:SYN 100 (E00) (LE)
DESCRIPTION:
PRIORITY:5
CLASS:PUBLIC
END:VEVENT
BEGIN:VEVENT
ORGANIZER:
DTSTART:20231127T233000Z
DTEND:20231128T005000Z
LOCATION:HSS 7077
UID:6120260422T025623Z
DTSTAMP:20260422T025623Z
SUMMARY:SYN 100 (E00) (LE)
DESCRIPTION:
PRIORITY:5
CLASS:PUBLIC
END:VEVENT
BEGIN:VEVENT
ORGANIZER:
DTSTART:20231129T233000Z
DTEND:20231130T005000Z
LOCATION:HSS 7077
UID:6320260422T025623Z
DTSTAMP:20260422T025623Z
SUMMARY:SYN 100 (E00) (LE)
DESCRIPTION:
PRIORITY:5
CLASS:PUBLIC
END:VEVENT
BEGIN:VEVENT
ORGANIZER:
DTSTART:20231204T233000Z
DTEND:20231205T005000Z
LOCATION:HSS 7077
UID:6820260422T025623Z
DTSTAMP:20260422T025623Z
SUMMARY:SYN 100 (E00) (LE)
DESCRIPTION:
PRIORITY:5
CLASS:PUBLIC
END:VEVENT
BEGIN:VEVENT
ORGANIZER:
DTSTART:20231206T233000Z
DTEND:20231207T005000Z
LOCATION:HSS 7077
UID:7020260422T025623Z
DTSTAMP:20260422T025623Z
SUMMARY:SYN 100 (E00) (LE)
DESCRIPTION:
PRIORITY:5
CLASS:PUBLIC
END:VEVENT
END:VCALENDAR