BEGIN:VCALENDAR
VERSION:2.0
X-WR-CALNAME:SIO 137 (A01) - Ecosystems & Fisheries
METHOD:PUBLISH
BEGIN:VEVENT
ORGANIZER:
DTSTART:20230928T173000Z
DTEND:20230928T185000Z
LOCATION:MCTF 210
UID:120260419T132657Z
DTSTAMP:20260419T132657Z
SUMMARY:SIO 137 (A00) (LE)
DESCRIPTION:
PRIORITY:5
CLASS:PUBLIC
END:VEVENT
BEGIN:VEVENT
ORGANIZER:
DTSTART:20231003T173000Z
DTEND:20231003T185000Z
LOCATION:MCTF 210
UID:620260419T132657Z
DTSTAMP:20260419T132657Z
SUMMARY:SIO 137 (A00) (LE)
DESCRIPTION:
PRIORITY:5
CLASS:PUBLIC
END:VEVENT
BEGIN:VEVENT
ORGANIZER:
DTSTART:20231005T173000Z
DTEND:20231005T185000Z
LOCATION:MCTF 210
UID:820260419T132657Z
DTSTAMP:20260419T132657Z
SUMMARY:SIO 137 (A00) (LE)
DESCRIPTION:
PRIORITY:5
CLASS:PUBLIC
END:VEVENT
BEGIN:VEVENT
ORGANIZER:
DTSTART:20231010T173000Z
DTEND:20231010T185000Z
LOCATION:MCTF 210
UID:1320260419T132657Z
DTSTAMP:20260419T132657Z
SUMMARY:SIO 137 (A00) (LE)
DESCRIPTION:
PRIORITY:5
CLASS:PUBLIC
END:VEVENT
BEGIN:VEVENT
ORGANIZER:
DTSTART:20231012T173000Z
DTEND:20231012T185000Z
LOCATION:MCTF 210
UID:1520260419T132657Z
DTSTAMP:20260419T132657Z
SUMMARY:SIO 137 (A00) (LE)
DESCRIPTION:
PRIORITY:5
CLASS:PUBLIC
END:VEVENT
BEGIN:VEVENT
ORGANIZER:
DTSTART:20231017T173000Z
DTEND:20231017T185000Z
LOCATION:MCTF 210
UID:2020260419T132657Z
DTSTAMP:20260419T132657Z
SUMMARY:SIO 137 (A00) (LE)
DESCRIPTION:
PRIORITY:5
CLASS:PUBLIC
END:VEVENT
BEGIN:VEVENT
ORGANIZER:
DTSTART:20231019T173000Z
DTEND:20231019T185000Z
LOCATION:MCTF 210
UID:2220260419T132657Z
DTSTAMP:20260419T132657Z
SUMMARY:SIO 137 (A00) (LE)
DESCRIPTION:
PRIORITY:5
CLASS:PUBLIC
END:VEVENT
BEGIN:VEVENT
ORGANIZER:
DTSTART:20231024T173000Z
DTEND:20231024T185000Z
LOCATION:MCTF 210
UID:2720260419T132657Z
DTSTAMP:20260419T132657Z
SUMMARY:SIO 137 (A00) (LE)
DESCRIPTION:
PRIORITY:5
CLASS:PUBLIC
END:VEVENT
BEGIN:VEVENT
ORGANIZER:
DTSTART:20231026T173000Z
DTEND:20231026T185000Z
LOCATION:MCTF 210
UID:2920260419T132657Z
DTSTAMP:20260419T132657Z
SUMMARY:SIO 137 (A00) (LE)
DESCRIPTION:
PRIORITY:5
CLASS:PUBLIC
END:VEVENT
BEGIN:VEVENT
ORGANIZER:
DTSTART:20231031T173000Z
DTEND:20231031T185000Z
LOCATION:MCTF 210
UID:3420260419T132657Z
DTSTAMP:20260419T132657Z
SUMMARY:SIO 137 (A00) (LE)
DESCRIPTION:
PRIORITY:5
CLASS:PUBLIC
END:VEVENT
BEGIN:VEVENT
ORGANIZER:
DTSTART:20231102T173000Z
DTEND:20231102T185000Z
LOCATION:MCTF 210
UID:3620260419T132657Z
DTSTAMP:20260419T132657Z
SUMMARY:SIO 137 (A00) (LE)
DESCRIPTION:
PRIORITY:5
CLASS:PUBLIC
END:VEVENT
BEGIN:VEVENT
ORGANIZER:
DTSTART:20231107T183000Z
DTEND:20231107T195000Z
LOCATION:MCTF 210
UID:4120260419T132657Z
DTSTAMP:20260419T132657Z
SUMMARY:SIO 137 (A00) (LE)
DESCRIPTION:
PRIORITY:5
CLASS:PUBLIC
END:VEVENT
BEGIN:VEVENT
ORGANIZER:
DTSTART:20231109T183000Z
DTEND:20231109T195000Z
LOCATION:MCTF 210
UID:4320260419T132657Z
DTSTAMP:20260419T132657Z
SUMMARY:SIO 137 (A00) (LE)
DESCRIPTION:
PRIORITY:5
CLASS:PUBLIC
END:VEVENT
BEGIN:VEVENT
ORGANIZER:
DTSTART:20231114T183000Z
DTEND:20231114T195000Z
LOCATION:MCTF 210
UID:4820260419T132657Z
DTSTAMP:20260419T132657Z
SUMMARY:SIO 137 (A00) (LE)
DESCRIPTION:
PRIORITY:5
CLASS:PUBLIC
END:VEVENT
BEGIN:VEVENT
ORGANIZER:
DTSTART:20231116T183000Z
DTEND:20231116T195000Z
LOCATION:MCTF 210
UID:5020260419T132657Z
DTSTAMP:20260419T132657Z
SUMMARY:SIO 137 (A00) (LE)
DESCRIPTION:
PRIORITY:5
CLASS:PUBLIC
END:VEVENT
BEGIN:VEVENT
ORGANIZER:
DTSTART:20231121T183000Z
DTEND:20231121T195000Z
LOCATION:MCTF 210
UID:5520260419T132657Z
DTSTAMP:20260419T132657Z
SUMMARY:SIO 137 (A00) (LE)
DESCRIPTION:
PRIORITY:5
CLASS:PUBLIC
END:VEVENT
BEGIN:VEVENT
ORGANIZER:
DTSTART:20231123T183000Z
DTEND:20231123T195000Z
LOCATION:MCTF 210
UID:5720260419T132657Z
DTSTAMP:20260419T132657Z
SUMMARY:SIO 137 (A00) (LE)
DESCRIPTION:
PRIORITY:5
CLASS:PUBLIC
END:VEVENT
BEGIN:VEVENT
ORGANIZER:
DTSTART:20231128T183000Z
DTEND:20231128T195000Z
LOCATION:MCTF 210
UID:6220260419T132657Z
DTSTAMP:20260419T132657Z
SUMMARY:SIO 137 (A00) (LE)
DESCRIPTION:
PRIORITY:5
CLASS:PUBLIC
END:VEVENT
BEGIN:VEVENT
ORGANIZER:
DTSTART:20231130T183000Z
DTEND:20231130T195000Z
LOCATION:MCTF 210
UID:6420260419T132657Z
DTSTAMP:20260419T132657Z
SUMMARY:SIO 137 (A00) (LE)
DESCRIPTION:
PRIORITY:5
CLASS:PUBLIC
END:VEVENT
BEGIN:VEVENT
ORGANIZER:
DTSTART:20231205T183000Z
DTEND:20231205T195000Z
LOCATION:MCTF 210
UID:6920260419T132657Z
DTSTAMP:20260419T132657Z
SUMMARY:SIO 137 (A00) (LE)
DESCRIPTION:
PRIORITY:5
CLASS:PUBLIC
END:VEVENT
BEGIN:VEVENT
ORGANIZER:
DTSTART:20231207T183000Z
DTEND:20231207T195000Z
LOCATION:MCTF 210
UID:7120260419T132657Z
DTSTAMP:20260419T132657Z
SUMMARY:SIO 137 (A00) (LE)
DESCRIPTION:
PRIORITY:5
CLASS:PUBLIC
END:VEVENT
BEGIN:VEVENT
ORGANIZER:
DTSTART:20231003T190000Z
DTEND:20231003T195000Z
LOCATION:MCTF 210
UID:7920260419T132657Z
DTSTAMP:20260419T132657Z
SUMMARY:SIO 137 (A01) (DI)
DESCRIPTION:
PRIORITY:5
CLASS:PUBLIC
END:VEVENT
BEGIN:VEVENT
ORGANIZER:
DTSTART:20231010T190000Z
DTEND:20231010T195000Z
LOCATION:MCTF 210
UID:8620260419T132657Z
DTSTAMP:20260419T132657Z
SUMMARY:SIO 137 (A01) (DI)
DESCRIPTION:
PRIORITY:5
CLASS:PUBLIC
END:VEVENT
BEGIN:VEVENT
ORGANIZER:
DTSTART:20231017T190000Z
DTEND:20231017T195000Z
LOCATION:MCTF 210
UID:9320260419T132657Z
DTSTAMP:20260419T132657Z
SUMMARY:SIO 137 (A01) (DI)
DESCRIPTION:
PRIORITY:5
CLASS:PUBLIC
END:VEVENT
BEGIN:VEVENT
ORGANIZER:
DTSTART:20231024T190000Z
DTEND:20231024T195000Z
LOCATION:MCTF 210
UID:10020260419T132657Z
DTSTAMP:20260419T132657Z
SUMMARY:SIO 137 (A01) (DI)
DESCRIPTION:
PRIORITY:5
CLASS:PUBLIC
END:VEVENT
BEGIN:VEVENT
ORGANIZER:
DTSTART:20231031T190000Z
DTEND:20231031T195000Z
LOCATION:MCTF 210
UID:10720260419T132657Z
DTSTAMP:20260419T132657Z
SUMMARY:SIO 137 (A01) (DI)
DESCRIPTION:
PRIORITY:5
CLASS:PUBLIC
END:VEVENT
BEGIN:VEVENT
ORGANIZER:
DTSTART:20231107T200000Z
DTEND:20231107T205000Z
LOCATION:MCTF 210
UID:11420260419T132657Z
DTSTAMP:20260419T132657Z
SUMMARY:SIO 137 (A01) (DI)
DESCRIPTION:
PRIORITY:5
CLASS:PUBLIC
END:VEVENT
BEGIN:VEVENT
ORGANIZER:
DTSTART:20231114T200000Z
DTEND:20231114T205000Z
LOCATION:MCTF 210
UID:12120260419T132657Z
DTSTAMP:20260419T132657Z
SUMMARY:SIO 137 (A01) (DI)
DESCRIPTION:
PRIORITY:5
CLASS:PUBLIC
END:VEVENT
BEGIN:VEVENT
ORGANIZER:
DTSTART:20231121T200000Z
DTEND:20231121T205000Z
LOCATION:MCTF 210
UID:12820260419T132657Z
DTSTAMP:20260419T132657Z
SUMMARY:SIO 137 (A01) (DI)
DESCRIPTION:
PRIORITY:5
CLASS:PUBLIC
END:VEVENT
BEGIN:VEVENT
ORGANIZER:
DTSTART:20231128T200000Z
DTEND:20231128T205000Z
LOCATION:MCTF 210
UID:13520260419T132657Z
DTSTAMP:20260419T132657Z
SUMMARY:SIO 137 (A01) (DI)
DESCRIPTION:
PRIORITY:5
CLASS:PUBLIC
END:VEVENT
BEGIN:VEVENT
ORGANIZER:
DTSTART:20231205T200000Z
DTEND:20231205T205000Z
LOCATION:MCTF 210
UID:14220260419T132657Z
DTSTAMP:20260419T132657Z
SUMMARY:SIO 137 (A01) (DI)
DESCRIPTION:
PRIORITY:5
CLASS:PUBLIC
END:VEVENT
BEGIN:VEVENT
ORGANIZER:
DTSTART:20231216T160000Z
DTEND:20231216T185900Z
LOCATION: TBA
UID:14820260419T132657Z
DTSTAMP:20260419T132657Z
SUMMARY:SIO 137 (A00) (FI)
DESCRIPTION:
PRIORITY:5
CLASS:PUBLIC
END:VEVENT
END:VCALENDAR