BEGIN:VCALENDAR
VERSION:2.0
X-WR-CALNAME:POLI 220B (A00) - Comparative Pol: Institutions
METHOD:PUBLISH
BEGIN:VEVENT
ORGANIZER:
DTSTART:20231004T220000Z
DTEND:20231005T005000Z
LOCATION:SSB 104
UID:720260420T154631Z
DTSTAMP:20260420T154631Z
SUMMARY:POLI 220B (A00) (SE)
DESCRIPTION:
PRIORITY:5
CLASS:PUBLIC
END:VEVENT
BEGIN:VEVENT
ORGANIZER:
DTSTART:20231011T220000Z
DTEND:20231012T005000Z
LOCATION:SSB 104
UID:1420260420T154631Z
DTSTAMP:20260420T154631Z
SUMMARY:POLI 220B (A00) (SE)
DESCRIPTION:
PRIORITY:5
CLASS:PUBLIC
END:VEVENT
BEGIN:VEVENT
ORGANIZER:
DTSTART:20231018T220000Z
DTEND:20231019T005000Z
LOCATION:SSB 104
UID:2120260420T154631Z
DTSTAMP:20260420T154631Z
SUMMARY:POLI 220B (A00) (SE)
DESCRIPTION:
PRIORITY:5
CLASS:PUBLIC
END:VEVENT
BEGIN:VEVENT
ORGANIZER:
DTSTART:20231025T220000Z
DTEND:20231026T005000Z
LOCATION:SSB 104
UID:2820260420T154631Z
DTSTAMP:20260420T154631Z
SUMMARY:POLI 220B (A00) (SE)
DESCRIPTION:
PRIORITY:5
CLASS:PUBLIC
END:VEVENT
BEGIN:VEVENT
ORGANIZER:
DTSTART:20231101T220000Z
DTEND:20231102T005000Z
LOCATION:SSB 104
UID:3520260420T154631Z
DTSTAMP:20260420T154631Z
SUMMARY:POLI 220B (A00) (SE)
DESCRIPTION:
PRIORITY:5
CLASS:PUBLIC
END:VEVENT
BEGIN:VEVENT
ORGANIZER:
DTSTART:20231108T230000Z
DTEND:20231109T015000Z
LOCATION:SSB 104
UID:4220260420T154631Z
DTSTAMP:20260420T154631Z
SUMMARY:POLI 220B (A00) (SE)
DESCRIPTION:
PRIORITY:5
CLASS:PUBLIC
END:VEVENT
BEGIN:VEVENT
ORGANIZER:
DTSTART:20231115T230000Z
DTEND:20231116T015000Z
LOCATION:SSB 104
UID:4920260420T154631Z
DTSTAMP:20260420T154631Z
SUMMARY:POLI 220B (A00) (SE)
DESCRIPTION:
PRIORITY:5
CLASS:PUBLIC
END:VEVENT
BEGIN:VEVENT
ORGANIZER:
DTSTART:20231122T230000Z
DTEND:20231123T015000Z
LOCATION:SSB 104
UID:5620260420T154631Z
DTSTAMP:20260420T154631Z
SUMMARY:POLI 220B (A00) (SE)
DESCRIPTION:
PRIORITY:5
CLASS:PUBLIC
END:VEVENT
BEGIN:VEVENT
ORGANIZER:
DTSTART:20231129T230000Z
DTEND:20231130T015000Z
LOCATION:SSB 104
UID:6320260420T154631Z
DTSTAMP:20260420T154631Z
SUMMARY:POLI 220B (A00) (SE)
DESCRIPTION:
PRIORITY:5
CLASS:PUBLIC
END:VEVENT
BEGIN:VEVENT
ORGANIZER:
DTSTART:20231206T230000Z
DTEND:20231207T015000Z
LOCATION:SSB 104
UID:7020260420T154631Z
DTSTAMP:20260420T154631Z
SUMMARY:POLI 220B (A00) (SE)
DESCRIPTION:
PRIORITY:5
CLASS:PUBLIC
END:VEVENT
END:VCALENDAR