BEGIN:VCALENDAR
VERSION:2.0
X-WR-CALNAME:POLI 27 (A02) - Ethics And Society I
METHOD:PUBLISH
BEGIN:VEVENT
ORGANIZER:
DTSTART:20231002T170000Z
DTEND:20231002T175000Z
LOCATION:CENTR 115
UID:520260423T201136Z
DTSTAMP:20260423T201136Z
SUMMARY:POLI 27 (A00) (LE)
DESCRIPTION:
PRIORITY:5
CLASS:PUBLIC
END:VEVENT
BEGIN:VEVENT
ORGANIZER:
DTSTART:20231004T170000Z
DTEND:20231004T175000Z
LOCATION:CENTR 115
UID:720260423T201136Z
DTSTAMP:20260423T201136Z
SUMMARY:POLI 27 (A00) (LE)
DESCRIPTION:
PRIORITY:5
CLASS:PUBLIC
END:VEVENT
BEGIN:VEVENT
ORGANIZER:
DTSTART:20231009T170000Z
DTEND:20231009T175000Z
LOCATION:CENTR 115
UID:1220260423T201136Z
DTSTAMP:20260423T201136Z
SUMMARY:POLI 27 (A00) (LE)
DESCRIPTION:
PRIORITY:5
CLASS:PUBLIC
END:VEVENT
BEGIN:VEVENT
ORGANIZER:
DTSTART:20231011T170000Z
DTEND:20231011T175000Z
LOCATION:CENTR 115
UID:1420260423T201136Z
DTSTAMP:20260423T201136Z
SUMMARY:POLI 27 (A00) (LE)
DESCRIPTION:
PRIORITY:5
CLASS:PUBLIC
END:VEVENT
BEGIN:VEVENT
ORGANIZER:
DTSTART:20231016T170000Z
DTEND:20231016T175000Z
LOCATION:CENTR 115
UID:1920260423T201136Z
DTSTAMP:20260423T201136Z
SUMMARY:POLI 27 (A00) (LE)
DESCRIPTION:
PRIORITY:5
CLASS:PUBLIC
END:VEVENT
BEGIN:VEVENT
ORGANIZER:
DTSTART:20231018T170000Z
DTEND:20231018T175000Z
LOCATION:CENTR 115
UID:2120260423T201136Z
DTSTAMP:20260423T201136Z
SUMMARY:POLI 27 (A00) (LE)
DESCRIPTION:
PRIORITY:5
CLASS:PUBLIC
END:VEVENT
BEGIN:VEVENT
ORGANIZER:
DTSTART:20231023T170000Z
DTEND:20231023T175000Z
LOCATION:CENTR 115
UID:2620260423T201136Z
DTSTAMP:20260423T201136Z
SUMMARY:POLI 27 (A00) (LE)
DESCRIPTION:
PRIORITY:5
CLASS:PUBLIC
END:VEVENT
BEGIN:VEVENT
ORGANIZER:
DTSTART:20231025T170000Z
DTEND:20231025T175000Z
LOCATION:CENTR 115
UID:2820260423T201136Z
DTSTAMP:20260423T201136Z
SUMMARY:POLI 27 (A00) (LE)
DESCRIPTION:
PRIORITY:5
CLASS:PUBLIC
END:VEVENT
BEGIN:VEVENT
ORGANIZER:
DTSTART:20231030T170000Z
DTEND:20231030T175000Z
LOCATION:CENTR 115
UID:3320260423T201136Z
DTSTAMP:20260423T201136Z
SUMMARY:POLI 27 (A00) (LE)
DESCRIPTION:
PRIORITY:5
CLASS:PUBLIC
END:VEVENT
BEGIN:VEVENT
ORGANIZER:
DTSTART:20231101T170000Z
DTEND:20231101T175000Z
LOCATION:CENTR 115
UID:3520260423T201136Z
DTSTAMP:20260423T201136Z
SUMMARY:POLI 27 (A00) (LE)
DESCRIPTION:
PRIORITY:5
CLASS:PUBLIC
END:VEVENT
BEGIN:VEVENT
ORGANIZER:
DTSTART:20231106T180000Z
DTEND:20231106T185000Z
LOCATION:CENTR 115
UID:4020260423T201136Z
DTSTAMP:20260423T201136Z
SUMMARY:POLI 27 (A00) (LE)
DESCRIPTION:
PRIORITY:5
CLASS:PUBLIC
END:VEVENT
BEGIN:VEVENT
ORGANIZER:
DTSTART:20231108T180000Z
DTEND:20231108T185000Z
LOCATION:CENTR 115
UID:4220260423T201136Z
DTSTAMP:20260423T201136Z
SUMMARY:POLI 27 (A00) (LE)
DESCRIPTION:
PRIORITY:5
CLASS:PUBLIC
END:VEVENT
BEGIN:VEVENT
ORGANIZER:
DTSTART:20231113T180000Z
DTEND:20231113T185000Z
LOCATION:CENTR 115
UID:4720260423T201136Z
DTSTAMP:20260423T201136Z
SUMMARY:POLI 27 (A00) (LE)
DESCRIPTION:
PRIORITY:5
CLASS:PUBLIC
END:VEVENT
BEGIN:VEVENT
ORGANIZER:
DTSTART:20231115T180000Z
DTEND:20231115T185000Z
LOCATION:CENTR 115
UID:4920260423T201136Z
DTSTAMP:20260423T201136Z
SUMMARY:POLI 27 (A00) (LE)
DESCRIPTION:
PRIORITY:5
CLASS:PUBLIC
END:VEVENT
BEGIN:VEVENT
ORGANIZER:
DTSTART:20231120T180000Z
DTEND:20231120T185000Z
LOCATION:CENTR 115
UID:5420260423T201136Z
DTSTAMP:20260423T201136Z
SUMMARY:POLI 27 (A00) (LE)
DESCRIPTION:
PRIORITY:5
CLASS:PUBLIC
END:VEVENT
BEGIN:VEVENT
ORGANIZER:
DTSTART:20231122T180000Z
DTEND:20231122T185000Z
LOCATION:CENTR 115
UID:5620260423T201136Z
DTSTAMP:20260423T201136Z
SUMMARY:POLI 27 (A00) (LE)
DESCRIPTION:
PRIORITY:5
CLASS:PUBLIC
END:VEVENT
BEGIN:VEVENT
ORGANIZER:
DTSTART:20231127T180000Z
DTEND:20231127T185000Z
LOCATION:CENTR 115
UID:6120260423T201136Z
DTSTAMP:20260423T201136Z
SUMMARY:POLI 27 (A00) (LE)
DESCRIPTION:
PRIORITY:5
CLASS:PUBLIC
END:VEVENT
BEGIN:VEVENT
ORGANIZER:
DTSTART:20231129T180000Z
DTEND:20231129T185000Z
LOCATION:CENTR 115
UID:6320260423T201136Z
DTSTAMP:20260423T201136Z
SUMMARY:POLI 27 (A00) (LE)
DESCRIPTION:
PRIORITY:5
CLASS:PUBLIC
END:VEVENT
BEGIN:VEVENT
ORGANIZER:
DTSTART:20231204T180000Z
DTEND:20231204T185000Z
LOCATION:CENTR 115
UID:6820260423T201136Z
DTSTAMP:20260423T201136Z
SUMMARY:POLI 27 (A00) (LE)
DESCRIPTION:
PRIORITY:5
CLASS:PUBLIC
END:VEVENT
BEGIN:VEVENT
ORGANIZER:
DTSTART:20231206T180000Z
DTEND:20231206T185000Z
LOCATION:CENTR 115
UID:7020260423T201136Z
DTSTAMP:20260423T201136Z
SUMMARY:POLI 27 (A00) (LE)
DESCRIPTION:
PRIORITY:5
CLASS:PUBLIC
END:VEVENT
BEGIN:VEVENT
ORGANIZER:
DTSTART:20231004T190000Z
DTEND:20231004T195000Z
LOCATION:HSS 1128A
UID:8120260423T201136Z
DTSTAMP:20260423T201136Z
SUMMARY:POLI 27 (A02) (DI)
DESCRIPTION:
PRIORITY:5
CLASS:PUBLIC
END:VEVENT
BEGIN:VEVENT
ORGANIZER:
DTSTART:20231011T190000Z
DTEND:20231011T195000Z
LOCATION:HSS 1128A
UID:8820260423T201136Z
DTSTAMP:20260423T201136Z
SUMMARY:POLI 27 (A02) (DI)
DESCRIPTION:
PRIORITY:5
CLASS:PUBLIC
END:VEVENT
BEGIN:VEVENT
ORGANIZER:
DTSTART:20231018T190000Z
DTEND:20231018T195000Z
LOCATION:HSS 1128A
UID:9520260423T201136Z
DTSTAMP:20260423T201136Z
SUMMARY:POLI 27 (A02) (DI)
DESCRIPTION:
PRIORITY:5
CLASS:PUBLIC
END:VEVENT
BEGIN:VEVENT
ORGANIZER:
DTSTART:20231025T190000Z
DTEND:20231025T195000Z
LOCATION:HSS 1128A
UID:10220260423T201136Z
DTSTAMP:20260423T201136Z
SUMMARY:POLI 27 (A02) (DI)
DESCRIPTION:
PRIORITY:5
CLASS:PUBLIC
END:VEVENT
BEGIN:VEVENT
ORGANIZER:
DTSTART:20231101T190000Z
DTEND:20231101T195000Z
LOCATION:HSS 1128A
UID:10920260423T201136Z
DTSTAMP:20260423T201136Z
SUMMARY:POLI 27 (A02) (DI)
DESCRIPTION:
PRIORITY:5
CLASS:PUBLIC
END:VEVENT
BEGIN:VEVENT
ORGANIZER:
DTSTART:20231108T200000Z
DTEND:20231108T205000Z
LOCATION:HSS 1128A
UID:11620260423T201136Z
DTSTAMP:20260423T201136Z
SUMMARY:POLI 27 (A02) (DI)
DESCRIPTION:
PRIORITY:5
CLASS:PUBLIC
END:VEVENT
BEGIN:VEVENT
ORGANIZER:
DTSTART:20231115T200000Z
DTEND:20231115T205000Z
LOCATION:HSS 1128A
UID:12320260423T201136Z
DTSTAMP:20260423T201136Z
SUMMARY:POLI 27 (A02) (DI)
DESCRIPTION:
PRIORITY:5
CLASS:PUBLIC
END:VEVENT
BEGIN:VEVENT
ORGANIZER:
DTSTART:20231122T200000Z
DTEND:20231122T205000Z
LOCATION:HSS 1128A
UID:13020260423T201136Z
DTSTAMP:20260423T201136Z
SUMMARY:POLI 27 (A02) (DI)
DESCRIPTION:
PRIORITY:5
CLASS:PUBLIC
END:VEVENT
BEGIN:VEVENT
ORGANIZER:
DTSTART:20231129T200000Z
DTEND:20231129T205000Z
LOCATION:HSS 1128A
UID:13720260423T201136Z
DTSTAMP:20260423T201136Z
SUMMARY:POLI 27 (A02) (DI)
DESCRIPTION:
PRIORITY:5
CLASS:PUBLIC
END:VEVENT
BEGIN:VEVENT
ORGANIZER:
DTSTART:20231206T200000Z
DTEND:20231206T205000Z
LOCATION:HSS 1128A
UID:14420260423T201136Z
DTSTAMP:20260423T201136Z
SUMMARY:POLI 27 (A02) (DI)
DESCRIPTION:
PRIORITY:5
CLASS:PUBLIC
END:VEVENT
BEGIN:VEVENT
ORGANIZER:
DTSTART:20231215T160000Z
DTEND:20231215T185900Z
LOCATION: TBA
UID:15220260423T201136Z
DTSTAMP:20260423T201136Z
SUMMARY:POLI 27 (A00) (FI)
DESCRIPTION:
PRIORITY:5
CLASS:PUBLIC
END:VEVENT
END:VCALENDAR