BEGIN:VCALENDAR
VERSION:2.0
X-WR-CALNAME:CHEM 43A (B07) - Organic Chemistry Laboratory
METHOD:PUBLISH
BEGIN:VEVENT
ORGANIZER:
DTSTART:20230929T170000Z
DTEND:20230929T175000Z
LOCATION:YORK 2722
UID:220260423T195625Z
DTSTAMP:20260423T195625Z
SUMMARY:CHEM 43A (B00) (LE)
DESCRIPTION:
PRIORITY:5
CLASS:PUBLIC
END:VEVENT
BEGIN:VEVENT
ORGANIZER:
DTSTART:20231006T170000Z
DTEND:20231006T175000Z
LOCATION:YORK 2722
UID:920260423T195625Z
DTSTAMP:20260423T195625Z
SUMMARY:CHEM 43A (B00) (LE)
DESCRIPTION:
PRIORITY:5
CLASS:PUBLIC
END:VEVENT
BEGIN:VEVENT
ORGANIZER:
DTSTART:20231013T170000Z
DTEND:20231013T175000Z
LOCATION:YORK 2722
UID:1620260423T195625Z
DTSTAMP:20260423T195625Z
SUMMARY:CHEM 43A (B00) (LE)
DESCRIPTION:
PRIORITY:5
CLASS:PUBLIC
END:VEVENT
BEGIN:VEVENT
ORGANIZER:
DTSTART:20231020T170000Z
DTEND:20231020T175000Z
LOCATION:YORK 2722
UID:2320260423T195625Z
DTSTAMP:20260423T195625Z
SUMMARY:CHEM 43A (B00) (LE)
DESCRIPTION:
PRIORITY:5
CLASS:PUBLIC
END:VEVENT
BEGIN:VEVENT
ORGANIZER:
DTSTART:20231027T170000Z
DTEND:20231027T175000Z
LOCATION:YORK 2722
UID:3020260423T195625Z
DTSTAMP:20260423T195625Z
SUMMARY:CHEM 43A (B00) (LE)
DESCRIPTION:
PRIORITY:5
CLASS:PUBLIC
END:VEVENT
BEGIN:VEVENT
ORGANIZER:
DTSTART:20231103T170000Z
DTEND:20231103T175000Z
LOCATION:YORK 2722
UID:3720260423T195625Z
DTSTAMP:20260423T195625Z
SUMMARY:CHEM 43A (B00) (LE)
DESCRIPTION:
PRIORITY:5
CLASS:PUBLIC
END:VEVENT
BEGIN:VEVENT
ORGANIZER:
DTSTART:20231110T180000Z
DTEND:20231110T185000Z
LOCATION:YORK 2722
UID:4420260423T195625Z
DTSTAMP:20260423T195625Z
SUMMARY:CHEM 43A (B00) (LE)
DESCRIPTION:
PRIORITY:5
CLASS:PUBLIC
END:VEVENT
BEGIN:VEVENT
ORGANIZER:
DTSTART:20231117T180000Z
DTEND:20231117T185000Z
LOCATION:YORK 2722
UID:5120260423T195625Z
DTSTAMP:20260423T195625Z
SUMMARY:CHEM 43A (B00) (LE)
DESCRIPTION:
PRIORITY:5
CLASS:PUBLIC
END:VEVENT
BEGIN:VEVENT
ORGANIZER:
DTSTART:20231124T180000Z
DTEND:20231124T185000Z
LOCATION:YORK 2722
UID:5820260423T195625Z
DTSTAMP:20260423T195625Z
SUMMARY:CHEM 43A (B00) (LE)
DESCRIPTION:
PRIORITY:5
CLASS:PUBLIC
END:VEVENT
BEGIN:VEVENT
ORGANIZER:
DTSTART:20231201T180000Z
DTEND:20231201T185000Z
LOCATION:YORK 2722
UID:6520260423T195625Z
DTSTAMP:20260423T195625Z
SUMMARY:CHEM 43A (B00) (LE)
DESCRIPTION:
PRIORITY:5
CLASS:PUBLIC
END:VEVENT
BEGIN:VEVENT
ORGANIZER:
DTSTART:20231208T180000Z
DTEND:20231208T185000Z
LOCATION:YORK 2722
UID:7220260423T195625Z
DTSTAMP:20260423T195625Z
SUMMARY:CHEM 43A (B00) (LE)
DESCRIPTION:
PRIORITY:5
CLASS:PUBLIC
END:VEVENT
BEGIN:VEVENT
ORGANIZER:
DTSTART:20230928T212000Z
DTEND:20230929T001000Z
LOCATION:YORK 3108
UID:8020260423T195625Z
DTSTAMP:20260423T195625Z
SUMMARY:CHEM 43A (B07) (LA)
DESCRIPTION:
PRIORITY:5
CLASS:PUBLIC
END:VEVENT
BEGIN:VEVENT
ORGANIZER:
DTSTART:20231003T212000Z
DTEND:20231004T001000Z
LOCATION:YORK 3108
UID:8520260423T195625Z
DTSTAMP:20260423T195625Z
SUMMARY:CHEM 43A (B07) (LA)
DESCRIPTION:
PRIORITY:5
CLASS:PUBLIC
END:VEVENT
BEGIN:VEVENT
ORGANIZER:
DTSTART:20231005T212000Z
DTEND:20231006T001000Z
LOCATION:YORK 3108
UID:8720260423T195625Z
DTSTAMP:20260423T195625Z
SUMMARY:CHEM 43A (B07) (LA)
DESCRIPTION:
PRIORITY:5
CLASS:PUBLIC
END:VEVENT
BEGIN:VEVENT
ORGANIZER:
DTSTART:20231010T212000Z
DTEND:20231011T001000Z
LOCATION:YORK 3108
UID:9220260423T195625Z
DTSTAMP:20260423T195625Z
SUMMARY:CHEM 43A (B07) (LA)
DESCRIPTION:
PRIORITY:5
CLASS:PUBLIC
END:VEVENT
BEGIN:VEVENT
ORGANIZER:
DTSTART:20231012T212000Z
DTEND:20231013T001000Z
LOCATION:YORK 3108
UID:9420260423T195625Z
DTSTAMP:20260423T195625Z
SUMMARY:CHEM 43A (B07) (LA)
DESCRIPTION:
PRIORITY:5
CLASS:PUBLIC
END:VEVENT
BEGIN:VEVENT
ORGANIZER:
DTSTART:20231017T212000Z
DTEND:20231018T001000Z
LOCATION:YORK 3108
UID:9920260423T195625Z
DTSTAMP:20260423T195625Z
SUMMARY:CHEM 43A (B07) (LA)
DESCRIPTION:
PRIORITY:5
CLASS:PUBLIC
END:VEVENT
BEGIN:VEVENT
ORGANIZER:
DTSTART:20231019T212000Z
DTEND:20231020T001000Z
LOCATION:YORK 3108
UID:10120260423T195625Z
DTSTAMP:20260423T195625Z
SUMMARY:CHEM 43A (B07) (LA)
DESCRIPTION:
PRIORITY:5
CLASS:PUBLIC
END:VEVENT
BEGIN:VEVENT
ORGANIZER:
DTSTART:20231024T212000Z
DTEND:20231025T001000Z
LOCATION:YORK 3108
UID:10620260423T195625Z
DTSTAMP:20260423T195625Z
SUMMARY:CHEM 43A (B07) (LA)
DESCRIPTION:
PRIORITY:5
CLASS:PUBLIC
END:VEVENT
BEGIN:VEVENT
ORGANIZER:
DTSTART:20231026T212000Z
DTEND:20231027T001000Z
LOCATION:YORK 3108
UID:10820260423T195625Z
DTSTAMP:20260423T195625Z
SUMMARY:CHEM 43A (B07) (LA)
DESCRIPTION:
PRIORITY:5
CLASS:PUBLIC
END:VEVENT
BEGIN:VEVENT
ORGANIZER:
DTSTART:20231031T212000Z
DTEND:20231101T001000Z
LOCATION:YORK 3108
UID:11320260423T195625Z
DTSTAMP:20260423T195625Z
SUMMARY:CHEM 43A (B07) (LA)
DESCRIPTION:
PRIORITY:5
CLASS:PUBLIC
END:VEVENT
BEGIN:VEVENT
ORGANIZER:
DTSTART:20231102T212000Z
DTEND:20231103T001000Z
LOCATION:YORK 3108
UID:11520260423T195625Z
DTSTAMP:20260423T195625Z
SUMMARY:CHEM 43A (B07) (LA)
DESCRIPTION:
PRIORITY:5
CLASS:PUBLIC
END:VEVENT
BEGIN:VEVENT
ORGANIZER:
DTSTART:20231107T222000Z
DTEND:20231108T011000Z
LOCATION:YORK 3108
UID:12020260423T195625Z
DTSTAMP:20260423T195625Z
SUMMARY:CHEM 43A (B07) (LA)
DESCRIPTION:
PRIORITY:5
CLASS:PUBLIC
END:VEVENT
BEGIN:VEVENT
ORGANIZER:
DTSTART:20231109T222000Z
DTEND:20231110T011000Z
LOCATION:YORK 3108
UID:12220260423T195625Z
DTSTAMP:20260423T195625Z
SUMMARY:CHEM 43A (B07) (LA)
DESCRIPTION:
PRIORITY:5
CLASS:PUBLIC
END:VEVENT
BEGIN:VEVENT
ORGANIZER:
DTSTART:20231114T222000Z
DTEND:20231115T011000Z
LOCATION:YORK 3108
UID:12720260423T195625Z
DTSTAMP:20260423T195625Z
SUMMARY:CHEM 43A (B07) (LA)
DESCRIPTION:
PRIORITY:5
CLASS:PUBLIC
END:VEVENT
BEGIN:VEVENT
ORGANIZER:
DTSTART:20231116T222000Z
DTEND:20231117T011000Z
LOCATION:YORK 3108
UID:12920260423T195625Z
DTSTAMP:20260423T195625Z
SUMMARY:CHEM 43A (B07) (LA)
DESCRIPTION:
PRIORITY:5
CLASS:PUBLIC
END:VEVENT
BEGIN:VEVENT
ORGANIZER:
DTSTART:20231121T222000Z
DTEND:20231122T011000Z
LOCATION:YORK 3108
UID:13420260423T195625Z
DTSTAMP:20260423T195625Z
SUMMARY:CHEM 43A (B07) (LA)
DESCRIPTION:
PRIORITY:5
CLASS:PUBLIC
END:VEVENT
BEGIN:VEVENT
ORGANIZER:
DTSTART:20231123T222000Z
DTEND:20231124T011000Z
LOCATION:YORK 3108
UID:13620260423T195625Z
DTSTAMP:20260423T195625Z
SUMMARY:CHEM 43A (B07) (LA)
DESCRIPTION:
PRIORITY:5
CLASS:PUBLIC
END:VEVENT
BEGIN:VEVENT
ORGANIZER:
DTSTART:20231128T222000Z
DTEND:20231129T011000Z
LOCATION:YORK 3108
UID:14120260423T195625Z
DTSTAMP:20260423T195625Z
SUMMARY:CHEM 43A (B07) (LA)
DESCRIPTION:
PRIORITY:5
CLASS:PUBLIC
END:VEVENT
BEGIN:VEVENT
ORGANIZER:
DTSTART:20231130T222000Z
DTEND:20231201T011000Z
LOCATION:YORK 3108
UID:14320260423T195625Z
DTSTAMP:20260423T195625Z
SUMMARY:CHEM 43A (B07) (LA)
DESCRIPTION:
PRIORITY:5
CLASS:PUBLIC
END:VEVENT
BEGIN:VEVENT
ORGANIZER:
DTSTART:20231205T222000Z
DTEND:20231206T011000Z
LOCATION:YORK 3108
UID:14820260423T195625Z
DTSTAMP:20260423T195625Z
SUMMARY:CHEM 43A (B07) (LA)
DESCRIPTION:
PRIORITY:5
CLASS:PUBLIC
END:VEVENT
BEGIN:VEVENT
ORGANIZER:
DTSTART:20231207T222000Z
DTEND:20231208T011000Z
LOCATION:YORK 3108
UID:15020260423T195625Z
DTSTAMP:20260423T195625Z
SUMMARY:CHEM 43A (B07) (LA)
DESCRIPTION:
PRIORITY:5
CLASS:PUBLIC
END:VEVENT
BEGIN:VEVENT
ORGANIZER:
DTSTART:20231104T160000Z
DTEND:20231104T175000Z
LOCATION:SOLIS 107
UID:15920260423T195625Z
DTSTAMP:20260423T195625Z
SUMMARY:CHEM 43A (B00) (MI)
DESCRIPTION:
PRIORITY:5
CLASS:PUBLIC
END:VEVENT
BEGIN:VEVENT
ORGANIZER:
DTSTART:20231209T193000Z
DTEND:20231209T222900Z
LOCATION: TBA
UID:16020260423T195625Z
DTSTAMP:20260423T195625Z
SUMMARY:CHEM 43A (B00) (FI)
DESCRIPTION:
PRIORITY:5
CLASS:PUBLIC
END:VEVENT
END:VCALENDAR