BEGIN:VCALENDAR
VERSION:2.0
X-WR-CALNAME:LIFR 1D (D00) - French Conversation
METHOD:PUBLISH
BEGIN:VEVENT
ORGANIZER:
DTSTART:20230929T180000Z
DTEND:20230929T185000Z
LOCATION:APM 4301
UID:220260421T150350Z
DTSTAMP:20260421T150350Z
SUMMARY:LIFR 1D (D00) (TU)
DESCRIPTION:
PRIORITY:5
CLASS:PUBLIC
END:VEVENT
BEGIN:VEVENT
ORGANIZER:
DTSTART:20231002T180000Z
DTEND:20231002T185000Z
LOCATION:APM 4301
UID:520260421T150350Z
DTSTAMP:20260421T150350Z
SUMMARY:LIFR 1D (D00) (TU)
DESCRIPTION:
PRIORITY:5
CLASS:PUBLIC
END:VEVENT
BEGIN:VEVENT
ORGANIZER:
DTSTART:20231004T180000Z
DTEND:20231004T185000Z
LOCATION:APM 4301
UID:720260421T150350Z
DTSTAMP:20260421T150350Z
SUMMARY:LIFR 1D (D00) (TU)
DESCRIPTION:
PRIORITY:5
CLASS:PUBLIC
END:VEVENT
BEGIN:VEVENT
ORGANIZER:
DTSTART:20231006T180000Z
DTEND:20231006T185000Z
LOCATION:APM 4301
UID:920260421T150350Z
DTSTAMP:20260421T150350Z
SUMMARY:LIFR 1D (D00) (TU)
DESCRIPTION:
PRIORITY:5
CLASS:PUBLIC
END:VEVENT
BEGIN:VEVENT
ORGANIZER:
DTSTART:20231009T180000Z
DTEND:20231009T185000Z
LOCATION:APM 4301
UID:1220260421T150350Z
DTSTAMP:20260421T150350Z
SUMMARY:LIFR 1D (D00) (TU)
DESCRIPTION:
PRIORITY:5
CLASS:PUBLIC
END:VEVENT
BEGIN:VEVENT
ORGANIZER:
DTSTART:20231011T180000Z
DTEND:20231011T185000Z
LOCATION:APM 4301
UID:1420260421T150350Z
DTSTAMP:20260421T150350Z
SUMMARY:LIFR 1D (D00) (TU)
DESCRIPTION:
PRIORITY:5
CLASS:PUBLIC
END:VEVENT
BEGIN:VEVENT
ORGANIZER:
DTSTART:20231013T180000Z
DTEND:20231013T185000Z
LOCATION:APM 4301
UID:1620260421T150350Z
DTSTAMP:20260421T150350Z
SUMMARY:LIFR 1D (D00) (TU)
DESCRIPTION:
PRIORITY:5
CLASS:PUBLIC
END:VEVENT
BEGIN:VEVENT
ORGANIZER:
DTSTART:20231016T180000Z
DTEND:20231016T185000Z
LOCATION:APM 4301
UID:1920260421T150350Z
DTSTAMP:20260421T150350Z
SUMMARY:LIFR 1D (D00) (TU)
DESCRIPTION:
PRIORITY:5
CLASS:PUBLIC
END:VEVENT
BEGIN:VEVENT
ORGANIZER:
DTSTART:20231018T180000Z
DTEND:20231018T185000Z
LOCATION:APM 4301
UID:2120260421T150350Z
DTSTAMP:20260421T150350Z
SUMMARY:LIFR 1D (D00) (TU)
DESCRIPTION:
PRIORITY:5
CLASS:PUBLIC
END:VEVENT
BEGIN:VEVENT
ORGANIZER:
DTSTART:20231020T180000Z
DTEND:20231020T185000Z
LOCATION:APM 4301
UID:2320260421T150350Z
DTSTAMP:20260421T150350Z
SUMMARY:LIFR 1D (D00) (TU)
DESCRIPTION:
PRIORITY:5
CLASS:PUBLIC
END:VEVENT
BEGIN:VEVENT
ORGANIZER:
DTSTART:20231023T180000Z
DTEND:20231023T185000Z
LOCATION:APM 4301
UID:2620260421T150350Z
DTSTAMP:20260421T150350Z
SUMMARY:LIFR 1D (D00) (TU)
DESCRIPTION:
PRIORITY:5
CLASS:PUBLIC
END:VEVENT
BEGIN:VEVENT
ORGANIZER:
DTSTART:20231025T180000Z
DTEND:20231025T185000Z
LOCATION:APM 4301
UID:2820260421T150350Z
DTSTAMP:20260421T150350Z
SUMMARY:LIFR 1D (D00) (TU)
DESCRIPTION:
PRIORITY:5
CLASS:PUBLIC
END:VEVENT
BEGIN:VEVENT
ORGANIZER:
DTSTART:20231027T180000Z
DTEND:20231027T185000Z
LOCATION:APM 4301
UID:3020260421T150350Z
DTSTAMP:20260421T150350Z
SUMMARY:LIFR 1D (D00) (TU)
DESCRIPTION:
PRIORITY:5
CLASS:PUBLIC
END:VEVENT
BEGIN:VEVENT
ORGANIZER:
DTSTART:20231030T180000Z
DTEND:20231030T185000Z
LOCATION:APM 4301
UID:3320260421T150350Z
DTSTAMP:20260421T150350Z
SUMMARY:LIFR 1D (D00) (TU)
DESCRIPTION:
PRIORITY:5
CLASS:PUBLIC
END:VEVENT
BEGIN:VEVENT
ORGANIZER:
DTSTART:20231101T180000Z
DTEND:20231101T185000Z
LOCATION:APM 4301
UID:3520260421T150350Z
DTSTAMP:20260421T150350Z
SUMMARY:LIFR 1D (D00) (TU)
DESCRIPTION:
PRIORITY:5
CLASS:PUBLIC
END:VEVENT
BEGIN:VEVENT
ORGANIZER:
DTSTART:20231103T180000Z
DTEND:20231103T185000Z
LOCATION:APM 4301
UID:3720260421T150350Z
DTSTAMP:20260421T150350Z
SUMMARY:LIFR 1D (D00) (TU)
DESCRIPTION:
PRIORITY:5
CLASS:PUBLIC
END:VEVENT
BEGIN:VEVENT
ORGANIZER:
DTSTART:20231106T190000Z
DTEND:20231106T195000Z
LOCATION:APM 4301
UID:4020260421T150350Z
DTSTAMP:20260421T150350Z
SUMMARY:LIFR 1D (D00) (TU)
DESCRIPTION:
PRIORITY:5
CLASS:PUBLIC
END:VEVENT
BEGIN:VEVENT
ORGANIZER:
DTSTART:20231108T190000Z
DTEND:20231108T195000Z
LOCATION:APM 4301
UID:4220260421T150350Z
DTSTAMP:20260421T150350Z
SUMMARY:LIFR 1D (D00) (TU)
DESCRIPTION:
PRIORITY:5
CLASS:PUBLIC
END:VEVENT
BEGIN:VEVENT
ORGANIZER:
DTSTART:20231110T190000Z
DTEND:20231110T195000Z
LOCATION:APM 4301
UID:4420260421T150350Z
DTSTAMP:20260421T150350Z
SUMMARY:LIFR 1D (D00) (TU)
DESCRIPTION:
PRIORITY:5
CLASS:PUBLIC
END:VEVENT
BEGIN:VEVENT
ORGANIZER:
DTSTART:20231113T190000Z
DTEND:20231113T195000Z
LOCATION:APM 4301
UID:4720260421T150350Z
DTSTAMP:20260421T150350Z
SUMMARY:LIFR 1D (D00) (TU)
DESCRIPTION:
PRIORITY:5
CLASS:PUBLIC
END:VEVENT
BEGIN:VEVENT
ORGANIZER:
DTSTART:20231115T190000Z
DTEND:20231115T195000Z
LOCATION:APM 4301
UID:4920260421T150350Z
DTSTAMP:20260421T150350Z
SUMMARY:LIFR 1D (D00) (TU)
DESCRIPTION:
PRIORITY:5
CLASS:PUBLIC
END:VEVENT
BEGIN:VEVENT
ORGANIZER:
DTSTART:20231117T190000Z
DTEND:20231117T195000Z
LOCATION:APM 4301
UID:5120260421T150350Z
DTSTAMP:20260421T150350Z
SUMMARY:LIFR 1D (D00) (TU)
DESCRIPTION:
PRIORITY:5
CLASS:PUBLIC
END:VEVENT
BEGIN:VEVENT
ORGANIZER:
DTSTART:20231120T190000Z
DTEND:20231120T195000Z
LOCATION:APM 4301
UID:5420260421T150350Z
DTSTAMP:20260421T150350Z
SUMMARY:LIFR 1D (D00) (TU)
DESCRIPTION:
PRIORITY:5
CLASS:PUBLIC
END:VEVENT
BEGIN:VEVENT
ORGANIZER:
DTSTART:20231122T190000Z
DTEND:20231122T195000Z
LOCATION:APM 4301
UID:5620260421T150350Z
DTSTAMP:20260421T150350Z
SUMMARY:LIFR 1D (D00) (TU)
DESCRIPTION:
PRIORITY:5
CLASS:PUBLIC
END:VEVENT
BEGIN:VEVENT
ORGANIZER:
DTSTART:20231124T190000Z
DTEND:20231124T195000Z
LOCATION:APM 4301
UID:5820260421T150350Z
DTSTAMP:20260421T150350Z
SUMMARY:LIFR 1D (D00) (TU)
DESCRIPTION:
PRIORITY:5
CLASS:PUBLIC
END:VEVENT
BEGIN:VEVENT
ORGANIZER:
DTSTART:20231127T190000Z
DTEND:20231127T195000Z
LOCATION:APM 4301
UID:6120260421T150350Z
DTSTAMP:20260421T150350Z
SUMMARY:LIFR 1D (D00) (TU)
DESCRIPTION:
PRIORITY:5
CLASS:PUBLIC
END:VEVENT
BEGIN:VEVENT
ORGANIZER:
DTSTART:20231129T190000Z
DTEND:20231129T195000Z
LOCATION:APM 4301
UID:6320260421T150350Z
DTSTAMP:20260421T150350Z
SUMMARY:LIFR 1D (D00) (TU)
DESCRIPTION:
PRIORITY:5
CLASS:PUBLIC
END:VEVENT
BEGIN:VEVENT
ORGANIZER:
DTSTART:20231201T190000Z
DTEND:20231201T195000Z
LOCATION:APM 4301
UID:6520260421T150350Z
DTSTAMP:20260421T150350Z
SUMMARY:LIFR 1D (D00) (TU)
DESCRIPTION:
PRIORITY:5
CLASS:PUBLIC
END:VEVENT
BEGIN:VEVENT
ORGANIZER:
DTSTART:20231204T190000Z
DTEND:20231204T195000Z
LOCATION:APM 4301
UID:6820260421T150350Z
DTSTAMP:20260421T150350Z
SUMMARY:LIFR 1D (D00) (TU)
DESCRIPTION:
PRIORITY:5
CLASS:PUBLIC
END:VEVENT
BEGIN:VEVENT
ORGANIZER:
DTSTART:20231206T190000Z
DTEND:20231206T195000Z
LOCATION:APM 4301
UID:7020260421T150350Z
DTSTAMP:20260421T150350Z
SUMMARY:LIFR 1D (D00) (TU)
DESCRIPTION:
PRIORITY:5
CLASS:PUBLIC
END:VEVENT
BEGIN:VEVENT
ORGANIZER:
DTSTART:20231208T190000Z
DTEND:20231208T195000Z
LOCATION:APM 4301
UID:7220260421T150350Z
DTSTAMP:20260421T150350Z
SUMMARY:LIFR 1D (D00) (TU)
DESCRIPTION:
PRIORITY:5
CLASS:PUBLIC
END:VEVENT
END:VCALENDAR