BEGIN:VCALENDAR
VERSION:2.0
X-WR-CALNAME:POLI 11D (A04) - Intro/Poli Sci:Compar Politics
METHOD:PUBLISH
BEGIN:VEVENT
ORGANIZER:
DTSTART:20230403T190000Z
DTEND:20230403T195000Z
LOCATION:MOS 0113
UID:120260420T230508Z
DTSTAMP:20260420T230508Z
SUMMARY:POLI 11D (A00) (LE)
DESCRIPTION:
PRIORITY:5
CLASS:PUBLIC
END:VEVENT
BEGIN:VEVENT
ORGANIZER:
DTSTART:20230405T190000Z
DTEND:20230405T195000Z
LOCATION:MOS 0113
UID:320260420T230508Z
DTSTAMP:20260420T230508Z
SUMMARY:POLI 11D (A00) (LE)
DESCRIPTION:
PRIORITY:5
CLASS:PUBLIC
END:VEVENT
BEGIN:VEVENT
ORGANIZER:
DTSTART:20230410T190000Z
DTEND:20230410T195000Z
LOCATION:MOS 0113
UID:820260420T230508Z
DTSTAMP:20260420T230508Z
SUMMARY:POLI 11D (A00) (LE)
DESCRIPTION:
PRIORITY:5
CLASS:PUBLIC
END:VEVENT
BEGIN:VEVENT
ORGANIZER:
DTSTART:20230412T190000Z
DTEND:20230412T195000Z
LOCATION:MOS 0113
UID:1020260420T230508Z
DTSTAMP:20260420T230508Z
SUMMARY:POLI 11D (A00) (LE)
DESCRIPTION:
PRIORITY:5
CLASS:PUBLIC
END:VEVENT
BEGIN:VEVENT
ORGANIZER:
DTSTART:20230417T190000Z
DTEND:20230417T195000Z
LOCATION:MOS 0113
UID:1520260420T230508Z
DTSTAMP:20260420T230508Z
SUMMARY:POLI 11D (A00) (LE)
DESCRIPTION:
PRIORITY:5
CLASS:PUBLIC
END:VEVENT
BEGIN:VEVENT
ORGANIZER:
DTSTART:20230419T190000Z
DTEND:20230419T195000Z
LOCATION:MOS 0113
UID:1720260420T230508Z
DTSTAMP:20260420T230508Z
SUMMARY:POLI 11D (A00) (LE)
DESCRIPTION:
PRIORITY:5
CLASS:PUBLIC
END:VEVENT
BEGIN:VEVENT
ORGANIZER:
DTSTART:20230424T190000Z
DTEND:20230424T195000Z
LOCATION:MOS 0113
UID:2220260420T230508Z
DTSTAMP:20260420T230508Z
SUMMARY:POLI 11D (A00) (LE)
DESCRIPTION:
PRIORITY:5
CLASS:PUBLIC
END:VEVENT
BEGIN:VEVENT
ORGANIZER:
DTSTART:20230426T190000Z
DTEND:20230426T195000Z
LOCATION:MOS 0113
UID:2420260420T230508Z
DTSTAMP:20260420T230508Z
SUMMARY:POLI 11D (A00) (LE)
DESCRIPTION:
PRIORITY:5
CLASS:PUBLIC
END:VEVENT
BEGIN:VEVENT
ORGANIZER:
DTSTART:20230501T190000Z
DTEND:20230501T195000Z
LOCATION:MOS 0113
UID:2920260420T230508Z
DTSTAMP:20260420T230508Z
SUMMARY:POLI 11D (A00) (LE)
DESCRIPTION:
PRIORITY:5
CLASS:PUBLIC
END:VEVENT
BEGIN:VEVENT
ORGANIZER:
DTSTART:20230503T190000Z
DTEND:20230503T195000Z
LOCATION:MOS 0113
UID:3120260420T230508Z
DTSTAMP:20260420T230508Z
SUMMARY:POLI 11D (A00) (LE)
DESCRIPTION:
PRIORITY:5
CLASS:PUBLIC
END:VEVENT
BEGIN:VEVENT
ORGANIZER:
DTSTART:20230508T190000Z
DTEND:20230508T195000Z
LOCATION:MOS 0113
UID:3620260420T230508Z
DTSTAMP:20260420T230508Z
SUMMARY:POLI 11D (A00) (LE)
DESCRIPTION:
PRIORITY:5
CLASS:PUBLIC
END:VEVENT
BEGIN:VEVENT
ORGANIZER:
DTSTART:20230510T190000Z
DTEND:20230510T195000Z
LOCATION:MOS 0113
UID:3820260420T230508Z
DTSTAMP:20260420T230508Z
SUMMARY:POLI 11D (A00) (LE)
DESCRIPTION:
PRIORITY:5
CLASS:PUBLIC
END:VEVENT
BEGIN:VEVENT
ORGANIZER:
DTSTART:20230515T190000Z
DTEND:20230515T195000Z
LOCATION:MOS 0113
UID:4320260420T230508Z
DTSTAMP:20260420T230508Z
SUMMARY:POLI 11D (A00) (LE)
DESCRIPTION:
PRIORITY:5
CLASS:PUBLIC
END:VEVENT
BEGIN:VEVENT
ORGANIZER:
DTSTART:20230517T190000Z
DTEND:20230517T195000Z
LOCATION:MOS 0113
UID:4520260420T230508Z
DTSTAMP:20260420T230508Z
SUMMARY:POLI 11D (A00) (LE)
DESCRIPTION:
PRIORITY:5
CLASS:PUBLIC
END:VEVENT
BEGIN:VEVENT
ORGANIZER:
DTSTART:20230522T190000Z
DTEND:20230522T195000Z
LOCATION:MOS 0113
UID:5020260420T230508Z
DTSTAMP:20260420T230508Z
SUMMARY:POLI 11D (A00) (LE)
DESCRIPTION:
PRIORITY:5
CLASS:PUBLIC
END:VEVENT
BEGIN:VEVENT
ORGANIZER:
DTSTART:20230524T190000Z
DTEND:20230524T195000Z
LOCATION:MOS 0113
UID:5220260420T230508Z
DTSTAMP:20260420T230508Z
SUMMARY:POLI 11D (A00) (LE)
DESCRIPTION:
PRIORITY:5
CLASS:PUBLIC
END:VEVENT
BEGIN:VEVENT
ORGANIZER:
DTSTART:20230529T190000Z
DTEND:20230529T195000Z
LOCATION:MOS 0113
UID:5720260420T230508Z
DTSTAMP:20260420T230508Z
SUMMARY:POLI 11D (A00) (LE)
DESCRIPTION:
PRIORITY:5
CLASS:PUBLIC
END:VEVENT
BEGIN:VEVENT
ORGANIZER:
DTSTART:20230531T190000Z
DTEND:20230531T195000Z
LOCATION:MOS 0113
UID:5920260420T230508Z
DTSTAMP:20260420T230508Z
SUMMARY:POLI 11D (A00) (LE)
DESCRIPTION:
PRIORITY:5
CLASS:PUBLIC
END:VEVENT
BEGIN:VEVENT
ORGANIZER:
DTSTART:20230605T190000Z
DTEND:20230605T195000Z
LOCATION:MOS 0113
UID:6420260420T230508Z
DTSTAMP:20260420T230508Z
SUMMARY:POLI 11D (A00) (LE)
DESCRIPTION:
PRIORITY:5
CLASS:PUBLIC
END:VEVENT
BEGIN:VEVENT
ORGANIZER:
DTSTART:20230607T190000Z
DTEND:20230607T195000Z
LOCATION:MOS 0113
UID:6620260420T230508Z
DTSTAMP:20260420T230508Z
SUMMARY:POLI 11D (A00) (LE)
DESCRIPTION:
PRIORITY:5
CLASS:PUBLIC
END:VEVENT
BEGIN:VEVENT
ORGANIZER:
DTSTART:20230407T020000Z
DTEND:20230407T025000Z
LOCATION:CENTR 217B
UID:7620260420T230508Z
DTSTAMP:20260420T230508Z
SUMMARY:POLI 11D (A04) (DI)
DESCRIPTION:
PRIORITY:5
CLASS:PUBLIC
END:VEVENT
BEGIN:VEVENT
ORGANIZER:
DTSTART:20230414T020000Z
DTEND:20230414T025000Z
LOCATION:CENTR 217B
UID:8320260420T230508Z
DTSTAMP:20260420T230508Z
SUMMARY:POLI 11D (A04) (DI)
DESCRIPTION:
PRIORITY:5
CLASS:PUBLIC
END:VEVENT
BEGIN:VEVENT
ORGANIZER:
DTSTART:20230421T020000Z
DTEND:20230421T025000Z
LOCATION:CENTR 217B
UID:9020260420T230508Z
DTSTAMP:20260420T230508Z
SUMMARY:POLI 11D (A04) (DI)
DESCRIPTION:
PRIORITY:5
CLASS:PUBLIC
END:VEVENT
BEGIN:VEVENT
ORGANIZER:
DTSTART:20230428T020000Z
DTEND:20230428T025000Z
LOCATION:CENTR 217B
UID:9720260420T230508Z
DTSTAMP:20260420T230508Z
SUMMARY:POLI 11D (A04) (DI)
DESCRIPTION:
PRIORITY:5
CLASS:PUBLIC
END:VEVENT
BEGIN:VEVENT
ORGANIZER:
DTSTART:20230505T020000Z
DTEND:20230505T025000Z
LOCATION:CENTR 217B
UID:10420260420T230508Z
DTSTAMP:20260420T230508Z
SUMMARY:POLI 11D (A04) (DI)
DESCRIPTION:
PRIORITY:5
CLASS:PUBLIC
END:VEVENT
BEGIN:VEVENT
ORGANIZER:
DTSTART:20230512T020000Z
DTEND:20230512T025000Z
LOCATION:CENTR 217B
UID:11120260420T230508Z
DTSTAMP:20260420T230508Z
SUMMARY:POLI 11D (A04) (DI)
DESCRIPTION:
PRIORITY:5
CLASS:PUBLIC
END:VEVENT
BEGIN:VEVENT
ORGANIZER:
DTSTART:20230519T020000Z
DTEND:20230519T025000Z
LOCATION:CENTR 217B
UID:11820260420T230508Z
DTSTAMP:20260420T230508Z
SUMMARY:POLI 11D (A04) (DI)
DESCRIPTION:
PRIORITY:5
CLASS:PUBLIC
END:VEVENT
BEGIN:VEVENT
ORGANIZER:
DTSTART:20230526T020000Z
DTEND:20230526T025000Z
LOCATION:CENTR 217B
UID:12520260420T230508Z
DTSTAMP:20260420T230508Z
SUMMARY:POLI 11D (A04) (DI)
DESCRIPTION:
PRIORITY:5
CLASS:PUBLIC
END:VEVENT
BEGIN:VEVENT
ORGANIZER:
DTSTART:20230602T020000Z
DTEND:20230602T025000Z
LOCATION:CENTR 217B
UID:13220260420T230508Z
DTSTAMP:20260420T230508Z
SUMMARY:POLI 11D (A04) (DI)
DESCRIPTION:
PRIORITY:5
CLASS:PUBLIC
END:VEVENT
BEGIN:VEVENT
ORGANIZER:
DTSTART:20230609T020000Z
DTEND:20230609T025000Z
LOCATION:CENTR 217B
UID:13920260420T230508Z
DTSTAMP:20260420T230508Z
SUMMARY:POLI 11D (A04) (DI)
DESCRIPTION:
PRIORITY:5
CLASS:PUBLIC
END:VEVENT
BEGIN:VEVENT
ORGANIZER:
DTSTART:20230614T183000Z
DTEND:20230614T212900Z
LOCATION: TBA
UID:14420260420T230508Z
DTSTAMP:20260420T230508Z
SUMMARY:POLI 11D (A00) (FI)
DESCRIPTION:
PRIORITY:5
CLASS:PUBLIC
END:VEVENT
END:VCALENDAR