BEGIN:VCALENDAR
VERSION:2.0
X-WR-CALNAME:MATH 170C (A01) - Intro Numerical Analy/Ord Diff
METHOD:PUBLISH
BEGIN:VEVENT
ORGANIZER:
DTSTART:20230403T160000Z
DTEND:20230403T165000Z
LOCATION:WLH 2111
UID:120260420T030831Z
DTSTAMP:20260420T030831Z
SUMMARY:MATH 170C (A00) (LE)
DESCRIPTION:
PRIORITY:5
CLASS:PUBLIC
END:VEVENT
BEGIN:VEVENT
ORGANIZER:
DTSTART:20230405T160000Z
DTEND:20230405T165000Z
LOCATION:WLH 2111
UID:320260420T030831Z
DTSTAMP:20260420T030831Z
SUMMARY:MATH 170C (A00) (LE)
DESCRIPTION:
PRIORITY:5
CLASS:PUBLIC
END:VEVENT
BEGIN:VEVENT
ORGANIZER:
DTSTART:20230407T160000Z
DTEND:20230407T165000Z
LOCATION:WLH 2111
UID:520260420T030831Z
DTSTAMP:20260420T030831Z
SUMMARY:MATH 170C (A00) (LE)
DESCRIPTION:
PRIORITY:5
CLASS:PUBLIC
END:VEVENT
BEGIN:VEVENT
ORGANIZER:
DTSTART:20230410T160000Z
DTEND:20230410T165000Z
LOCATION:WLH 2111
UID:820260420T030831Z
DTSTAMP:20260420T030831Z
SUMMARY:MATH 170C (A00) (LE)
DESCRIPTION:
PRIORITY:5
CLASS:PUBLIC
END:VEVENT
BEGIN:VEVENT
ORGANIZER:
DTSTART:20230412T160000Z
DTEND:20230412T165000Z
LOCATION:WLH 2111
UID:1020260420T030831Z
DTSTAMP:20260420T030831Z
SUMMARY:MATH 170C (A00) (LE)
DESCRIPTION:
PRIORITY:5
CLASS:PUBLIC
END:VEVENT
BEGIN:VEVENT
ORGANIZER:
DTSTART:20230414T160000Z
DTEND:20230414T165000Z
LOCATION:WLH 2111
UID:1220260420T030831Z
DTSTAMP:20260420T030831Z
SUMMARY:MATH 170C (A00) (LE)
DESCRIPTION:
PRIORITY:5
CLASS:PUBLIC
END:VEVENT
BEGIN:VEVENT
ORGANIZER:
DTSTART:20230417T160000Z
DTEND:20230417T165000Z
LOCATION:WLH 2111
UID:1520260420T030831Z
DTSTAMP:20260420T030831Z
SUMMARY:MATH 170C (A00) (LE)
DESCRIPTION:
PRIORITY:5
CLASS:PUBLIC
END:VEVENT
BEGIN:VEVENT
ORGANIZER:
DTSTART:20230419T160000Z
DTEND:20230419T165000Z
LOCATION:WLH 2111
UID:1720260420T030831Z
DTSTAMP:20260420T030831Z
SUMMARY:MATH 170C (A00) (LE)
DESCRIPTION:
PRIORITY:5
CLASS:PUBLIC
END:VEVENT
BEGIN:VEVENT
ORGANIZER:
DTSTART:20230421T160000Z
DTEND:20230421T165000Z
LOCATION:WLH 2111
UID:1920260420T030831Z
DTSTAMP:20260420T030831Z
SUMMARY:MATH 170C (A00) (LE)
DESCRIPTION:
PRIORITY:5
CLASS:PUBLIC
END:VEVENT
BEGIN:VEVENT
ORGANIZER:
DTSTART:20230424T160000Z
DTEND:20230424T165000Z
LOCATION:WLH 2111
UID:2220260420T030831Z
DTSTAMP:20260420T030831Z
SUMMARY:MATH 170C (A00) (LE)
DESCRIPTION:
PRIORITY:5
CLASS:PUBLIC
END:VEVENT
BEGIN:VEVENT
ORGANIZER:
DTSTART:20230426T160000Z
DTEND:20230426T165000Z
LOCATION:WLH 2111
UID:2420260420T030831Z
DTSTAMP:20260420T030831Z
SUMMARY:MATH 170C (A00) (LE)
DESCRIPTION:
PRIORITY:5
CLASS:PUBLIC
END:VEVENT
BEGIN:VEVENT
ORGANIZER:
DTSTART:20230428T160000Z
DTEND:20230428T165000Z
LOCATION:WLH 2111
UID:2620260420T030831Z
DTSTAMP:20260420T030831Z
SUMMARY:MATH 170C (A00) (LE)
DESCRIPTION:
PRIORITY:5
CLASS:PUBLIC
END:VEVENT
BEGIN:VEVENT
ORGANIZER:
DTSTART:20230501T160000Z
DTEND:20230501T165000Z
LOCATION:WLH 2111
UID:2920260420T030831Z
DTSTAMP:20260420T030831Z
SUMMARY:MATH 170C (A00) (LE)
DESCRIPTION:
PRIORITY:5
CLASS:PUBLIC
END:VEVENT
BEGIN:VEVENT
ORGANIZER:
DTSTART:20230503T160000Z
DTEND:20230503T165000Z
LOCATION:WLH 2111
UID:3120260420T030831Z
DTSTAMP:20260420T030831Z
SUMMARY:MATH 170C (A00) (LE)
DESCRIPTION:
PRIORITY:5
CLASS:PUBLIC
END:VEVENT
BEGIN:VEVENT
ORGANIZER:
DTSTART:20230505T160000Z
DTEND:20230505T165000Z
LOCATION:WLH 2111
UID:3320260420T030831Z
DTSTAMP:20260420T030831Z
SUMMARY:MATH 170C (A00) (LE)
DESCRIPTION:
PRIORITY:5
CLASS:PUBLIC
END:VEVENT
BEGIN:VEVENT
ORGANIZER:
DTSTART:20230508T160000Z
DTEND:20230508T165000Z
LOCATION:WLH 2111
UID:3620260420T030831Z
DTSTAMP:20260420T030831Z
SUMMARY:MATH 170C (A00) (LE)
DESCRIPTION:
PRIORITY:5
CLASS:PUBLIC
END:VEVENT
BEGIN:VEVENT
ORGANIZER:
DTSTART:20230510T160000Z
DTEND:20230510T165000Z
LOCATION:WLH 2111
UID:3820260420T030831Z
DTSTAMP:20260420T030831Z
SUMMARY:MATH 170C (A00) (LE)
DESCRIPTION:
PRIORITY:5
CLASS:PUBLIC
END:VEVENT
BEGIN:VEVENT
ORGANIZER:
DTSTART:20230512T160000Z
DTEND:20230512T165000Z
LOCATION:WLH 2111
UID:4020260420T030831Z
DTSTAMP:20260420T030831Z
SUMMARY:MATH 170C (A00) (LE)
DESCRIPTION:
PRIORITY:5
CLASS:PUBLIC
END:VEVENT
BEGIN:VEVENT
ORGANIZER:
DTSTART:20230515T160000Z
DTEND:20230515T165000Z
LOCATION:WLH 2111
UID:4320260420T030831Z
DTSTAMP:20260420T030831Z
SUMMARY:MATH 170C (A00) (LE)
DESCRIPTION:
PRIORITY:5
CLASS:PUBLIC
END:VEVENT
BEGIN:VEVENT
ORGANIZER:
DTSTART:20230517T160000Z
DTEND:20230517T165000Z
LOCATION:WLH 2111
UID:4520260420T030831Z
DTSTAMP:20260420T030831Z
SUMMARY:MATH 170C (A00) (LE)
DESCRIPTION:
PRIORITY:5
CLASS:PUBLIC
END:VEVENT
BEGIN:VEVENT
ORGANIZER:
DTSTART:20230519T160000Z
DTEND:20230519T165000Z
LOCATION:WLH 2111
UID:4720260420T030831Z
DTSTAMP:20260420T030831Z
SUMMARY:MATH 170C (A00) (LE)
DESCRIPTION:
PRIORITY:5
CLASS:PUBLIC
END:VEVENT
BEGIN:VEVENT
ORGANIZER:
DTSTART:20230522T160000Z
DTEND:20230522T165000Z
LOCATION:WLH 2111
UID:5020260420T030831Z
DTSTAMP:20260420T030831Z
SUMMARY:MATH 170C (A00) (LE)
DESCRIPTION:
PRIORITY:5
CLASS:PUBLIC
END:VEVENT
BEGIN:VEVENT
ORGANIZER:
DTSTART:20230524T160000Z
DTEND:20230524T165000Z
LOCATION:WLH 2111
UID:5220260420T030831Z
DTSTAMP:20260420T030831Z
SUMMARY:MATH 170C (A00) (LE)
DESCRIPTION:
PRIORITY:5
CLASS:PUBLIC
END:VEVENT
BEGIN:VEVENT
ORGANIZER:
DTSTART:20230526T160000Z
DTEND:20230526T165000Z
LOCATION:WLH 2111
UID:5420260420T030831Z
DTSTAMP:20260420T030831Z
SUMMARY:MATH 170C (A00) (LE)
DESCRIPTION:
PRIORITY:5
CLASS:PUBLIC
END:VEVENT
BEGIN:VEVENT
ORGANIZER:
DTSTART:20230529T160000Z
DTEND:20230529T165000Z
LOCATION:WLH 2111
UID:5720260420T030831Z
DTSTAMP:20260420T030831Z
SUMMARY:MATH 170C (A00) (LE)
DESCRIPTION:
PRIORITY:5
CLASS:PUBLIC
END:VEVENT
BEGIN:VEVENT
ORGANIZER:
DTSTART:20230531T160000Z
DTEND:20230531T165000Z
LOCATION:WLH 2111
UID:5920260420T030831Z
DTSTAMP:20260420T030831Z
SUMMARY:MATH 170C (A00) (LE)
DESCRIPTION:
PRIORITY:5
CLASS:PUBLIC
END:VEVENT
BEGIN:VEVENT
ORGANIZER:
DTSTART:20230602T160000Z
DTEND:20230602T165000Z
LOCATION:WLH 2111
UID:6120260420T030831Z
DTSTAMP:20260420T030831Z
SUMMARY:MATH 170C (A00) (LE)
DESCRIPTION:
PRIORITY:5
CLASS:PUBLIC
END:VEVENT
BEGIN:VEVENT
ORGANIZER:
DTSTART:20230605T160000Z
DTEND:20230605T165000Z
LOCATION:WLH 2111
UID:6420260420T030831Z
DTSTAMP:20260420T030831Z
SUMMARY:MATH 170C (A00) (LE)
DESCRIPTION:
PRIORITY:5
CLASS:PUBLIC
END:VEVENT
BEGIN:VEVENT
ORGANIZER:
DTSTART:20230607T160000Z
DTEND:20230607T165000Z
LOCATION:WLH 2111
UID:6620260420T030831Z
DTSTAMP:20260420T030831Z
SUMMARY:MATH 170C (A00) (LE)
DESCRIPTION:
PRIORITY:5
CLASS:PUBLIC
END:VEVENT
BEGIN:VEVENT
ORGANIZER:
DTSTART:20230609T160000Z
DTEND:20230609T165000Z
LOCATION:WLH 2111
UID:6820260420T030831Z
DTSTAMP:20260420T030831Z
SUMMARY:MATH 170C (A00) (LE)
DESCRIPTION:
PRIORITY:5
CLASS:PUBLIC
END:VEVENT
BEGIN:VEVENT
ORGANIZER:
DTSTART:20230404T220000Z
DTEND:20230404T225000Z
LOCATION:APM 2301
UID:7120260420T030831Z
DTSTAMP:20260420T030831Z
SUMMARY:MATH 170C (A01) (DI)
DESCRIPTION:
PRIORITY:5
CLASS:PUBLIC
END:VEVENT
BEGIN:VEVENT
ORGANIZER:
DTSTART:20230411T220000Z
DTEND:20230411T225000Z
LOCATION:APM 2301
UID:7820260420T030831Z
DTSTAMP:20260420T030831Z
SUMMARY:MATH 170C (A01) (DI)
DESCRIPTION:
PRIORITY:5
CLASS:PUBLIC
END:VEVENT
BEGIN:VEVENT
ORGANIZER:
DTSTART:20230418T220000Z
DTEND:20230418T225000Z
LOCATION:APM 2301
UID:8520260420T030831Z
DTSTAMP:20260420T030831Z
SUMMARY:MATH 170C (A01) (DI)
DESCRIPTION:
PRIORITY:5
CLASS:PUBLIC
END:VEVENT
BEGIN:VEVENT
ORGANIZER:
DTSTART:20230425T220000Z
DTEND:20230425T225000Z
LOCATION:APM 2301
UID:9220260420T030831Z
DTSTAMP:20260420T030831Z
SUMMARY:MATH 170C (A01) (DI)
DESCRIPTION:
PRIORITY:5
CLASS:PUBLIC
END:VEVENT
BEGIN:VEVENT
ORGANIZER:
DTSTART:20230502T220000Z
DTEND:20230502T225000Z
LOCATION:APM 2301
UID:9920260420T030831Z
DTSTAMP:20260420T030831Z
SUMMARY:MATH 170C (A01) (DI)
DESCRIPTION:
PRIORITY:5
CLASS:PUBLIC
END:VEVENT
BEGIN:VEVENT
ORGANIZER:
DTSTART:20230509T220000Z
DTEND:20230509T225000Z
LOCATION:APM 2301
UID:10620260420T030831Z
DTSTAMP:20260420T030831Z
SUMMARY:MATH 170C (A01) (DI)
DESCRIPTION:
PRIORITY:5
CLASS:PUBLIC
END:VEVENT
BEGIN:VEVENT
ORGANIZER:
DTSTART:20230516T220000Z
DTEND:20230516T225000Z
LOCATION:APM 2301
UID:11320260420T030831Z
DTSTAMP:20260420T030831Z
SUMMARY:MATH 170C (A01) (DI)
DESCRIPTION:
PRIORITY:5
CLASS:PUBLIC
END:VEVENT
BEGIN:VEVENT
ORGANIZER:
DTSTART:20230523T220000Z
DTEND:20230523T225000Z
LOCATION:APM 2301
UID:12020260420T030831Z
DTSTAMP:20260420T030831Z
SUMMARY:MATH 170C (A01) (DI)
DESCRIPTION:
PRIORITY:5
CLASS:PUBLIC
END:VEVENT
BEGIN:VEVENT
ORGANIZER:
DTSTART:20230530T220000Z
DTEND:20230530T225000Z
LOCATION:APM 2301
UID:12720260420T030831Z
DTSTAMP:20260420T030831Z
SUMMARY:MATH 170C (A01) (DI)
DESCRIPTION:
PRIORITY:5
CLASS:PUBLIC
END:VEVENT
BEGIN:VEVENT
ORGANIZER:
DTSTART:20230606T220000Z
DTEND:20230606T225000Z
LOCATION:APM 2301
UID:13420260420T030831Z
DTSTAMP:20260420T030831Z
SUMMARY:MATH 170C (A01) (DI)
DESCRIPTION:
PRIORITY:5
CLASS:PUBLIC
END:VEVENT
BEGIN:VEVENT
ORGANIZER:
DTSTART:20230614T150000Z
DTEND:20230614T175900Z
LOCATION: TBA
UID:14020260420T030831Z
DTSTAMP:20260420T030831Z
SUMMARY:MATH 170C (A00) (FI)
DESCRIPTION:
PRIORITY:5
CLASS:PUBLIC
END:VEVENT
END:VCALENDAR