BEGIN:VCALENDAR
VERSION:2.0
X-WR-CALNAME:MATH 100C (A01) - Abstract Algebra III
METHOD:PUBLISH
BEGIN:VEVENT
ORGANIZER:
DTSTART:20230403T190000Z
DTEND:20230403T195000Z
LOCATION:WLH 2204
UID:220260419T172959Z
DTSTAMP:20260419T172959Z
SUMMARY:MATH 100C (A00) (LE)
DESCRIPTION:
PRIORITY:5
CLASS:PUBLIC
END:VEVENT
BEGIN:VEVENT
ORGANIZER:
DTSTART:20230405T190000Z
DTEND:20230405T195000Z
LOCATION:WLH 2204
UID:420260419T172959Z
DTSTAMP:20260419T172959Z
SUMMARY:MATH 100C (A00) (LE)
DESCRIPTION:
PRIORITY:5
CLASS:PUBLIC
END:VEVENT
BEGIN:VEVENT
ORGANIZER:
DTSTART:20230407T190000Z
DTEND:20230407T195000Z
LOCATION:WLH 2204
UID:620260419T172959Z
DTSTAMP:20260419T172959Z
SUMMARY:MATH 100C (A00) (LE)
DESCRIPTION:
PRIORITY:5
CLASS:PUBLIC
END:VEVENT
BEGIN:VEVENT
ORGANIZER:
DTSTART:20230410T190000Z
DTEND:20230410T195000Z
LOCATION:WLH 2204
UID:920260419T172959Z
DTSTAMP:20260419T172959Z
SUMMARY:MATH 100C (A00) (LE)
DESCRIPTION:
PRIORITY:5
CLASS:PUBLIC
END:VEVENT
BEGIN:VEVENT
ORGANIZER:
DTSTART:20230412T190000Z
DTEND:20230412T195000Z
LOCATION:WLH 2204
UID:1120260419T172959Z
DTSTAMP:20260419T172959Z
SUMMARY:MATH 100C (A00) (LE)
DESCRIPTION:
PRIORITY:5
CLASS:PUBLIC
END:VEVENT
BEGIN:VEVENT
ORGANIZER:
DTSTART:20230414T190000Z
DTEND:20230414T195000Z
LOCATION:WLH 2204
UID:1320260419T172959Z
DTSTAMP:20260419T172959Z
SUMMARY:MATH 100C (A00) (LE)
DESCRIPTION:
PRIORITY:5
CLASS:PUBLIC
END:VEVENT
BEGIN:VEVENT
ORGANIZER:
DTSTART:20230417T190000Z
DTEND:20230417T195000Z
LOCATION:WLH 2204
UID:1620260419T172959Z
DTSTAMP:20260419T172959Z
SUMMARY:MATH 100C (A00) (LE)
DESCRIPTION:
PRIORITY:5
CLASS:PUBLIC
END:VEVENT
BEGIN:VEVENT
ORGANIZER:
DTSTART:20230419T190000Z
DTEND:20230419T195000Z
LOCATION:WLH 2204
UID:1820260419T172959Z
DTSTAMP:20260419T172959Z
SUMMARY:MATH 100C (A00) (LE)
DESCRIPTION:
PRIORITY:5
CLASS:PUBLIC
END:VEVENT
BEGIN:VEVENT
ORGANIZER:
DTSTART:20230421T190000Z
DTEND:20230421T195000Z
LOCATION:WLH 2204
UID:2020260419T172959Z
DTSTAMP:20260419T172959Z
SUMMARY:MATH 100C (A00) (LE)
DESCRIPTION:
PRIORITY:5
CLASS:PUBLIC
END:VEVENT
BEGIN:VEVENT
ORGANIZER:
DTSTART:20230424T190000Z
DTEND:20230424T195000Z
LOCATION:WLH 2204
UID:2320260419T172959Z
DTSTAMP:20260419T172959Z
SUMMARY:MATH 100C (A00) (LE)
DESCRIPTION:
PRIORITY:5
CLASS:PUBLIC
END:VEVENT
BEGIN:VEVENT
ORGANIZER:
DTSTART:20230426T190000Z
DTEND:20230426T195000Z
LOCATION:WLH 2204
UID:2520260419T172959Z
DTSTAMP:20260419T172959Z
SUMMARY:MATH 100C (A00) (LE)
DESCRIPTION:
PRIORITY:5
CLASS:PUBLIC
END:VEVENT
BEGIN:VEVENT
ORGANIZER:
DTSTART:20230428T190000Z
DTEND:20230428T195000Z
LOCATION:WLH 2204
UID:2720260419T172959Z
DTSTAMP:20260419T172959Z
SUMMARY:MATH 100C (A00) (LE)
DESCRIPTION:
PRIORITY:5
CLASS:PUBLIC
END:VEVENT
BEGIN:VEVENT
ORGANIZER:
DTSTART:20230501T190000Z
DTEND:20230501T195000Z
LOCATION:WLH 2204
UID:3020260419T172959Z
DTSTAMP:20260419T172959Z
SUMMARY:MATH 100C (A00) (LE)
DESCRIPTION:
PRIORITY:5
CLASS:PUBLIC
END:VEVENT
BEGIN:VEVENT
ORGANIZER:
DTSTART:20230503T190000Z
DTEND:20230503T195000Z
LOCATION:WLH 2204
UID:3220260419T172959Z
DTSTAMP:20260419T172959Z
SUMMARY:MATH 100C (A00) (LE)
DESCRIPTION:
PRIORITY:5
CLASS:PUBLIC
END:VEVENT
BEGIN:VEVENT
ORGANIZER:
DTSTART:20230505T190000Z
DTEND:20230505T195000Z
LOCATION:WLH 2204
UID:3420260419T172959Z
DTSTAMP:20260419T172959Z
SUMMARY:MATH 100C (A00) (LE)
DESCRIPTION:
PRIORITY:5
CLASS:PUBLIC
END:VEVENT
BEGIN:VEVENT
ORGANIZER:
DTSTART:20230508T190000Z
DTEND:20230508T195000Z
LOCATION:WLH 2204
UID:3720260419T172959Z
DTSTAMP:20260419T172959Z
SUMMARY:MATH 100C (A00) (LE)
DESCRIPTION:
PRIORITY:5
CLASS:PUBLIC
END:VEVENT
BEGIN:VEVENT
ORGANIZER:
DTSTART:20230510T190000Z
DTEND:20230510T195000Z
LOCATION:WLH 2204
UID:3920260419T172959Z
DTSTAMP:20260419T172959Z
SUMMARY:MATH 100C (A00) (LE)
DESCRIPTION:
PRIORITY:5
CLASS:PUBLIC
END:VEVENT
BEGIN:VEVENT
ORGANIZER:
DTSTART:20230512T190000Z
DTEND:20230512T195000Z
LOCATION:WLH 2204
UID:4120260419T172959Z
DTSTAMP:20260419T172959Z
SUMMARY:MATH 100C (A00) (LE)
DESCRIPTION:
PRIORITY:5
CLASS:PUBLIC
END:VEVENT
BEGIN:VEVENT
ORGANIZER:
DTSTART:20230515T190000Z
DTEND:20230515T195000Z
LOCATION:WLH 2204
UID:4420260419T172959Z
DTSTAMP:20260419T172959Z
SUMMARY:MATH 100C (A00) (LE)
DESCRIPTION:
PRIORITY:5
CLASS:PUBLIC
END:VEVENT
BEGIN:VEVENT
ORGANIZER:
DTSTART:20230517T190000Z
DTEND:20230517T195000Z
LOCATION:WLH 2204
UID:4620260419T172959Z
DTSTAMP:20260419T172959Z
SUMMARY:MATH 100C (A00) (LE)
DESCRIPTION:
PRIORITY:5
CLASS:PUBLIC
END:VEVENT
BEGIN:VEVENT
ORGANIZER:
DTSTART:20230519T190000Z
DTEND:20230519T195000Z
LOCATION:WLH 2204
UID:4820260419T172959Z
DTSTAMP:20260419T172959Z
SUMMARY:MATH 100C (A00) (LE)
DESCRIPTION:
PRIORITY:5
CLASS:PUBLIC
END:VEVENT
BEGIN:VEVENT
ORGANIZER:
DTSTART:20230522T190000Z
DTEND:20230522T195000Z
LOCATION:WLH 2204
UID:5120260419T172959Z
DTSTAMP:20260419T172959Z
SUMMARY:MATH 100C (A00) (LE)
DESCRIPTION:
PRIORITY:5
CLASS:PUBLIC
END:VEVENT
BEGIN:VEVENT
ORGANIZER:
DTSTART:20230524T190000Z
DTEND:20230524T195000Z
LOCATION:WLH 2204
UID:5320260419T172959Z
DTSTAMP:20260419T172959Z
SUMMARY:MATH 100C (A00) (LE)
DESCRIPTION:
PRIORITY:5
CLASS:PUBLIC
END:VEVENT
BEGIN:VEVENT
ORGANIZER:
DTSTART:20230526T190000Z
DTEND:20230526T195000Z
LOCATION:WLH 2204
UID:5520260419T172959Z
DTSTAMP:20260419T172959Z
SUMMARY:MATH 100C (A00) (LE)
DESCRIPTION:
PRIORITY:5
CLASS:PUBLIC
END:VEVENT
BEGIN:VEVENT
ORGANIZER:
DTSTART:20230529T190000Z
DTEND:20230529T195000Z
LOCATION:WLH 2204
UID:5820260419T172959Z
DTSTAMP:20260419T172959Z
SUMMARY:MATH 100C (A00) (LE)
DESCRIPTION:
PRIORITY:5
CLASS:PUBLIC
END:VEVENT
BEGIN:VEVENT
ORGANIZER:
DTSTART:20230531T190000Z
DTEND:20230531T195000Z
LOCATION:WLH 2204
UID:6020260419T172959Z
DTSTAMP:20260419T172959Z
SUMMARY:MATH 100C (A00) (LE)
DESCRIPTION:
PRIORITY:5
CLASS:PUBLIC
END:VEVENT
BEGIN:VEVENT
ORGANIZER:
DTSTART:20230602T190000Z
DTEND:20230602T195000Z
LOCATION:WLH 2204
UID:6220260419T172959Z
DTSTAMP:20260419T172959Z
SUMMARY:MATH 100C (A00) (LE)
DESCRIPTION:
PRIORITY:5
CLASS:PUBLIC
END:VEVENT
BEGIN:VEVENT
ORGANIZER:
DTSTART:20230605T190000Z
DTEND:20230605T195000Z
LOCATION:WLH 2204
UID:6520260419T172959Z
DTSTAMP:20260419T172959Z
SUMMARY:MATH 100C (A00) (LE)
DESCRIPTION:
PRIORITY:5
CLASS:PUBLIC
END:VEVENT
BEGIN:VEVENT
ORGANIZER:
DTSTART:20230607T190000Z
DTEND:20230607T195000Z
LOCATION:WLH 2204
UID:6720260419T172959Z
DTSTAMP:20260419T172959Z
SUMMARY:MATH 100C (A00) (LE)
DESCRIPTION:
PRIORITY:5
CLASS:PUBLIC
END:VEVENT
BEGIN:VEVENT
ORGANIZER:
DTSTART:20230609T190000Z
DTEND:20230609T195000Z
LOCATION:WLH 2204
UID:6920260419T172959Z
DTSTAMP:20260419T172959Z
SUMMARY:MATH 100C (A00) (LE)
DESCRIPTION:
PRIORITY:5
CLASS:PUBLIC
END:VEVENT
BEGIN:VEVENT
ORGANIZER:
DTSTART:20230404T160000Z
DTEND:20230404T165000Z
LOCATION:APM B412
UID:7220260419T172959Z
DTSTAMP:20260419T172959Z
SUMMARY:MATH 100C (A01) (DI)
DESCRIPTION:
PRIORITY:5
CLASS:PUBLIC
END:VEVENT
BEGIN:VEVENT
ORGANIZER:
DTSTART:20230411T160000Z
DTEND:20230411T165000Z
LOCATION:APM B412
UID:7920260419T172959Z
DTSTAMP:20260419T172959Z
SUMMARY:MATH 100C (A01) (DI)
DESCRIPTION:
PRIORITY:5
CLASS:PUBLIC
END:VEVENT
BEGIN:VEVENT
ORGANIZER:
DTSTART:20230418T160000Z
DTEND:20230418T165000Z
LOCATION:APM B412
UID:8620260419T172959Z
DTSTAMP:20260419T172959Z
SUMMARY:MATH 100C (A01) (DI)
DESCRIPTION:
PRIORITY:5
CLASS:PUBLIC
END:VEVENT
BEGIN:VEVENT
ORGANIZER:
DTSTART:20230425T160000Z
DTEND:20230425T165000Z
LOCATION:APM B412
UID:9320260419T172959Z
DTSTAMP:20260419T172959Z
SUMMARY:MATH 100C (A01) (DI)
DESCRIPTION:
PRIORITY:5
CLASS:PUBLIC
END:VEVENT
BEGIN:VEVENT
ORGANIZER:
DTSTART:20230502T160000Z
DTEND:20230502T165000Z
LOCATION:APM B412
UID:10020260419T172959Z
DTSTAMP:20260419T172959Z
SUMMARY:MATH 100C (A01) (DI)
DESCRIPTION:
PRIORITY:5
CLASS:PUBLIC
END:VEVENT
BEGIN:VEVENT
ORGANIZER:
DTSTART:20230509T160000Z
DTEND:20230509T165000Z
LOCATION:APM B412
UID:10720260419T172959Z
DTSTAMP:20260419T172959Z
SUMMARY:MATH 100C (A01) (DI)
DESCRIPTION:
PRIORITY:5
CLASS:PUBLIC
END:VEVENT
BEGIN:VEVENT
ORGANIZER:
DTSTART:20230516T160000Z
DTEND:20230516T165000Z
LOCATION:APM B412
UID:11420260419T172959Z
DTSTAMP:20260419T172959Z
SUMMARY:MATH 100C (A01) (DI)
DESCRIPTION:
PRIORITY:5
CLASS:PUBLIC
END:VEVENT
BEGIN:VEVENT
ORGANIZER:
DTSTART:20230523T160000Z
DTEND:20230523T165000Z
LOCATION:APM B412
UID:12120260419T172959Z
DTSTAMP:20260419T172959Z
SUMMARY:MATH 100C (A01) (DI)
DESCRIPTION:
PRIORITY:5
CLASS:PUBLIC
END:VEVENT
BEGIN:VEVENT
ORGANIZER:
DTSTART:20230530T160000Z
DTEND:20230530T165000Z
LOCATION:APM B412
UID:12820260419T172959Z
DTSTAMP:20260419T172959Z
SUMMARY:MATH 100C (A01) (DI)
DESCRIPTION:
PRIORITY:5
CLASS:PUBLIC
END:VEVENT
BEGIN:VEVENT
ORGANIZER:
DTSTART:20230606T160000Z
DTEND:20230606T165000Z
LOCATION:APM B412
UID:13520260419T172959Z
DTSTAMP:20260419T172959Z
SUMMARY:MATH 100C (A01) (DI)
DESCRIPTION:
PRIORITY:5
CLASS:PUBLIC
END:VEVENT
BEGIN:VEVENT
ORGANIZER:
DTSTART:20230614T183000Z
DTEND:20230614T212900Z
LOCATION: TBA
UID:14120260419T172959Z
DTSTAMP:20260419T172959Z
SUMMARY:MATH 100C (A00) (FI)
DESCRIPTION:
PRIORITY:5
CLASS:PUBLIC
END:VEVENT
END:VCALENDAR