BEGIN:VCALENDAR
VERSION:2.0
X-WR-CALNAME:ANTH 10 (A00) - Climate Justice
METHOD:PUBLISH
BEGIN:VEVENT
ORGANIZER:
DTSTART:20230404T163000Z
DTEND:20230404T175000Z
LOCATION:PCYNH 122
UID:220260419T153915Z
DTSTAMP:20260419T153915Z
SUMMARY:ANTH 10 (A00) (LE)
DESCRIPTION:
PRIORITY:5
CLASS:PUBLIC
END:VEVENT
BEGIN:VEVENT
ORGANIZER:
DTSTART:20230406T163000Z
DTEND:20230406T175000Z
LOCATION:PCYNH 122
UID:420260419T153915Z
DTSTAMP:20260419T153915Z
SUMMARY:ANTH 10 (A00) (LE)
DESCRIPTION:
PRIORITY:5
CLASS:PUBLIC
END:VEVENT
BEGIN:VEVENT
ORGANIZER:
DTSTART:20230411T163000Z
DTEND:20230411T175000Z
LOCATION:PCYNH 122
UID:920260419T153915Z
DTSTAMP:20260419T153915Z
SUMMARY:ANTH 10 (A00) (LE)
DESCRIPTION:
PRIORITY:5
CLASS:PUBLIC
END:VEVENT
BEGIN:VEVENT
ORGANIZER:
DTSTART:20230413T163000Z
DTEND:20230413T175000Z
LOCATION:PCYNH 122
UID:1120260419T153915Z
DTSTAMP:20260419T153915Z
SUMMARY:ANTH 10 (A00) (LE)
DESCRIPTION:
PRIORITY:5
CLASS:PUBLIC
END:VEVENT
BEGIN:VEVENT
ORGANIZER:
DTSTART:20230418T163000Z
DTEND:20230418T175000Z
LOCATION:PCYNH 122
UID:1620260419T153915Z
DTSTAMP:20260419T153915Z
SUMMARY:ANTH 10 (A00) (LE)
DESCRIPTION:
PRIORITY:5
CLASS:PUBLIC
END:VEVENT
BEGIN:VEVENT
ORGANIZER:
DTSTART:20230420T163000Z
DTEND:20230420T175000Z
LOCATION:PCYNH 122
UID:1820260419T153915Z
DTSTAMP:20260419T153915Z
SUMMARY:ANTH 10 (A00) (LE)
DESCRIPTION:
PRIORITY:5
CLASS:PUBLIC
END:VEVENT
BEGIN:VEVENT
ORGANIZER:
DTSTART:20230425T163000Z
DTEND:20230425T175000Z
LOCATION:PCYNH 122
UID:2320260419T153915Z
DTSTAMP:20260419T153915Z
SUMMARY:ANTH 10 (A00) (LE)
DESCRIPTION:
PRIORITY:5
CLASS:PUBLIC
END:VEVENT
BEGIN:VEVENT
ORGANIZER:
DTSTART:20230427T163000Z
DTEND:20230427T175000Z
LOCATION:PCYNH 122
UID:2520260419T153915Z
DTSTAMP:20260419T153915Z
SUMMARY:ANTH 10 (A00) (LE)
DESCRIPTION:
PRIORITY:5
CLASS:PUBLIC
END:VEVENT
BEGIN:VEVENT
ORGANIZER:
DTSTART:20230502T163000Z
DTEND:20230502T175000Z
LOCATION:PCYNH 122
UID:3020260419T153915Z
DTSTAMP:20260419T153915Z
SUMMARY:ANTH 10 (A00) (LE)
DESCRIPTION:
PRIORITY:5
CLASS:PUBLIC
END:VEVENT
BEGIN:VEVENT
ORGANIZER:
DTSTART:20230504T163000Z
DTEND:20230504T175000Z
LOCATION:PCYNH 122
UID:3220260419T153915Z
DTSTAMP:20260419T153915Z
SUMMARY:ANTH 10 (A00) (LE)
DESCRIPTION:
PRIORITY:5
CLASS:PUBLIC
END:VEVENT
BEGIN:VEVENT
ORGANIZER:
DTSTART:20230509T163000Z
DTEND:20230509T175000Z
LOCATION:PCYNH 122
UID:3720260419T153915Z
DTSTAMP:20260419T153915Z
SUMMARY:ANTH 10 (A00) (LE)
DESCRIPTION:
PRIORITY:5
CLASS:PUBLIC
END:VEVENT
BEGIN:VEVENT
ORGANIZER:
DTSTART:20230511T163000Z
DTEND:20230511T175000Z
LOCATION:PCYNH 122
UID:3920260419T153915Z
DTSTAMP:20260419T153915Z
SUMMARY:ANTH 10 (A00) (LE)
DESCRIPTION:
PRIORITY:5
CLASS:PUBLIC
END:VEVENT
BEGIN:VEVENT
ORGANIZER:
DTSTART:20230516T163000Z
DTEND:20230516T175000Z
LOCATION:PCYNH 122
UID:4420260419T153915Z
DTSTAMP:20260419T153915Z
SUMMARY:ANTH 10 (A00) (LE)
DESCRIPTION:
PRIORITY:5
CLASS:PUBLIC
END:VEVENT
BEGIN:VEVENT
ORGANIZER:
DTSTART:20230518T163000Z
DTEND:20230518T175000Z
LOCATION:PCYNH 122
UID:4620260419T153915Z
DTSTAMP:20260419T153915Z
SUMMARY:ANTH 10 (A00) (LE)
DESCRIPTION:
PRIORITY:5
CLASS:PUBLIC
END:VEVENT
BEGIN:VEVENT
ORGANIZER:
DTSTART:20230523T163000Z
DTEND:20230523T175000Z
LOCATION:PCYNH 122
UID:5120260419T153915Z
DTSTAMP:20260419T153915Z
SUMMARY:ANTH 10 (A00) (LE)
DESCRIPTION:
PRIORITY:5
CLASS:PUBLIC
END:VEVENT
BEGIN:VEVENT
ORGANIZER:
DTSTART:20230525T163000Z
DTEND:20230525T175000Z
LOCATION:PCYNH 122
UID:5320260419T153915Z
DTSTAMP:20260419T153915Z
SUMMARY:ANTH 10 (A00) (LE)
DESCRIPTION:
PRIORITY:5
CLASS:PUBLIC
END:VEVENT
BEGIN:VEVENT
ORGANIZER:
DTSTART:20230530T163000Z
DTEND:20230530T175000Z
LOCATION:PCYNH 122
UID:5820260419T153915Z
DTSTAMP:20260419T153915Z
SUMMARY:ANTH 10 (A00) (LE)
DESCRIPTION:
PRIORITY:5
CLASS:PUBLIC
END:VEVENT
BEGIN:VEVENT
ORGANIZER:
DTSTART:20230601T163000Z
DTEND:20230601T175000Z
LOCATION:PCYNH 122
UID:6020260419T153915Z
DTSTAMP:20260419T153915Z
SUMMARY:ANTH 10 (A00) (LE)
DESCRIPTION:
PRIORITY:5
CLASS:PUBLIC
END:VEVENT
BEGIN:VEVENT
ORGANIZER:
DTSTART:20230606T163000Z
DTEND:20230606T175000Z
LOCATION:PCYNH 122
UID:6520260419T153915Z
DTSTAMP:20260419T153915Z
SUMMARY:ANTH 10 (A00) (LE)
DESCRIPTION:
PRIORITY:5
CLASS:PUBLIC
END:VEVENT
BEGIN:VEVENT
ORGANIZER:
DTSTART:20230608T163000Z
DTEND:20230608T175000Z
LOCATION:PCYNH 122
UID:6720260419T153915Z
DTSTAMP:20260419T153915Z
SUMMARY:ANTH 10 (A00) (LE)
DESCRIPTION:
PRIORITY:5
CLASS:PUBLIC
END:VEVENT
BEGIN:VEVENT
ORGANIZER:
DTSTART:20230613T150000Z
DTEND:20230613T175900Z
LOCATION: TBA
UID:7020260419T153915Z
DTSTAMP:20260419T153915Z
SUMMARY:ANTH 10 (A00) (FI)
DESCRIPTION:
PRIORITY:5
CLASS:PUBLIC
END:VEVENT
END:VCALENDAR