BEGIN:VCALENDAR
VERSION:2.0
X-WR-CALNAME:BILD 1 (B00) - The Cell
METHOD:PUBLISH
BEGIN:VEVENT
ORGANIZER:
DTSTART:20180210T180000Z
DTEND:20180210T195000Z
LOCATION:GH 242
UID:1420260423T213503Z
DTSTAMP:20260423T213503Z
SUMMARY:BILD 1 (B00) (RE)
DESCRIPTION:
PRIORITY:5
CLASS:PUBLIC
END:VEVENT
BEGIN:VEVENT
ORGANIZER:
DTSTART:20180317T170000Z
DTEND:20180317T185000Z
LOCATION:WLH 2005
UID:1520260423T213503Z
DTSTAMP:20260423T213503Z
SUMMARY:BILD 1 (B00) (RE)
DESCRIPTION:
PRIORITY:5
CLASS:PUBLIC
END:VEVENT
BEGIN:VEVENT
ORGANIZER:
DTSTART:20180320T020000Z
DTEND:20180320T045900Z
LOCATION: TBA
UID:1620260423T213503Z
DTSTAMP:20260423T213503Z
SUMMARY:BILD 1 (B00) (FI)
DESCRIPTION:
PRIORITY:5
CLASS:PUBLIC
END:VEVENT
END:VCALENDAR