BEGIN:VCALENDAR
VERSION:2.0
X-WR-CALNAME:CHEM 6B (A00) - General Chemistry II
METHOD:PUBLISH
BEGIN:VEVENT
ORGANIZER:
DTSTART:20171024T020000Z
DTEND:20171024T035000Z
LOCATION:PCYNH 106
UID:1120260423T234130Z
DTSTAMP:20260423T234130Z
SUMMARY:CHEM 6B (A00) (RE)
DESCRIPTION:
PRIORITY:5
CLASS:PUBLIC
END:VEVENT
BEGIN:VEVENT
ORGANIZER:
DTSTART:20171127T020000Z
DTEND:20171127T035000Z
LOCATION:CENTR 119
UID:1220260423T234130Z
DTSTAMP:20260423T234130Z
SUMMARY:CHEM 6B (A00) (RE)
DESCRIPTION:
PRIORITY:5
CLASS:PUBLIC
END:VEVENT
BEGIN:VEVENT
ORGANIZER:
DTSTART:20171211T000000Z
DTEND:20171211T015000Z
LOCATION:CENTR 115
UID:1320260423T234130Z
DTSTAMP:20260423T234130Z
SUMMARY:CHEM 6B (A00) (RE)
DESCRIPTION:
PRIORITY:5
CLASS:PUBLIC
END:VEVENT
BEGIN:VEVENT
ORGANIZER:
DTSTART:20171212T160000Z
DTEND:20171212T185900Z
LOCATION: TBA
UID:1420260423T234130Z
DTSTAMP:20260423T234130Z
SUMMARY:CHEM 6B (A00) (FI)
DESCRIPTION:
PRIORITY:5
CLASS:PUBLIC
END:VEVENT
END:VCALENDAR