BEGIN:VCALENDAR
VERSION:2.0
X-WR-CALNAME:DSC 10 (A00) - Introduction to Programming
METHOD:PUBLISH
BEGIN:VEVENT
ORGANIZER:
DTSTART:20171101T010000Z
DTEND:20171101T015000Z
LOCATION:CENTR 115
UID:320260423T224757Z
DTSTAMP:20260423T224757Z
SUMMARY:DSC 10 (A00) (RE)
DESCRIPTION:
PRIORITY:5
CLASS:PUBLIC
END:VEVENT
BEGIN:VEVENT
ORGANIZER:
DTSTART:20171212T020000Z
DTEND:20171212T035000Z
LOCATION:CENTR 214
UID:420260423T224757Z
DTSTAMP:20260423T224757Z
SUMMARY:DSC 10 (A00) (RE)
DESCRIPTION:
PRIORITY:5
CLASS:PUBLIC
END:VEVENT
BEGIN:VEVENT
ORGANIZER:
DTSTART:20171215T030000Z
DTEND:20171215T055900Z
LOCATION: TBA
UID:520260423T224757Z
DTSTAMP:20260423T224757Z
SUMMARY:DSC 10 (A00) (FI)
DESCRIPTION:
PRIORITY:5
CLASS:PUBLIC
END:VEVENT
END:VCALENDAR