BEGIN:VCALENDAR
VERSION:2.0
X-WR-CALNAME:BICD 100 (B00) - Genetics
METHOD:PUBLISH
BEGIN:VEVENT
ORGANIZER:
DTSTART:20170216T040000Z
DTEND:20170216T065000Z
LOCATION:LEDDN AUD
UID:1420260423T223106Z
DTSTAMP:20260423T223106Z
SUMMARY:BICD 100 (B00) (RE)
DESCRIPTION:
PRIORITY:5
CLASS:PUBLIC
END:VEVENT
BEGIN:VEVENT
ORGANIZER:
DTSTART:20170309T030000Z
DTEND:20170309T055000Z
LOCATION:WLH 2001
UID:1520260423T223106Z
DTSTAMP:20260423T223106Z
SUMMARY:BICD 100 (B00) (RE)
DESCRIPTION:
PRIORITY:5
CLASS:PUBLIC
END:VEVENT
BEGIN:VEVENT
ORGANIZER:
DTSTART:20170318T010000Z
DTEND:20170318T035000Z
LOCATION:PCYNH 109
UID:1620260423T223106Z
DTSTAMP:20260423T223106Z
SUMMARY:BICD 100 (B00) (RE)
DESCRIPTION:
PRIORITY:5
CLASS:PUBLIC
END:VEVENT
BEGIN:VEVENT
ORGANIZER:
DTSTART:20170322T020000Z
DTEND:20170322T045900Z
LOCATION: TBA
UID:1720260423T223106Z
DTSTAMP:20260423T223106Z
SUMMARY:BICD 100 (B00) (FI)
DESCRIPTION:
PRIORITY:5
CLASS:PUBLIC
END:VEVENT
END:VCALENDAR