BEGIN:VCALENDAR
VERSION:2.0
X-WR-CALNAME:CHEM 6B (A00) - General Chemistry II
METHOD:PUBLISH
BEGIN:VEVENT
ORGANIZER:
DTSTART:20250425T020000Z
DTEND:20250425T035000Z
LOCATION:SOLIS 104
UID:920260423T215411Z
DTSTAMP:20260423T215411Z
SUMMARY:CHEM 6B (A00) (RE)
DESCRIPTION:
PRIORITY:5
CLASS:PUBLIC
END:VEVENT
BEGIN:VEVENT
ORGANIZER:
DTSTART:20250426T183000Z
DTEND:20250426T202000Z
LOCATION:GH 242
UID:1020260423T215411Z
DTSTAMP:20260423T215411Z
SUMMARY:CHEM 6B (A00) (MI)
DESCRIPTION:
PRIORITY:5
CLASS:PUBLIC
END:VEVENT
BEGIN:VEVENT
ORGANIZER:
DTSTART:20250530T020000Z
DTEND:20250530T035000Z
LOCATION:MOS 0114
UID:1120260423T215411Z
DTSTAMP:20260423T215411Z
SUMMARY:CHEM 6B (A00) (RE)
DESCRIPTION:
PRIORITY:5
CLASS:PUBLIC
END:VEVENT
BEGIN:VEVENT
ORGANIZER:
DTSTART:20250531T183000Z
DTEND:20250531T202000Z
LOCATION:GH 242
UID:1220260423T215411Z
DTSTAMP:20260423T215411Z
SUMMARY:CHEM 6B (A00) (MI)
DESCRIPTION:
PRIORITY:5
CLASS:PUBLIC
END:VEVENT
BEGIN:VEVENT
ORGANIZER:
DTSTART:20250610T000000Z
DTEND:20250610T015000Z
LOCATION:MOS 0114
UID:1320260423T215411Z
DTSTAMP:20260423T215411Z
SUMMARY:CHEM 6B (A00) (RE)
DESCRIPTION:
PRIORITY:5
CLASS:PUBLIC
END:VEVENT
BEGIN:VEVENT
ORGANIZER:
DTSTART:20250611T150000Z
DTEND:20250611T175900Z
LOCATION: TBA
UID:1420260423T215411Z
DTSTAMP:20260423T215411Z
SUMMARY:CHEM 6B (A00) (FI)
DESCRIPTION:
PRIORITY:5
CLASS:PUBLIC
END:VEVENT
END:VCALENDAR