BEGIN:VCALENDAR
VERSION:2.0
X-WR-CALNAME:ECE 65 (A00) - Components & Circuits Lab
METHOD:PUBLISH
BEGIN:VEVENT
ORGANIZER:
DTSTART:20220719T230000Z
DTEND:20220720T005000Z
LOCATION:PCYNH 120
UID:520260423T220628Z
DTSTAMP:20260423T220628Z
SUMMARY:ECE 65 (A00) (RE)
DESCRIPTION:
PRIORITY:5
CLASS:PUBLIC
END:VEVENT
BEGIN:VEVENT
ORGANIZER:
DTSTART:20220731T020000Z
DTEND:20220731T045900Z
LOCATION: TBA
UID:620260423T220628Z
DTSTAMP:20260423T220628Z
SUMMARY:ECE 65 (A00) (FI)
DESCRIPTION:
PRIORITY:5
CLASS:PUBLIC
END:VEVENT
END:VCALENDAR