BEGIN:VCALENDAR
VERSION:2.0
X-WR-CALNAME:PHYS 120 (A00) - Circuits and Electronics
METHOD:PUBLISH
BEGIN:VEVENT
ORGANIZER:
DTSTART:20220605T220000Z
DTEND:20220606T005000Z
LOCATION:CENTR 222
UID:420260423T200623Z
DTSTAMP:20260423T200623Z
SUMMARY:PHYS 120 (A00) (RE)
DESCRIPTION:
PRIORITY:5
CLASS:PUBLIC
END:VEVENT
BEGIN:VEVENT
ORGANIZER:
DTSTART:20220608T150000Z
DTEND:20220608T175900Z
LOCATION: TBA
UID:520260423T200623Z
DTSTAMP:20260423T200623Z
SUMMARY:PHYS 120 (A00) (FI)
DESCRIPTION:
PRIORITY:5
CLASS:PUBLIC
END:VEVENT
END:VCALENDAR