BEGIN:VCALENDAR
VERSION:2.0
X-WR-CALNAME:MATH 18 (A00) - Linear Algebra
METHOD:PUBLISH
BEGIN:VEVENT
ORGANIZER:
DTSTART:20250129T010000Z
DTEND:20250129T015000Z
LOCATION:PETER 108
UID:1520260423T233613Z
DTSTAMP:20260423T233613Z
SUMMARY:MATH 18 (A00) (RE)
DESCRIPTION:
PRIORITY:5
CLASS:PUBLIC
END:VEVENT
BEGIN:VEVENT
ORGANIZER:
DTSTART:20250131T010000Z
DTEND:20250131T015000Z
LOCATION:PETER 108
UID:1620260423T233613Z
DTSTAMP:20260423T233613Z
SUMMARY:MATH 18 (A00) (RE)
DESCRIPTION:
PRIORITY:5
CLASS:PUBLIC
END:VEVENT
BEGIN:VEVENT
ORGANIZER:
DTSTART:20250131T040000Z
DTEND:20250131T045000Z
LOCATION:SOLIS 107
UID:1720260423T233613Z
DTSTAMP:20260423T233613Z
SUMMARY:MATH 18 (A00) (MI)
DESCRIPTION:
PRIORITY:5
CLASS:PUBLIC
END:VEVENT
BEGIN:VEVENT
ORGANIZER:
DTSTART:20250219T010000Z
DTEND:20250219T015000Z
LOCATION:PETER 108
UID:1820260423T233613Z
DTSTAMP:20260423T233613Z
SUMMARY:MATH 18 (A00) (RE)
DESCRIPTION:
PRIORITY:5
CLASS:PUBLIC
END:VEVENT
BEGIN:VEVENT
ORGANIZER:
DTSTART:20250221T040000Z
DTEND:20250221T045000Z
LOCATION:SOLIS 107
UID:1920260423T233613Z
DTSTAMP:20260423T233613Z
SUMMARY:MATH 18 (A00) (MI)
DESCRIPTION:
PRIORITY:5
CLASS:PUBLIC
END:VEVENT
BEGIN:VEVENT
ORGANIZER:
DTSTART:20250313T013000Z
DTEND:20250313T025000Z
LOCATION:PETER 102
UID:2020260423T233613Z
DTSTAMP:20260423T233613Z
SUMMARY:MATH 18 (A00) (RE)
DESCRIPTION:
PRIORITY:5
CLASS:PUBLIC
END:VEVENT
BEGIN:VEVENT
ORGANIZER:
DTSTART:20250314T000000Z
DTEND:20250314T005000Z
LOCATION:PETER 108
UID:2120260423T233613Z
DTSTAMP:20260423T233613Z
SUMMARY:MATH 18 (A00) (RE)
DESCRIPTION:
PRIORITY:5
CLASS:PUBLIC
END:VEVENT
BEGIN:VEVENT
ORGANIZER:
DTSTART:20250314T173000Z
DTEND:20250314T185000Z
LOCATION:RWAC 0115
UID:2220260423T233613Z
DTSTAMP:20260423T233613Z
SUMMARY:MATH 18 (A00) (RE)
DESCRIPTION:
PRIORITY:5
CLASS:PUBLIC
END:VEVENT
BEGIN:VEVENT
ORGANIZER:
DTSTART:20250315T150000Z
DTEND:20250315T175900Z
LOCATION: TBA
UID:2320260423T233613Z
DTSTAMP:20260423T233613Z
SUMMARY:MATH 18 (A00) (FI)
DESCRIPTION:
PRIORITY:5
CLASS:PUBLIC
END:VEVENT
END:VCALENDAR