BEGIN:VCALENDAR
VERSION:2.0
X-WR-CALNAME:MATH 10B (D00) - Calculus II
METHOD:PUBLISH
BEGIN:VEVENT
ORGANIZER:
DTSTART:20250206T040000Z
DTEND:20250206T045000Z
LOCATION:CSB 001
UID:820260423T223732Z
DTSTAMP:20260423T223732Z
SUMMARY:MATH 10B (D00) (MI)
DESCRIPTION:
PRIORITY:5
CLASS:PUBLIC
END:VEVENT
BEGIN:VEVENT
ORGANIZER:
DTSTART:20250225T220000Z
DTEND:20250225T232000Z
LOCATION:WLH 2111
UID:920260423T223732Z
DTSTAMP:20260423T223732Z
SUMMARY:MATH 10B (D00) (RE)
DESCRIPTION:
PRIORITY:5
CLASS:PUBLIC
END:VEVENT
BEGIN:VEVENT
ORGANIZER:
DTSTART:20250227T040000Z
DTEND:20250227T045000Z
LOCATION:CSB 001
UID:1020260423T223732Z
DTSTAMP:20260423T223732Z
SUMMARY:MATH 10B (D00) (MI)
DESCRIPTION:
PRIORITY:5
CLASS:PUBLIC
END:VEVENT
BEGIN:VEVENT
ORGANIZER:
DTSTART:20250311T223000Z
DTEND:20250311T235000Z
LOCATION:SOLIS 104
UID:1120260423T223732Z
DTSTAMP:20260423T223732Z
SUMMARY:MATH 10B (D00) (RE)
DESCRIPTION:
PRIORITY:5
CLASS:PUBLIC
END:VEVENT
BEGIN:VEVENT
ORGANIZER:
DTSTART:20250313T223000Z
DTEND:20250313T235000Z
LOCATION:SOLIS 104
UID:1220260423T223732Z
DTSTAMP:20260423T223732Z
SUMMARY:MATH 10B (D00) (RE)
DESCRIPTION:
PRIORITY:5
CLASS:PUBLIC
END:VEVENT
BEGIN:VEVENT
ORGANIZER:
DTSTART:20250315T220000Z
DTEND:20250316T005900Z
LOCATION: TBA
UID:1320260423T223732Z
DTSTAMP:20260423T223732Z
SUMMARY:MATH 10B (D00) (FI)
DESCRIPTION:
PRIORITY:5
CLASS:PUBLIC
END:VEVENT
END:VCALENDAR