BEGIN:VCALENDAR
VERSION:2.0
X-WR-CALNAME:BILD 1 (B00) - The Cell
METHOD:PUBLISH
BEGIN:VEVENT
ORGANIZER:
DTSTART:20211013T000000Z
DTEND:20211013T015000Z
LOCATION:YORK 2622
UID:820260423T213329Z
DTSTAMP:20260423T213329Z
SUMMARY:BILD 1 (B00) (RE)
DESCRIPTION:
PRIORITY:5
CLASS:PUBLIC
END:VEVENT
BEGIN:VEVENT
ORGANIZER:
DTSTART:20211029T000000Z
DTEND:20211029T015000Z
LOCATION:YORK 2622
UID:920260423T213329Z
DTSTAMP:20260423T213329Z
SUMMARY:BILD 1 (B00) (RE)
DESCRIPTION:
PRIORITY:5
CLASS:PUBLIC
END:VEVENT
BEGIN:VEVENT
ORGANIZER:
DTSTART:20211115T010000Z
DTEND:20211115T025000Z
LOCATION:YORK 2622
UID:1020260423T213329Z
DTSTAMP:20260423T213329Z
SUMMARY:BILD 1 (B00) (RE)
DESCRIPTION:
PRIORITY:5
CLASS:PUBLIC
END:VEVENT
BEGIN:VEVENT
ORGANIZER:
DTSTART:20211206T173000Z
DTEND:20211206T185000Z
LOCATION:RCLAS R06
UID:1120260423T213329Z
DTSTAMP:20260423T213329Z
SUMMARY:BILD 1 (B00) (RE)
DESCRIPTION:
PRIORITY:5
CLASS:PUBLIC
END:VEVENT
BEGIN:VEVENT
ORGANIZER:
DTSTART:20211208T160000Z
DTEND:20211208T185900Z
LOCATION: TBA
UID:1220260423T213329Z
DTSTAMP:20260423T213329Z
SUMMARY:BILD 1 (B00) (FI)
DESCRIPTION:
PRIORITY:5
CLASS:PUBLIC
END:VEVENT
END:VCALENDAR