BEGIN:VCALENDAR
VERSION:2.0
X-WR-CALNAME:CSE 110 (A00) - Software Engineering
METHOD:PUBLISH
BEGIN:VEVENT
ORGANIZER:
DTSTART:20240117T020000Z
DTEND:20240117T025000Z
LOCATION:SOLIS 109
UID:920260423T224500Z
DTSTAMP:20260423T224500Z
SUMMARY:CSE 110 (A00) (RE)
DESCRIPTION:
PRIORITY:5
CLASS:PUBLIC
END:VEVENT
BEGIN:VEVENT
ORGANIZER:
DTSTART:20240221T020000Z
DTEND:20240221T025000Z
LOCATION:SOLIS 109
UID:1020260423T224500Z
DTSTAMP:20260423T224500Z
SUMMARY:CSE 110 (A00) (RE)
DESCRIPTION:
PRIORITY:5
CLASS:PUBLIC
END:VEVENT
BEGIN:VEVENT
ORGANIZER:
DTSTART:20240322T183000Z
DTEND:20240322T212900Z
LOCATION: TBA
UID:1120260423T224500Z
DTSTAMP:20260423T224500Z
SUMMARY:CSE 110 (A00) (FI)
DESCRIPTION:
PRIORITY:5
CLASS:PUBLIC
END:VEVENT
END:VCALENDAR