BEGIN:VCALENDAR
VERSION:2.0
X-WR-CALNAME:ECE 225A (A00) - Prob & Stats for Data Science
METHOD:PUBLISH
BEGIN:VEVENT
ORGANIZER:
DTSTART:20231006T160000Z
DTEND:20231006T165000Z
LOCATION:CSB 002
UID:220260423T213829Z
DTSTAMP:20260423T213829Z
SUMMARY:ECE 225A (A00) (PB)
DESCRIPTION:
PRIORITY:5
CLASS:PUBLIC
END:VEVENT
BEGIN:VEVENT
ORGANIZER:
DTSTART:20231013T160000Z
DTEND:20231013T165000Z
LOCATION:CSB 002
UID:320260423T213829Z
DTSTAMP:20260423T213829Z
SUMMARY:ECE 225A (A00) (PB)
DESCRIPTION:
PRIORITY:5
CLASS:PUBLIC
END:VEVENT
BEGIN:VEVENT
ORGANIZER:
DTSTART:20231020T160000Z
DTEND:20231020T165000Z
LOCATION:CSB 002
UID:420260423T213829Z
DTSTAMP:20260423T213829Z
SUMMARY:ECE 225A (A00) (PB)
DESCRIPTION:
PRIORITY:5
CLASS:PUBLIC
END:VEVENT
BEGIN:VEVENT
ORGANIZER:
DTSTART:20231027T160000Z
DTEND:20231027T165000Z
LOCATION:CSB 002
UID:520260423T213829Z
DTSTAMP:20260423T213829Z
SUMMARY:ECE 225A (A00) (PB)
DESCRIPTION:
PRIORITY:5
CLASS:PUBLIC
END:VEVENT
BEGIN:VEVENT
ORGANIZER:
DTSTART:20231103T160000Z
DTEND:20231103T165000Z
LOCATION:CSB 002
UID:620260423T213829Z
DTSTAMP:20260423T213829Z
SUMMARY:ECE 225A (A00) (PB)
DESCRIPTION:
PRIORITY:5
CLASS:PUBLIC
END:VEVENT
BEGIN:VEVENT
ORGANIZER:
DTSTART:20231107T020000Z
DTEND:20231107T025000Z
LOCATION:PCYNH 106
UID:720260423T213829Z
DTSTAMP:20260423T213829Z
SUMMARY:ECE 225A (A00) (RE)
DESCRIPTION:
PRIORITY:5
CLASS:PUBLIC
END:VEVENT
BEGIN:VEVENT
ORGANIZER:
DTSTART:20231117T170000Z
DTEND:20231117T175000Z
LOCATION:CSB 002
UID:820260423T213829Z
DTSTAMP:20260423T213829Z
SUMMARY:ECE 225A (A00) (PB)
DESCRIPTION:
PRIORITY:5
CLASS:PUBLIC
END:VEVENT
BEGIN:VEVENT
ORGANIZER:
DTSTART:20231201T170000Z
DTEND:20231201T175000Z
LOCATION:CSB 002
UID:920260423T213829Z
DTSTAMP:20260423T213829Z
SUMMARY:ECE 225A (A00) (PB)
DESCRIPTION:
PRIORITY:5
CLASS:PUBLIC
END:VEVENT
BEGIN:VEVENT
ORGANIZER:
DTSTART:20231208T170000Z
DTEND:20231208T175000Z
LOCATION:CSB 002
UID:1020260423T213829Z
DTSTAMP:20260423T213829Z
SUMMARY:ECE 225A (A00) (PB)
DESCRIPTION:
PRIORITY:5
CLASS:PUBLIC
END:VEVENT
BEGIN:VEVENT
ORGANIZER:
DTSTART:20231214T160000Z
DTEND:20231214T185900Z
LOCATION: TBA
UID:1120260423T213829Z
DTSTAMP:20260423T213829Z
SUMMARY:ECE 225A (A00) (FI)
DESCRIPTION:
PRIORITY:5
CLASS:PUBLIC
END:VEVENT
END:VCALENDAR