BEGIN:VCALENDAR
VERSION:2.0
X-WR-CALNAME:MATH 10A (A00) - Calculus I
METHOD:PUBLISH
BEGIN:VEVENT
ORGANIZER:
DTSTART:20251023T030000Z
DTEND:20251023T042000Z
LOCATION:GH 242
UID:1220260424T002730Z
DTSTAMP:20260424T002730Z
SUMMARY:MATH 10A (A00) (MI)
DESCRIPTION:
PRIORITY:5
CLASS:PUBLIC
END:VEVENT
BEGIN:VEVENT
ORGANIZER:
DTSTART:20251120T040000Z
DTEND:20251120T052000Z
LOCATION:GH 242
UID:1320260424T002730Z
DTSTAMP:20260424T002730Z
SUMMARY:MATH 10A (A00) (MI)
DESCRIPTION:
PRIORITY:5
CLASS:PUBLIC
END:VEVENT
BEGIN:VEVENT
ORGANIZER:
DTSTART:20251206T230000Z
DTEND:20251207T015900Z
LOCATION: TBA
UID:1420260424T002730Z
DTSTAMP:20260424T002730Z
SUMMARY:MATH 10A (A00) (FI)
DESCRIPTION:
PRIORITY:5
CLASS:PUBLIC
END:VEVENT
END:VCALENDAR