BEGIN:VCALENDAR
VERSION:2.0
X-WR-CALNAME:MATH 3C (A00) - Precalculus
METHOD:PUBLISH
BEGIN:VEVENT
ORGANIZER:
DTSTART:20250426T010000Z
DTEND:20250426T015000Z
LOCATION:FAH 1301
UID:820260423T224430Z
DTSTAMP:20260423T224430Z
SUMMARY:MATH 3C (A00) (MI)
DESCRIPTION:
PRIORITY:5
CLASS:PUBLIC
END:VEVENT
BEGIN:VEVENT
ORGANIZER:
DTSTART:20250517T010000Z
DTEND:20250517T015000Z
LOCATION:FAH 1301
UID:920260423T224430Z
DTSTAMP:20260423T224430Z
SUMMARY:MATH 3C (A00) (MI)
DESCRIPTION:
PRIORITY:5
CLASS:PUBLIC
END:VEVENT
BEGIN:VEVENT
ORGANIZER:
DTSTART:20250607T220000Z
DTEND:20250608T005900Z
LOCATION: TBA
UID:1020260423T224430Z
DTSTAMP:20260423T224430Z
SUMMARY:MATH 3C (A00) (FI)
DESCRIPTION:
PRIORITY:5
CLASS:PUBLIC
END:VEVENT
END:VCALENDAR