BEGIN:VCALENDAR
VERSION:2.0
X-WR-CALNAME:PHYS 105A (A00) - Mathematical&Computatnl Phy I
METHOD:PUBLISH
BEGIN:VEVENT
ORGANIZER:
DTSTART:20250201T020000Z
DTEND:20250201T035000Z
LOCATION:HSS 1330
UID:420260423T223700Z
DTSTAMP:20260423T223700Z
SUMMARY:PHYS 105A (A00) (MI)
DESCRIPTION:
PRIORITY:5
CLASS:PUBLIC
END:VEVENT
BEGIN:VEVENT
ORGANIZER:
DTSTART:20250222T020000Z
DTEND:20250222T035000Z
LOCATION:HSS 1330
UID:520260423T223700Z
DTSTAMP:20260423T223700Z
SUMMARY:PHYS 105A (A00) (MI)
DESCRIPTION:
PRIORITY:5
CLASS:PUBLIC
END:VEVENT
BEGIN:VEVENT
ORGANIZER:
DTSTART:20250317T183000Z
DTEND:20250317T212900Z
LOCATION: TBA
UID:620260423T223700Z
DTSTAMP:20260423T223700Z
SUMMARY:PHYS 105A (A00) (FI)
DESCRIPTION:
PRIORITY:5
CLASS:PUBLIC
END:VEVENT
END:VCALENDAR