BEGIN:VCALENDAR
VERSION:2.0
X-WR-CALNAME:MATH 170A (A00) - Intro Numerical Analys/Linear
METHOD:PUBLISH
BEGIN:VEVENT
ORGANIZER:
DTSTART:20250213T030000Z
DTEND:20250213T045000Z
LOCATION:PETER 108
UID:620260423T215612Z
DTSTAMP:20260423T215612Z
SUMMARY:MATH 170A (A00) (MI)
DESCRIPTION:
PRIORITY:5
CLASS:PUBLIC
END:VEVENT
BEGIN:VEVENT
ORGANIZER:
DTSTART:20250315T220000Z
DTEND:20250316T005900Z
LOCATION: TBA
UID:720260423T215612Z
DTSTAMP:20260423T215612Z
SUMMARY:MATH 170A (A00) (FI)
DESCRIPTION:
PRIORITY:5
CLASS:PUBLIC
END:VEVENT
END:VCALENDAR