BEGIN:VCALENDAR
VERSION:2.0
X-WR-CALNAME:CSE 100 (A00) - Advanced Data Structures
METHOD:PUBLISH
BEGIN:VEVENT
ORGANIZER:
DTSTART:20241102T220000Z
DTEND:20241102T225000Z
LOCATION:RCLAS R01
UID:320260423T231416Z
DTSTAMP:20260423T231416Z
SUMMARY:CSE 100 (A00) (MI)
DESCRIPTION:
PRIORITY:5
CLASS:PUBLIC
END:VEVENT
BEGIN:VEVENT
ORGANIZER:
DTSTART:20241211T160000Z
DTEND:20241211T185900Z
LOCATION: TBA
UID:420260423T231416Z
DTSTAMP:20260423T231416Z
SUMMARY:CSE 100 (A00) (FI)
DESCRIPTION:
PRIORITY:5
CLASS:PUBLIC
END:VEVENT
END:VCALENDAR